BEGIN:VCALENDAR
VERSION:2.0
PRODID:-//Create.Vegas - ECPv6.15.20//NONSGML v1.0//EN
CALSCALE:GREGORIAN
METHOD:PUBLISH
X-ORIGINAL-URL:https://create.vegas
X-WR-CALDESC:Events for Create.Vegas
REFRESH-INTERVAL;VALUE=DURATION:PT1H
X-Robots-Tag:noindex
X-PUBLISHED-TTL:PT1H
BEGIN:VTIMEZONE
TZID:America/Los_Angeles
BEGIN:DAYLIGHT
TZOFFSETFROM:-0800
TZOFFSETTO:-0700
TZNAME:PDT
DTSTART:20240310T100000
END:DAYLIGHT
BEGIN:STANDARD
TZOFFSETFROM:-0700
TZOFFSETTO:-0800
TZNAME:PST
DTSTART:20241103T090000
END:STANDARD
BEGIN:DAYLIGHT
TZOFFSETFROM:-0800
TZOFFSETTO:-0700
TZNAME:PDT
DTSTART:20250309T100000
END:DAYLIGHT
BEGIN:STANDARD
TZOFFSETFROM:-0700
TZOFFSETTO:-0800
TZNAME:PST
DTSTART:20251102T090000
END:STANDARD
BEGIN:DAYLIGHT
TZOFFSETFROM:-0800
TZOFFSETTO:-0700
TZNAME:PDT
DTSTART:20260308T100000
END:DAYLIGHT
BEGIN:STANDARD
TZOFFSETFROM:-0700
TZOFFSETTO:-0800
TZNAME:PST
DTSTART:20261101T090000
END:STANDARD
BEGIN:DAYLIGHT
TZOFFSETFROM:-0800
TZOFFSETTO:-0700
TZNAME:PDT
DTSTART:20270314T100000
END:DAYLIGHT
BEGIN:STANDARD
TZOFFSETFROM:-0700
TZOFFSETTO:-0800
TZNAME:PST
DTSTART:20271107T090000
END:STANDARD
END:VTIMEZONE
BEGIN:VEVENT
DTSTART;TZID=America/Los_Angeles:20260418T213000
DTEND;TZID=America/Los_Angeles:20260419T040000
DTSTAMP:20260422T203230
CREATED:20260417T065042Z
LAST-MODIFIED:20260417T065042Z
UID:10034412-1776547800-1776571200@create.vegas
SUMMARY:LIL WAYNE on Las Vegas Party Bus Crawl
DESCRIPTION:LIL WAYNE live at ZOUK NIGHTCLUB + party bus with FREE drinks\n\n\nCatch LIL WAYNE live in Las Vegas at the epic Zouk Nightclub 🔥 \nEnjoy free express entry to multiple top venues\, an epic DJ set by LIL WAYNE  \, and party bus transfers with nonstop drinks. This is the ultimate Las Vegas club crawl experience. \n \nLas Vegas Club Crawl Lineup: \n⭐️ ROCKHOUSE at Venetian(check-in location) \n⭐️ TAO NIGHTCLUB \n🚌 Party Bus with FREE DRINKS \n⭐️ ZOUK Nightclub with performance by LIL WAYNE \n \nWhat’s included in this Las Vegas Party Bus Crawl : \n⭐️ Express\, FREE entry to all venues \n⭐️ Party Bus Ride with FREE drinks \n⭐️ Performance by LIL WAYNE  at the final venue ( Zouk Nightclub) \n⭐️ Drink Specials at the starting venue \n⭐️ Private Party Hosts \n \nHow It Works: Meet your party hosts at the first venue listed on the lineup\, to check-in and pregame. Your party host will lead the group to all of the epic venues on the lineup! \n\n\n\n\n\n__________________________________________________________________________🎟️ CHECK-INCheck-in at 9:30PM . Please arrive no later than 10:15PM. Your hosts will be wearing blue lanyards and host badges around their necks . ** This ticket alone is not sufficient for entry to the nightclub. You must check-in with our tour staff. \n \n👗 DRESS CODE & PROHIBITED ITEMSAll participants must adhere to the dress code and prohibited item policies enforced by the venues. We recommend reviewing policies in advance . Click HERE for more info on Las Vegas Dress Code. \n \n⭐ Want a more personalized party experience?We also offer custom private club crawls—perfect for a VIP celebration\, like a birthday\, bachelor party\, or bachelorette party. Visit our Private Crawl Page on our website for more information and pricing! \n \nLA EPIC CLUB CRAWLS LAS VEGAS: Full refunds are permitted 30 days prior to the event. Credits will be given in the amount paid\, if requested 3 days prior to the event. Get more info on Las Vegas dress code here. \n\n\n_____________________________ \n📞 CONTACT US \n866-THE-EPIC or 866-843-3742 \nInfo@laepicclubcrawls.com \nwww.laepicclubcrawls.com
URL:https://create.vegas/event/lil-wayne-on-las-vegas-party-bus-crawl/
LOCATION:ZOUK NIGHTCLUB\, 3000 S Las Vegas Blvd\, Las Vegas\, NV\, 89109\, United States
CATEGORIES:Food & Drink & Fun
ATTACH;FMTTYPE=image/jpeg:https://create.vegas/wp-content/uploads/2026/04/19f17af6539dc0d61a2c5df2d58c41bc.jpg
END:VEVENT
BEGIN:VEVENT
DTSTART;TZID=America/Los_Angeles:20260123T213000
DTEND;TZID=America/Los_Angeles:20260124T040000
DTSTAMP:20260422T203230
CREATED:20260123T035151Z
LAST-MODIFIED:20260123T035151Z
UID:10032649-1769203800-1769227200@create.vegas
SUMMARY:RICK ROSS on Las Vegas Party Bus Crawl
DESCRIPTION:RICK ROSS live at ZOUK NIGHTCLUB + party bus with free drinks\n\n\nCatch the legendary RICK ROSS  live in Las Vegas at the epic ZOUK Nightclub 🔥 \nEnjoy free express entry to multiple top venues\, an epic RICK ROSS performance\, and party bus transfers with nonstop drinks. This is the ultimate Las Vegas club crawl experience. \n \nLas Vegas Club Crawl Lineup: \n⭐️ ROCKHOUSE at The Venetian (check-in location) \n⭐️ TAO Nightclub with DJ Cable \n🚌 Party Bus with FREE DRINKS \n⭐️ ZOUK Nightclub with performance by RICK ROSS  \n \nWhat’s included in this Las Vegas Party Bus Crawl : \n⭐️ Express\, FREE entry to all venues \n⭐️ Party Bus Ride with FREE drinks \n⭐️ Performance by RICK ROSS  at the final venue ( Zouk Nightclub) \n⭐️ Drink Specials at the starting venue ( Rockhouse) \n⭐️ Private Party Hosts \n \nHow It Works: Meet your party hosts at the first venue listed on the lineup\, ROCKHOUSE\, to check-in and pregame. Your party host will lead the group to all of the epic venues on the lineup! \n\n\n\n\n\nLA EPIC CLUB CRAWLS LAS VEGAS: Full refunds are permitted 30 days prior to the event. Credits will be given in the amount paid\, if requested 3 days prior to the event. Get more info on Las Vegas dress code here. \n🎟️ CHECK-INCheck-in at 9:30PM at ROCKHOUSE in The Venetian . Please arrive no later than 10:15PM. Our team of hosts will all be wearing lanyards and host badges around their necks . **** This ticket alone is not sufficient for entry to the nightclub. You must check-in with our tour staff. \n \n👗 DRESS CODE & PROHIBITED ITEMSAll participants must adhere to the dress code and prohibited item policies enforced by the venues on the crawl. We strongly recommend reviewing these policies in advance to ensure entry. Click HERE for more info on Las Vegas Dress Code. \n \n⭐️ Want a more personalized party experience? We also offer custom private Austin crawls—perfect for a VIP celebration like a birthday\, bachelor party\, or bachelorette party. Visit our Private Crawl page on our website for more pricing. \n\n\n_________________________________________ \n📞 CONTACT US \n866-THE-EPIC or 866-843-3742 \nInfo@laepicclubcrawls.com \nwww.laepicclubcrawls.com
URL:https://create.vegas/event/rick-ross-on-las-vegas-party-bus-crawl/
LOCATION:ZOUK NIGHTCLUB\, 3000 S Las Vegas Blvd\, Las Vegas\, NV\, 89109\, United States
CATEGORIES:Food & Drink & Fun
ATTACH;FMTTYPE=image/jpeg:https://create.vegas/wp-content/uploads/2026/01/971b3876c100ecadb7ba57245fb8f4c5.jpg
END:VEVENT
BEGIN:VEVENT
DTSTART;TZID=America/Los_Angeles:20260110T213000
DTEND;TZID=America/Los_Angeles:20260111T040000
DTSTAMP:20260422T203230
CREATED:20260109T033554Z
LAST-MODIFIED:20260109T033554Z
UID:10032540-1768080600-1768104000@create.vegas
SUMMARY:Lil Jon on Las Vegas Party Bus Crawl
DESCRIPTION:Catch the legendary Lil Jon at Zouk Nightclub… yyeaaahhhhhh!\n\n\nCatch the legendary Lil Jon live in Las Vegas at the epic Zouk Nightclub 🔥 Party at some of the best clubs in Vegas with free\, express entry\, then head to Zouk for a high-energy Lil Jon set. And don’t forget — it all starts with a party bus and free drinks\, Vegas-style. 🥂💃 \n \nLas Vegas Club Crawl Lineup: \n⭐️ ROCKHOUSE at The Venetian (check-in location) \n⭐️ TAO Nightclub with DJ E-ROCK \n🚌 Party Bus with FREE DRINKS \n⭐️ ZOUK Nightclub with performance by LIL JON \n \nWhat’s included in this Las Vegas Party Bus Crawl : \n⭐️ Express\, FREE entry to all venues \n⭐️ Party Bus Ride with FREE drinks \n⭐️ Performance by LIL JON at the final venue \n⭐️ Drink Specials at the starting venue ( Rockhouse) \n⭐️ Private Party Hosts \n⭐️ Photos of The Crawl \n \nHow It Works: Meet your party hosts at the first venue listed on the lineup\, ROCKHOUSE\, to check-in and pregame. Your party host will lead the group to all of the epic venues on the lineup! \n\n\n\n\n\nFor the most epic Las Vegas crawl… Party with LA Epic Club Crawl Las Vegas! \n____________________________________________________________________________ \nLA EPIC CLUB CRAWLS LAS VEGAS: Full refunds are permitted 30 days prior to the event. Credits will be given in the amount paid\, if requested 3 days prior to the event. Get more info on Las Vegas dress code here. \n🎟️ CHECK-INCheck-in at 9:30PM at ROCKHOUSE  in The Venetian . Please arrive no later than 10:15PM. Our team of hosts will all be wearing lanyards and host badges around their necks . **** This ticket alone is not sufficient for entry to the nightclub. You must check-in with our tour staff. \n \n👗 DRESS CODE & PROHIBITED ITEMSAll participants must adhere to the dress code and prohibited item policies enforced by the venues on the crawl. We strongly recommend reviewing these policies in advance to ensure entry. Click HERE for more info on Las Vegas Dress Code. \n \n⭐️ Want a more personalized party experience? We also offer custom private Austin crawls—perfect for a VIP celebration like a birthday\, bachelor party\, or bachelorette party. Visit our Private Crawl page on our website for more pricing. \n \n📞 CONTACT US \nOffice open: Tuesday – Saturdays\, 10AM – 6PM (PST) \n866-THE-EPIC or 866-843-3742 \nInfo@laepicclubcrawls.com \nwww.laepicclubcrawls.com
URL:https://create.vegas/event/lil-jon-on-las-vegas-party-bus-crawl/
LOCATION:ZOUK NIGHTCLUB\, 3000 S Las Vegas Blvd\, Las Vegas\, NV\, 89109\, United States
CATEGORIES:Food & Drink & Fun
ATTACH;FMTTYPE=image/jpeg:https://create.vegas/wp-content/uploads/2026/01/ecc690e49e64e7cddf123ff4f2d01f23.jpg
END:VEVENT
BEGIN:VEVENT
DTSTART;TZID=America/Los_Angeles:20251231T203000
DTEND;TZID=America/Los_Angeles:20260101T040000
DTSTAMP:20260422T203230
CREATED:20251121T023442Z
LAST-MODIFIED:20251226T030609Z
UID:10031300-1767213000-1767240000@create.vegas
SUMMARY:New Year's Eve with James Hype | Zouk\, Las Vegas
DESCRIPTION:Celebrate 2026 New Year’s Eve in Las Vegas with the James Hype!\n\n\nCelebrate 2026 New Year’s Eve in Vegas with James Hype\, at one of the best clubs in Vegas\, Zouk Nightclub! 🥂Enjoy an exclusive pre-party at Redtail\, followed by VIP express entry to Zouk. 🔥 \n \nWHAT’S INCLUDED IN THIS NEW YEARS EVE PARTY PACKAGE \n⭐️ Express FREE entry to Zouk Nightclub \n⭐️ Performance by James Hype \n⭐️ Pre-party at a nearby venue\, with exclusive drink discounts \n⭐️ Free NYE party favors at the check-in venue \n⭐️ VIP party hosts \n \n \nHOW IT WORKS: Enjoy a pre-party pregame at Redtail (Resorts World)  from 8:30PM – 10PM\, with exclusive drink discounts and drinking games! After the pre-party\, we’ll head to Zouk Nightclub\, where you will receive FREE\, express entry\, to ring in the New Year with James Hype! \n\n\n\n\n🎟️CHECK-IN: You must check-in at Redtail to receive entry to the nightclub. This ticket alone is not sufficient for entry to the nightclub.  \n \n📝 REFUND POLICY: LA Epic Club Crawls Refunds ONLY until October 31st\, 2025. After that\, strict no refund policy. Cancel by December 15th & receive a credit in the amount you paid. After December 15th\, no refunds or credits will be given. This event will take place\, rain or shine. Refunds will not be given for poor weather. \n🎭 DRESS CODE! Dress-code is strictly enforced\, so please dress to impress. \n \n📩 CONTACT US \nInfo@laepicclubcrawls.com \nWebsite: www.laepicclubcrawls.com \nPhone: 866-THE-EPIC (866-843-3742)
URL:https://create.vegas/event/new-years-eve-with-james-hype-zouk-las-vegas/
LOCATION:ZOUK NIGHTCLUB\, 3000 S Las Vegas Blvd\, Las Vegas\, NV\, 89109\, United States
CATEGORIES:Food & Drink & Fun
ATTACH;FMTTYPE=image/jpeg:https://create.vegas/wp-content/uploads/2025/11/635b7af89ff5c2bc2d13486af79b0cc0.jpg
END:VEVENT
BEGIN:VEVENT
DTSTART;TZID=America/Los_Angeles:20251128T213000
DTEND;TZID=America/Los_Angeles:20251129T020000
DTSTAMP:20260422T203230
CREATED:20251128T023458Z
LAST-MODIFIED:20251128T023458Z
UID:10031783-1764365400-1764381600@create.vegas
SUMMARY:Kaskade on Las Vegas Club Crawl
DESCRIPTION:Kaskade take the stage this Friday night at Zouk Nightclub ✨\n\n\nThis Las Vegas Club Crawl is the ultimate night out! Get ready for a truly EPIC night with the one and only Kaskade at Zouk Nightclub! \n \nLas Vegas Club Crawl Lineup: \n⭐️ Rockhouse(check-in location) \n⭐️ Tao Nightclub with performance by DJ Buza \n🚌 Party Bus with FREE DRINKS \n⭐️ Zouk Nightclub with performance by Kaskade \n \nWhat’s included in this Las Vegas Club Crawl: \n⭐️ Express\, FREE entry to all venues \n⭐️ Party Bus Ride with FREE drinks \n⭐️ Performance by DJ Buza at the second venue \n⭐️ Performance by Kaskade at the final venue \n⭐️ Drink Specials (at select venues) \n⭐️ Private Party Hosts \n⭐️ Photos of The Crawl \n \nHow It Works: Meet your party hosts at the first venue listed on the lineup\, Rockhouse\, to check-in and pregame. Your party host will lead the group to all of the epic venues on the lineup! \n\n\n\nFor the most epic Las Vegas crawl… Party with LA Epic Club Crawl Las Vegas! \n____________________________________________________________________________ \nLA EPIC CLUB CRAWLS LAS VEGAS: Full refunds are permitted 30 days prior to the event. Credits will be given in the amount paid\, if requested 3 days prior to the event. Get more info on Las Vegas dress code here. \nCHECK-INCheck-in at 9:30PM at Rockhouse in the Venetian. Please arrive no later than 10:15PM. Our team of hosts will all be wearing lanyards and host badges around their necks for easy spotting. \n \nDress Code and Prohibited Items:All participants must adhere to the dress code and prohibited item policies enforced by the venues on the crawl. We strongly recommend reviewing these policies in advance to ensure entry. Click HERE for more information on Las Vegas Dress Code. \n \n \nCONTACT US \nOffice open: Tuesday – Saturdays\, 10AM – 6PM (PST) \n866-THE-EPIC or 866-843-3742 \nInfo@laepicclubcrawls.com \nwww.laepicclubcrawls.com \nDURING THE CRAWL: You can call your host directly at 866-THE-EPIC\, starting at 9:15PM
URL:https://create.vegas/event/kaskade-on-las-vegas-club-crawl-2/
LOCATION:ZOUK NIGHTCLUB\, 3000 S Las Vegas Blvd\, Las Vegas\, NV\, 89109\, United States
CATEGORIES:Food & Drink & Fun
ATTACH;FMTTYPE=image/jpeg:https://create.vegas/wp-content/uploads/2025/11/a711693efefdb1012eb28f3f30733f02.jpg
END:VEVENT
END:VCALENDAR