BEGIN:VCALENDAR
VERSION:2.0
PRODID:-//Create.Vegas - ECPv6.15.20//NONSGML v1.0//EN
CALSCALE:GREGORIAN
METHOD:PUBLISH
X-WR-CALNAME:Create.Vegas
X-ORIGINAL-URL:https://create.vegas
X-WR-CALDESC:Events for Create.Vegas
REFRESH-INTERVAL;VALUE=DURATION:PT1H
X-Robots-Tag:noindex
X-PUBLISHED-TTL:PT1H
BEGIN:VTIMEZONE
TZID:America/Los_Angeles
BEGIN:DAYLIGHT
TZOFFSETFROM:-0800
TZOFFSETTO:-0700
TZNAME:PDT
DTSTART:20250309T100000
END:DAYLIGHT
BEGIN:STANDARD
TZOFFSETFROM:-0700
TZOFFSETTO:-0800
TZNAME:PST
DTSTART:20251102T090000
END:STANDARD
BEGIN:DAYLIGHT
TZOFFSETFROM:-0800
TZOFFSETTO:-0700
TZNAME:PDT
DTSTART:20260308T100000
END:DAYLIGHT
BEGIN:STANDARD
TZOFFSETFROM:-0700
TZOFFSETTO:-0800
TZNAME:PST
DTSTART:20261101T090000
END:STANDARD
BEGIN:DAYLIGHT
TZOFFSETFROM:-0800
TZOFFSETTO:-0700
TZNAME:PDT
DTSTART:20270314T100000
END:DAYLIGHT
BEGIN:STANDARD
TZOFFSETFROM:-0700
TZOFFSETTO:-0800
TZNAME:PST
DTSTART:20271107T090000
END:STANDARD
END:VTIMEZONE
BEGIN:VEVENT
DTSTART;TZID=America/Los_Angeles:20260501T180000
DTEND;TZID=America/Los_Angeles:20260501T200000
DTSTAMP:20260423T110320
CREATED:20260422T190304Z
LAST-MODIFIED:20260422T190304Z
UID:10034438-1777658400-1777665600@create.vegas
SUMMARY:Gritos Y Guitarras Cinco de Mayo Celebration
DESCRIPTION:Celebrate Cinco de Mayo with mariachi\, food\, dance & vendors. | Celebra con mariachi\, comida\, baile y artesanos.\n\n\nBring the family to enjoy this concert by the Mariachi Conservatory of Las Vegas\, along with snacks\, artisan vendors and dancing. Free and open to the public. \nDisfruta las tradiciones de México con comida\, artesanías y música mariachera presentada por el Mariachi Conservatory of Las Vegas del West Las Vegas Arts Center. ¡Ven a celebrar la cultura Mexicana bailando\, comiendo y echando tu mejor grito Mexicano! Gratis y abierto al. \nFor more information\, call 702-229-4800. We are full on vendors for this event. Please fill out the expressed interest form to be considered as a vendor for future events: https://cityoflasvegas.formstack.com/forms/vendor_application_to_provide_services
URL:https://create.vegas/event/gritos-y-guitarras-cinco-de-mayo-celebration/
LOCATION:West Las Vegas Theatre\, 951 W Lake Mead Blvd.\, Las Vegas\, NV\, 89106\, United States
ATTACH;FMTTYPE=image/jpeg:https://create.vegas/wp-content/uploads/2026/04/7e063409d0377fb926f06cf43c31a1f8.jpg
END:VEVENT
END:VCALENDAR