BEGIN:VCALENDAR
VERSION:2.0
PRODID:-//Create.Vegas - ECPv6.15.20//NONSGML v1.0//EN
CALSCALE:GREGORIAN
METHOD:PUBLISH
X-ORIGINAL-URL:https://create.vegas
X-WR-CALDESC:Events for Create.Vegas
REFRESH-INTERVAL;VALUE=DURATION:PT1H
X-Robots-Tag:noindex
X-PUBLISHED-TTL:PT1H
BEGIN:VTIMEZONE
TZID:America/Los_Angeles
BEGIN:DAYLIGHT
TZOFFSETFROM:-0800
TZOFFSETTO:-0700
TZNAME:PDT
DTSTART:20240310T100000
END:DAYLIGHT
BEGIN:STANDARD
TZOFFSETFROM:-0700
TZOFFSETTO:-0800
TZNAME:PST
DTSTART:20241103T090000
END:STANDARD
BEGIN:DAYLIGHT
TZOFFSETFROM:-0800
TZOFFSETTO:-0700
TZNAME:PDT
DTSTART:20250309T100000
END:DAYLIGHT
BEGIN:STANDARD
TZOFFSETFROM:-0700
TZOFFSETTO:-0800
TZNAME:PST
DTSTART:20251102T090000
END:STANDARD
BEGIN:DAYLIGHT
TZOFFSETFROM:-0800
TZOFFSETTO:-0700
TZNAME:PDT
DTSTART:20260308T100000
END:DAYLIGHT
BEGIN:STANDARD
TZOFFSETFROM:-0700
TZOFFSETTO:-0800
TZNAME:PST
DTSTART:20261101T090000
END:STANDARD
END:VTIMEZONE
BEGIN:VEVENT
DTSTART;TZID=America/Los_Angeles:20251130T100000
DTEND;TZID=America/Los_Angeles:20251130T160000
DTSTAMP:20260420T113200
CREATED:20250529T163359Z
LAST-MODIFIED:20251125T171759Z
UID:10028599-1764496800-1764518400@create.vegas
SUMMARY:Shop Small Holiday Craftville Gift Bazaar
DESCRIPTION:SHOP SMALL in support of small businesses/2 days of Holiday Craftville Gift Bazaar shopping.\n\n\n2 amazing days to support our local small businesses at the Silverton Veil Pavilion. Grab your shopping buddy and let’s go! \nNov 29th & 30th. Sat 10 am – 5 pm & Sun 10 am – 4 pm. \nIt’s the Shop Small Holiday Craftville Gift Bazaar with an interesting assortment of vendors each day indoors & outdoors. \nCottage Foods \nAll ages welcome \nFree Hourly Drawings \nFree Admission & Parking \nPark in the garage for easy access!
URL:https://create.vegas/event/shop-small-holiday-craftville-gift-bazaar-4/
LOCATION:Veil Pavilion at The Silverton\, 3333 Blue Diamond Road\, Las Vegas\, NV\, 89139\, United States
CATEGORIES:Fairs & Festivals
ATTACH;FMTTYPE=image/jpeg:https://create.vegas/wp-content/uploads/2025/05/7f4676fd69b98eca6770283407856e6c.jpg
END:VEVENT
BEGIN:VEVENT
DTSTART;TZID=America/Los_Angeles:20251129T100000
DTEND;TZID=America/Los_Angeles:20251129T170000
DTSTAMP:20260420T113200
CREATED:20250529T163358Z
LAST-MODIFIED:20251125T171759Z
UID:10028598-1764410400-1764435600@create.vegas
SUMMARY:Shop Small Holiday Craftville Gift Bazaar
DESCRIPTION:SHOP SMALL SATURDAY in support of small businesses/2 days of Holiday Craftville Gift Bazaar shopping.\n\n\n2 amazing days to support our local small businesses at the Silverton Veil Pavilion. Grab your shopping buddy and let’s go!  \nNov 29th & 30th. Sat 10 am – 5 pm & Sun 10 am – 4 pm.  \nIt’s the Shop Small Holiday Craftville Gift Bazaar with an interesting assortment of vendors each day indoors & outdoors. \nCottage Foods \nAll ages welcome \nFree Hourly Drawings \nFree Admission & Parking   \nPark in the garage for easy access!
URL:https://create.vegas/event/shop-small-holiday-craftville-gift-bazaar/
LOCATION:Veil Pavilion at The Silverton\, 3333 Blue Diamond Road\, Las Vegas\, NV\, 89139\, United States
CATEGORIES:Fairs & Festivals
ATTACH;FMTTYPE=image/jpeg:https://create.vegas/wp-content/uploads/2025/05/7f4676fd69b98eca6770283407856e6c.jpg
END:VEVENT
BEGIN:VEVENT
DTSTART;TZID=America/Los_Angeles:20251019T100000
DTEND;TZID=America/Los_Angeles:20251019T170000
DTSTAMP:20260420T113200
CREATED:20250429T161916Z
LAST-MODIFIED:20250926T164838Z
UID:10026568-1760868000-1760893200@create.vegas
SUMMARY:Craft Show Spooktacular
DESCRIPTION:Looking for that special unique gift and something FUN to do with your family & friends\, while supporting local artists & crafters?\n\n\nIt’s the 15th Annual Craft Show Spooktacular at the SILVERTON Casino’s Veil Pavilion \n* FREE admission \n* FREE drawing ticket \n* Many unique crafters & artists \n* FREE drawings \n* FREE parking \n* Candy for kids in costume \nProceeds from sold drawing tickets benefit Sir’s Rescue Rangers animal rescue. \nFor more information & vendor opportunities\, visit our website at LVCraftShows.com \nLike us on Facebook at LV CRAFT SHOWS
URL:https://create.vegas/event/craft-show-spooktacular-2/
LOCATION:Veil Pavilion at The Silverton\, 3333 Blue Diamond Road\, Las Vegas\, NV\, 89139\, United States
CATEGORIES:Fairs & Festivals
ATTACH;FMTTYPE=image/jpeg:https://create.vegas/wp-content/uploads/2025/04/9688ea2fa09c9b840165dc569425545e.jpg
END:VEVENT
END:VCALENDAR