BEGIN:VCALENDAR
VERSION:2.0
PRODID:-//Create.Vegas - ECPv6.15.20//NONSGML v1.0//EN
CALSCALE:GREGORIAN
METHOD:PUBLISH
X-ORIGINAL-URL:https://create.vegas
X-WR-CALDESC:Events for Create.Vegas
REFRESH-INTERVAL;VALUE=DURATION:PT1H
X-Robots-Tag:noindex
X-PUBLISHED-TTL:PT1H
BEGIN:VTIMEZONE
TZID:America/Los_Angeles
BEGIN:DAYLIGHT
TZOFFSETFROM:-0800
TZOFFSETTO:-0700
TZNAME:PDT
DTSTART:20250309T100000
END:DAYLIGHT
BEGIN:STANDARD
TZOFFSETFROM:-0700
TZOFFSETTO:-0800
TZNAME:PST
DTSTART:20251102T090000
END:STANDARD
BEGIN:DAYLIGHT
TZOFFSETFROM:-0800
TZOFFSETTO:-0700
TZNAME:PDT
DTSTART:20260308T100000
END:DAYLIGHT
BEGIN:STANDARD
TZOFFSETFROM:-0700
TZOFFSETTO:-0800
TZNAME:PST
DTSTART:20261101T090000
END:STANDARD
BEGIN:DAYLIGHT
TZOFFSETFROM:-0800
TZOFFSETTO:-0700
TZNAME:PDT
DTSTART:20270314T100000
END:DAYLIGHT
BEGIN:STANDARD
TZOFFSETFROM:-0700
TZOFFSETTO:-0800
TZNAME:PST
DTSTART:20271107T090000
END:STANDARD
END:VTIMEZONE
BEGIN:VEVENT
DTSTART;TZID=America/Los_Angeles:20260422T200000
DTEND;TZID=America/Los_Angeles:20260422T220000
DTSTAMP:20260422T023031
CREATED:20260402T090253Z
LAST-MODIFIED:20260416T091751Z
UID:10034266-1776888000-1776895200@create.vegas
SUMMARY:Surf & Soul Volume 2
DESCRIPTION:Vocalist Bucky Heard (one half of The Righteous Brothers alongside Rock and Roll Hall of Fame legend and original Brother Bill Medley) and guitarist John Wedemeyer (lead guitarist/vocalist with The Beach Boys) began playing as an acoustic duo in 2020. At a time when bands and venues had ground to a halt\, Bucky and John rode out the lockdowns by playing shows\, doing livestreams\, and building a loyal following in the process.\nEnjoy an intimate & unplugged evening of  “Surf & Soul”!
URL:https://create.vegas/event/surf-soul-volume-2/
LOCATION:The Space\, 3460 Cavaretta Ct\, Las Vegas\, NV\, United States
ATTACH;FMTTYPE=image/jpeg:https://create.vegas/wp-content/uploads/2026/04/GMB-Thumbnail-Bucky-and-John-042226-Gz0aow.jpg
GEO:36.110569;-115.186048
X-APPLE-STRUCTURED-LOCATION;VALUE=URI;X-ADDRESS=The Space 3460 Cavaretta Ct Las Vegas NV United States;X-APPLE-RADIUS=500;X-TITLE=3460 Cavaretta Ct:geo:-115.186048,36.110569
END:VEVENT
BEGIN:VEVENT
DTSTART;TZID=America/Los_Angeles:20260424T203000
DTEND;TZID=America/Los_Angeles:20260425T000000
DTSTAMP:20260422T023031
CREATED:20260402T090253Z
LAST-MODIFIED:20260416T091751Z
UID:10034267-1777062600-1777075200@create.vegas
SUMMARY:Broadway Rave
DESCRIPTION:Back by Popular Demand! Calling all Musical Theatre nerds\, drama geeks\, actors\, actresses\, theatre lovers\, and more! Welcome to Broadway Rave\, a Broadway Dance Party celebrating the best in show-tunes and musical theatre. Come sing along to all of your favorite broadway hits while dressed up as your favorite character. We’ll have surprise guests from some of your favorite Broadway stars! Live out your Broadway fantasies at Broadway Rave — the most POPULAR Broadway Dance party around.
URL:https://create.vegas/event/broadway-rave/
LOCATION:The Space\, 3460 Cavaretta Ct\, Las Vegas\, NV\, United States
ATTACH;FMTTYPE=image/jpeg:https://create.vegas/wp-content/uploads/2026/04/Thumbnail-The-Space-042426-Broadway-Rave1-lG7goz.jpg
GEO:36.110569;-115.186048
X-APPLE-STRUCTURED-LOCATION;VALUE=URI;X-ADDRESS=The Space 3460 Cavaretta Ct Las Vegas NV United States;X-APPLE-RADIUS=500;X-TITLE=3460 Cavaretta Ct:geo:-115.186048,36.110569
END:VEVENT
BEGIN:VEVENT
DTSTART;TZID=America/Los_Angeles:20260425T200000
DTEND;TZID=America/Los_Angeles:20260425T220000
DTSTAMP:20260422T023031
CREATED:20260402T090254Z
LAST-MODIFIED:20260416T091752Z
UID:10034268-1777147200-1777154400@create.vegas
SUMMARY:TEASE: A Burlesque Revue
DESCRIPTION:​The world’s sexiest museum\, Las Vegas’ own Burlesque Hall of Fame\, presents a night of the finest burlesque around. Join us for a night of glamour\, elegance\, humor\, sensuality\, and a touch of Classic Las Vegas! Proceeds benefit the Burlesque Hall of Fame\, a nonprofit museum dedicated to preserving burlesque’s unique and wonderful history.
URL:https://create.vegas/event/tease-a-burlesque-revue-7/
LOCATION:The Space\, 3460 Cavaretta Ct\, Las Vegas\, NV\, United States
ATTACH;FMTTYPE=image/jpeg:https://create.vegas/wp-content/uploads/2026/04/New-Thumbnails-042526-Tease-BHOF-April-V2-Cjwbbj.jpg
GEO:36.110569;-115.186048
X-APPLE-STRUCTURED-LOCATION;VALUE=URI;X-ADDRESS=The Space 3460 Cavaretta Ct Las Vegas NV United States;X-APPLE-RADIUS=500;X-TITLE=3460 Cavaretta Ct:geo:-115.186048,36.110569
END:VEVENT
BEGIN:VEVENT
DTSTART;TZID=America/Los_Angeles:20260426T160000
DTEND;TZID=America/Los_Angeles:20260426T180000
DTSTAMP:20260422T023031
CREATED:20260402T090254Z
LAST-MODIFIED:20260416T091752Z
UID:10034269-1777219200-1777226400@create.vegas
SUMMARY:THE 90 YEAR OLD DRUMMER GINGER MILLER with OVERTURE
DESCRIPTION:THE 90 YEAR OLD DRUMMER GINGER MILLER with OVERTURE\nGinger Miller performs songs from the 50’s 60’s and 70’s on drums with Special guests OVERTURE Southern and Classic rock from the 70’s and 80’s
URL:https://create.vegas/event/live-from-new-york-the-90-year-old-drummer-ginger-miller-with-overture/
LOCATION:The Space\, 3460 Cavaretta Ct\, Las Vegas\, NV\, United States
ATTACH;FMTTYPE=image/jpeg:https://create.vegas/wp-content/uploads/2026/04/New-Thumbnails-042626-Overture-ft-Ginger-Miller-V4-WiwLqS.jpg
GEO:36.110569;-115.186048
X-APPLE-STRUCTURED-LOCATION;VALUE=URI;X-ADDRESS=The Space 3460 Cavaretta Ct Las Vegas NV United States;X-APPLE-RADIUS=500;X-TITLE=3460 Cavaretta Ct:geo:-115.186048,36.110569
END:VEVENT
BEGIN:VEVENT
DTSTART;TZID=America/Los_Angeles:20260427T200000
DTEND;TZID=America/Los_Angeles:20260427T220000
DTSTAMP:20260422T023031
CREATED:20260402T090255Z
LAST-MODIFIED:20260416T091752Z
UID:10034270-1777320000-1777327200@create.vegas
SUMMARY:CORE-oke: Karaoke for a Cause
DESCRIPTION:Get ready for a night of music\, fun\, and community at CORE–oke\, a karaoke fundraiser supporting the Scholars of CORE.\nCommunity members will take the stage to sing their favorite songs while raising funds to support programs that help students discover their strengths\, explore career pathways\, and build brighter futures.\nWhether you’re stepping up to the mic or cheering from the crowd\, CORE–oke promises an evening of unforgettable performances\, laughter\, and generosity. Every song helps amplify the voices of CORE scholars\, making this night a soundtrack for success.\nCome celebrate with us\, support a great cause\, and enjoy a night where the community becomes the show.
URL:https://create.vegas/event/core-oke-karaoke-for-a-cause/
LOCATION:The Space\, 3460 Cavaretta Ct\, Las Vegas\, NV\, United States
ATTACH;FMTTYPE=image/jpeg:https://create.vegas/wp-content/uploads/2026/04/New-Thumbnails-042726-COREeoke-V3-Ms3mZr.jpg
GEO:36.110569;-115.186048
X-APPLE-STRUCTURED-LOCATION;VALUE=URI;X-ADDRESS=The Space 3460 Cavaretta Ct Las Vegas NV United States;X-APPLE-RADIUS=500;X-TITLE=3460 Cavaretta Ct:geo:-115.186048,36.110569
END:VEVENT
BEGIN:VEVENT
DTSTART;TZID=America/Los_Angeles:20260429T210000
DTEND;TZID=America/Los_Angeles:20260429T230000
DTSTAMP:20260422T023031
CREATED:20260402T090255Z
LAST-MODIFIED:20260416T091752Z
UID:10034271-1777496400-1777503600@create.vegas
SUMMARY:The Soulful Sounds of CJ Scala
DESCRIPTION:Enjoy an intimate evening of soulful music with the one and only CJ Scala. This passionate and enchanting vocalist will be performing some of her original music\, along with cover songs spanning multiple decades and genres flipping the arrangements into her own unique\, soulful\, jazzy style.  Get ready for a night of good vibes and great music.
URL:https://create.vegas/event/the-soulful-sounds-of-cj-scala/
LOCATION:The Space\, 3460 Cavaretta Ct\, Las Vegas\, NV\, United States
ATTACH;FMTTYPE=image/jpeg:https://create.vegas/wp-content/uploads/2026/04/Thumbnail-042926-Soulful-CJ-Scala-J2TLH1.jpg
GEO:36.110569;-115.186048
X-APPLE-STRUCTURED-LOCATION;VALUE=URI;X-ADDRESS=The Space 3460 Cavaretta Ct Las Vegas NV United States;X-APPLE-RADIUS=500;X-TITLE=3460 Cavaretta Ct:geo:-115.186048,36.110569
END:VEVENT
BEGIN:VEVENT
DTSTART;TZID=America/Los_Angeles:20260430T200000
DTEND;TZID=America/Los_Angeles:20260430T220000
DTSTAMP:20260422T023031
CREATED:20260402T090256Z
LAST-MODIFIED:20260416T091752Z
UID:10034272-1777579200-1777586400@create.vegas
SUMMARY:Those It Girls
DESCRIPTION:Those It Girls is a high-energy pop divas revue starring Patrice Petway\, Syrena Sayed\, and Myia Ann. Blending powerhouse vocals\, sleek choreography\, and iconic hits across generations\, the trio takes audiences on a glamorous journey from Motown to modern-day anthems. With undeniable chemistry and star presence\, Those It Girls aren’t just a group — they are the moment.
URL:https://create.vegas/event/those-it-girls/
LOCATION:The Space\, 3460 Cavaretta Ct\, Las Vegas\, NV\, United States
ATTACH;FMTTYPE=image/jpeg:https://create.vegas/wp-content/uploads/2026/04/Thumbnail-043026-Those-It-Girls-Ea7uDJ.jpg
GEO:36.110569;-115.186048
X-APPLE-STRUCTURED-LOCATION;VALUE=URI;X-ADDRESS=The Space 3460 Cavaretta Ct Las Vegas NV United States;X-APPLE-RADIUS=500;X-TITLE=3460 Cavaretta Ct:geo:-115.186048,36.110569
END:VEVENT
END:VCALENDAR