BEGIN:VCALENDAR
VERSION:2.0
PRODID:-//Create.Vegas - ECPv6.15.20//NONSGML v1.0//EN
CALSCALE:GREGORIAN
METHOD:PUBLISH
X-WR-CALNAME:Create.Vegas
X-ORIGINAL-URL:https://create.vegas
X-WR-CALDESC:Events for Create.Vegas
REFRESH-INTERVAL;VALUE=DURATION:PT1H
X-Robots-Tag:noindex
X-PUBLISHED-TTL:PT1H
BEGIN:VTIMEZONE
TZID:America/Los_Angeles
BEGIN:DAYLIGHT
TZOFFSETFROM:-0800
TZOFFSETTO:-0700
TZNAME:PDT
DTSTART:20240310T100000
END:DAYLIGHT
BEGIN:STANDARD
TZOFFSETFROM:-0700
TZOFFSETTO:-0800
TZNAME:PST
DTSTART:20241103T090000
END:STANDARD
BEGIN:DAYLIGHT
TZOFFSETFROM:-0800
TZOFFSETTO:-0700
TZNAME:PDT
DTSTART:20250309T100000
END:DAYLIGHT
BEGIN:STANDARD
TZOFFSETFROM:-0700
TZOFFSETTO:-0800
TZNAME:PST
DTSTART:20251102T090000
END:STANDARD
BEGIN:DAYLIGHT
TZOFFSETFROM:-0800
TZOFFSETTO:-0700
TZNAME:PDT
DTSTART:20260308T100000
END:DAYLIGHT
BEGIN:STANDARD
TZOFFSETFROM:-0700
TZOFFSETTO:-0800
TZNAME:PST
DTSTART:20261101T090000
END:STANDARD
END:VTIMEZONE
BEGIN:VEVENT
DTSTART;TZID=America/Los_Angeles:20251228T120000
DTEND;TZID=America/Los_Angeles:20251228T230000
DTSTAMP:20260423T033453
CREATED:20251226T223315Z
LAST-MODIFIED:20251226T223315Z
UID:10032254-1766923200-1766962800@create.vegas
SUMMARY:Altruistic Nostalgia
DESCRIPTION:Join us for Altruistic Nostalgia: How the past we hold onto shapes the future we create – Art by Shelby McAuliffe. \nThis show is an immersive\, site-responsive installation that critically examines nostalgia as both a tool of empowerment and a mechanism of control in contemporary society. This work positions nostalgia not as passive longing but as an active choice. \n~ \nThe reception is on Dec. 18\, 2025\, from 5-8 p.m. and will feature light refreshments\, as well as words from the artist. The show runs from Dec. 4-28\, 2025 \nThank you to the Nevada Arts Council and the National Endowment for the Arts for supporting the project.
URL:https://create.vegas/event/altruistic-nostalgia-3/
LOCATION:The Potentialist Workshop\, 836 E 2nd St\, Reno\, NV\, 89502
CATEGORIES:Exhibit,Performing Arts,Reception
ORGANIZER;CN="Potentialist Workshop":MAILTO:PotentialistReno@Gmail.com
END:VEVENT
BEGIN:VEVENT
DTSTART;TZID=America/Los_Angeles:20251227T120000
DTEND;TZID=America/Los_Angeles:20251227T230000
DTSTAMP:20260423T033453
CREATED:20251226T223314Z
LAST-MODIFIED:20251226T223314Z
UID:10032250-1766836800-1766876400@create.vegas
SUMMARY:Altruistic Nostalgia
DESCRIPTION:Join us for Altruistic Nostalgia: How the past we hold onto shapes the future we create – Art by Shelby McAuliffe. \nThis show is an immersive\, site-responsive installation that critically examines nostalgia as both a tool of empowerment and a mechanism of control in contemporary society. This work positions nostalgia not as passive longing but as an active choice. \n~ \nThe reception is on Dec. 18\, 2025\, from 5-8 p.m. and will feature light refreshments\, as well as words from the artist. The show runs from Dec. 4-28\, 2025 \nThank you to the Nevada Arts Council and the National Endowment for the Arts for supporting the project.
URL:https://create.vegas/event/altruistic-nostalgia-2/
LOCATION:The Potentialist Workshop\, 836 E 2nd St\, Reno\, NV\, 89502
CATEGORIES:Exhibit,Performing Arts,Reception
ORGANIZER;CN="Potentialist Workshop":MAILTO:PotentialistReno@Gmail.com
END:VEVENT
BEGIN:VEVENT
DTSTART;TZID=America/Los_Angeles:20251226T120000
DTEND;TZID=America/Los_Angeles:20251226T230000
DTSTAMP:20260423T033453
CREATED:20251226T223311Z
LAST-MODIFIED:20251226T223311Z
UID:10032248-1766750400-1766790000@create.vegas
SUMMARY:Altruistic Nostalgia
DESCRIPTION:Join us for Altruistic Nostalgia: How the past we hold onto shapes the future we create – Art by Shelby McAuliffe. \nThis show is an immersive\, site-responsive installation that critically examines nostalgia as both a tool of empowerment and a mechanism of control in contemporary society. This work positions nostalgia not as passive longing but as an active choice. \n~ \nThe reception is on Dec. 18\, 2025\, from 5-8 p.m. and will feature light refreshments\, as well as words from the artist. The show runs from Dec. 4-28\, 2025 \nThank you to the Nevada Arts Council and the National Endowment for the Arts for supporting the project.
URL:https://create.vegas/event/altruistic-nostalgia/
LOCATION:The Potentialist Workshop\, 836 E 2nd St\, Reno\, NV\, 89502
CATEGORIES:Exhibit,Performing Arts,Reception
ORGANIZER;CN="Potentialist Workshop":MAILTO:PotentialistReno@Gmail.com
END:VEVENT
END:VCALENDAR