BEGIN:VCALENDAR
VERSION:2.0
PRODID:-//Create.Vegas - ECPv6.15.20//NONSGML v1.0//EN
CALSCALE:GREGORIAN
METHOD:PUBLISH
X-WR-CALNAME:Create.Vegas
X-ORIGINAL-URL:https://create.vegas
X-WR-CALDESC:Events for Create.Vegas
REFRESH-INTERVAL;VALUE=DURATION:PT1H
X-Robots-Tag:noindex
X-PUBLISHED-TTL:PT1H
BEGIN:VTIMEZONE
TZID:America/Los_Angeles
BEGIN:DAYLIGHT
TZOFFSETFROM:-0800
TZOFFSETTO:-0700
TZNAME:PDT
DTSTART:20250309T100000
END:DAYLIGHT
BEGIN:STANDARD
TZOFFSETFROM:-0700
TZOFFSETTO:-0800
TZNAME:PST
DTSTART:20251102T090000
END:STANDARD
BEGIN:DAYLIGHT
TZOFFSETFROM:-0800
TZOFFSETTO:-0700
TZNAME:PDT
DTSTART:20260308T100000
END:DAYLIGHT
BEGIN:STANDARD
TZOFFSETFROM:-0700
TZOFFSETTO:-0800
TZNAME:PST
DTSTART:20261101T090000
END:STANDARD
BEGIN:DAYLIGHT
TZOFFSETFROM:-0800
TZOFFSETTO:-0700
TZNAME:PDT
DTSTART:20270314T100000
END:DAYLIGHT
BEGIN:STANDARD
TZOFFSETFROM:-0700
TZOFFSETTO:-0800
TZNAME:PST
DTSTART:20271107T090000
END:STANDARD
END:VTIMEZONE
BEGIN:VEVENT
DTSTART;TZID=America/Los_Angeles:20260613T183000
DTEND;TZID=America/Los_Angeles:20260613T220000
DTSTAMP:20260422T191337
CREATED:20260418T133324Z
LAST-MODIFIED:20260419T064750Z
UID:10034425-1781375400-1781388000@create.vegas
SUMMARY:PRIDE Bar Hop
DESCRIPTION:Join the only LGBTQIA+ charity bar crawl this  PRIDE Month with your favorite Las Vegas PRIDE royalty!\n\n\nThis is the perfect opportunity to show your support for the LGBTQIA+ community while enjoying a night out on the town during PRIDE Month. Get ready to crawl through some of the best bars in Las Vegas\, all for a good cause\, raising funds for local businesses and Las Vegas PRIDE charitable works! \n \nEach BAR STOP will have a 60-minute visit. \n21+ Event \n$25 per person \n \nBar Stops: \n\nTBD \n\n \nWHAT YOU GET: \n\nTransportation to each STOP on our planned schedule!\nComplimentary water provided on the buses\nFree welcome shot upon arrival at each location\nHosted bar drink specials\nOpportunities to win fun prizes along the way\n\n \nItems not permitted on buses: \n\nNo smoking/vaping\nNo Weapons or Firearms\nNo food or snacks\nNo large bags and or backpacks.\n\nDON’T MISS THE BUS!!!
URL:https://create.vegas/event/pride-bar-hop-2/
LOCATION:TBD\, 000\, Las Vegas\, NV\, 89102\, United States
CATEGORIES:Community Event
END:VEVENT
END:VCALENDAR