BEGIN:VCALENDAR
VERSION:2.0
PRODID:-//Create.Vegas - ECPv6.15.20//NONSGML v1.0//EN
CALSCALE:GREGORIAN
METHOD:PUBLISH
X-WR-CALNAME:Create.Vegas
X-ORIGINAL-URL:https://create.vegas
X-WR-CALDESC:Events for Create.Vegas
REFRESH-INTERVAL;VALUE=DURATION:PT1H
X-Robots-Tag:noindex
X-PUBLISHED-TTL:PT1H
BEGIN:VTIMEZONE
TZID:America/Los_Angeles
BEGIN:DAYLIGHT
TZOFFSETFROM:-0800
TZOFFSETTO:-0700
TZNAME:PDT
DTSTART:20250309T100000
END:DAYLIGHT
BEGIN:STANDARD
TZOFFSETFROM:-0700
TZOFFSETTO:-0800
TZNAME:PST
DTSTART:20251102T090000
END:STANDARD
BEGIN:DAYLIGHT
TZOFFSETFROM:-0800
TZOFFSETTO:-0700
TZNAME:PDT
DTSTART:20260308T100000
END:DAYLIGHT
BEGIN:STANDARD
TZOFFSETFROM:-0700
TZOFFSETTO:-0800
TZNAME:PST
DTSTART:20261101T090000
END:STANDARD
BEGIN:DAYLIGHT
TZOFFSETFROM:-0800
TZOFFSETTO:-0700
TZNAME:PDT
DTSTART:20270314T100000
END:DAYLIGHT
BEGIN:STANDARD
TZOFFSETFROM:-0700
TZOFFSETTO:-0800
TZNAME:PST
DTSTART:20271107T090000
END:STANDARD
END:VTIMEZONE
BEGIN:VEVENT
DTSTART;TZID=America/Los_Angeles:20261115T100000
DTEND;TZID=America/Los_Angeles:20261115T170000
DTSTAMP:20260421T192720
CREATED:20260124T172005Z
LAST-MODIFIED:20260325T173331Z
UID:10032702-1794736800-1794762000@create.vegas
SUMMARY:Craftastic Gift Show
DESCRIPTION:Join LV Craft Shows’ talented artists and gift vendors to shop for Fall & holiday decor and unique gifts.\n\n\nSunday\, November 15th from 10 am – 5 pm\, join us at the Santa Fe Station Hotel & Casino for our Craftastic Gift Show! INDOOR show in the Centennial Ballroom. Many artists & vendors with original crafts\, handcrafted & handmade items\, cottage foods\, vintage\, art\, and other unique gifts. Free hourly drawings. Free admission & parking. PARK IN THE NORTH GARAGE and look for Meeting Rooms (above the former buffet) for easy access!!
URL:https://create.vegas/event/craftastic-gift-show-3/
LOCATION:Santa Fe Station Hotel & Casino\, 4949 North Rancho Drive\, Las Vegas\, NV\, 89130\, United States
CATEGORIES:Fairs & Festivals
ATTACH;FMTTYPE=image/jpeg:https://create.vegas/wp-content/uploads/2026/02/fe03464fa792120351104cd24d5a53bd.jpg
END:VEVENT
END:VCALENDAR