BEGIN:VCALENDAR
VERSION:2.0
PRODID:-//Create.Vegas - ECPv6.15.20//NONSGML v1.0//EN
CALSCALE:GREGORIAN
METHOD:PUBLISH
X-ORIGINAL-URL:https://create.vegas
X-WR-CALDESC:Events for Create.Vegas
REFRESH-INTERVAL;VALUE=DURATION:PT1H
X-Robots-Tag:noindex
X-PUBLISHED-TTL:PT1H
BEGIN:VTIMEZONE
TZID:America/Los_Angeles
BEGIN:DAYLIGHT
TZOFFSETFROM:-0800
TZOFFSETTO:-0700
TZNAME:PDT
DTSTART:20250309T100000
END:DAYLIGHT
BEGIN:STANDARD
TZOFFSETFROM:-0700
TZOFFSETTO:-0800
TZNAME:PST
DTSTART:20251102T090000
END:STANDARD
BEGIN:DAYLIGHT
TZOFFSETFROM:-0800
TZOFFSETTO:-0700
TZNAME:PDT
DTSTART:20260308T100000
END:DAYLIGHT
BEGIN:STANDARD
TZOFFSETFROM:-0700
TZOFFSETTO:-0800
TZNAME:PST
DTSTART:20261101T090000
END:STANDARD
BEGIN:DAYLIGHT
TZOFFSETFROM:-0800
TZOFFSETTO:-0700
TZNAME:PDT
DTSTART:20270314T100000
END:DAYLIGHT
BEGIN:STANDARD
TZOFFSETFROM:-0700
TZOFFSETTO:-0800
TZNAME:PST
DTSTART:20271107T090000
END:STANDARD
END:VTIMEZONE
BEGIN:VEVENT
DTSTART;TZID=America/Los_Angeles:20260111T130000
DTEND;TZID=America/Los_Angeles:20260111T160000
DTSTAMP:20260425T121854
CREATED:20251225T180320Z
LAST-MODIFIED:20251225T180320Z
UID:10032209-1768136400-1768147200@create.vegas
SUMMARY:Join Cigars and Cars Group (CCG) for their 1st 2K26 Free Car Meet-Up
DESCRIPTION:Get revved up with CCG’s 1st 2K26 Free Car Meet-Up\, where wheels and good vibes collide!
URL:https://create.vegas/event/join-cigars-and-cars-group-ccg-for-their-1st-2k26-free-car-meet-up/
LOCATION:Posh Auto Styling\, 500 South Buffalo Drive\, Las Vegas\, NV\, 89145\, United States
CATEGORIES:Community Event
ATTACH;FMTTYPE=image/jpeg:https://create.vegas/wp-content/uploads/2025/12/ad6097ad41fc8f779e50a4c32c0bb055.jpg
END:VEVENT
END:VCALENDAR