BEGIN:VCALENDAR
VERSION:2.0
PRODID:-//Create.Vegas - ECPv6.15.20//NONSGML v1.0//EN
CALSCALE:GREGORIAN
METHOD:PUBLISH
X-ORIGINAL-URL:https://create.vegas
X-WR-CALDESC:Events for Create.Vegas
REFRESH-INTERVAL;VALUE=DURATION:PT1H
X-Robots-Tag:noindex
X-PUBLISHED-TTL:PT1H
BEGIN:VTIMEZONE
TZID:America/Los_Angeles
BEGIN:DAYLIGHT
TZOFFSETFROM:-0800
TZOFFSETTO:-0700
TZNAME:PDT
DTSTART:20240310T100000
END:DAYLIGHT
BEGIN:STANDARD
TZOFFSETFROM:-0700
TZOFFSETTO:-0800
TZNAME:PST
DTSTART:20241103T090000
END:STANDARD
BEGIN:DAYLIGHT
TZOFFSETFROM:-0800
TZOFFSETTO:-0700
TZNAME:PDT
DTSTART:20250309T100000
END:DAYLIGHT
BEGIN:STANDARD
TZOFFSETFROM:-0700
TZOFFSETTO:-0800
TZNAME:PST
DTSTART:20251102T090000
END:STANDARD
BEGIN:DAYLIGHT
TZOFFSETFROM:-0800
TZOFFSETTO:-0700
TZNAME:PDT
DTSTART:20260308T100000
END:DAYLIGHT
BEGIN:STANDARD
TZOFFSETFROM:-0700
TZOFFSETTO:-0800
TZNAME:PST
DTSTART:20261101T090000
END:STANDARD
END:VTIMEZONE
BEGIN:VEVENT
DTSTART;TZID=America/Los_Angeles:20251213T180000
DTEND;TZID=America/Los_Angeles:20251213T220000
DTSTAMP:20260422T223012
CREATED:20251126T222615Z
LAST-MODIFIED:20251126T222615Z
UID:10031641-1765648800-1765663200@create.vegas
SUMMARY:Spirit of the Season | A Very Merry Road Trip: Holidays Across America
DESCRIPTION:SHOWTIMES: \nFriday\, Dec. 12: Doors 6 p.m.\, Concert 7 p.m.  \nSaturday\, Dec. 13: Two showtimes – Doors 1 p.m.\, Concert 2 p.m.\, Doors 6 p.m.\, Concert 7 p.m.  \nSunday\, Dec. 14: Doors 1 p.m.\, Concert 2 p.m.  \nBuckle up for the ultimate holiday adventure as we take you on a musical road trip across America! In this one-of-a-kind holiday spectacular\, your Reno Phil Orchestra & Chorus\, along with special guest performers\, bring the sounds of the holidays from every corner of the United States to life. From the bright lights of New York to the sunny shores of California\, our country’s unique holiday spirit is captured in a symphonic celebration that’s sure to dazzle. This family friendly event promises something for everyone. It’s the perfect way to kick off your holiday season\, start a new tradition\, and create lasting memories with loved ones. Join us for an unforgettable journey across America—where the magic of the holidays and the beauty of our nation come together in perfect harmony! \nTicket Information: \nClassix Subscriber Pre-sale begins Sept. 5 at 10 a.m.. Tickets on Sale Sept. 10 at 10 a.m. For more information\, including how to subscribe to Classix\, visit https://renophil.com/spirit-of-the-season.
URL:https://create.vegas/event/spirit-of-the-season-a-very-merry-road-trip-holidays-across-america-3/
LOCATION:Pioneer Center for the Performing Arts\, 100 South Virginia Street\, Reno\, 89501\, United States
CATEGORIES:Performing,Performing Arts
ATTACH;FMTTYPE=image/jpeg:https://create.vegas/wp-content/uploads/2025/11/Spirit-Large-fAoe7r.jpg
ORGANIZER;CN="The Reno Phil":MAILTO:renophil@renophil.com
END:VEVENT
BEGIN:VEVENT
DTSTART;TZID=America/Los_Angeles:20251213T130000
DTEND;TZID=America/Los_Angeles:20251213T170000
DTSTAMP:20260422T223012
CREATED:20251126T222611Z
LAST-MODIFIED:20251126T222611Z
UID:10031637-1765630800-1765645200@create.vegas
SUMMARY:Spirit of the Season | A Very Merry Road Trip: Holidays Across America
DESCRIPTION:SHOWTIMES: \nFriday\, Dec. 12: Doors 6 p.m.\, Concert 7 p.m.  \nSaturday\, Dec. 13: Two showtimes – Doors 1 p.m.\, Concert 2 p.m.\, Doors 6 p.m.\, Concert 7 p.m.  \nSunday\, Dec. 14: Doors 1 p.m.\, Concert 2 p.m.  \nBuckle up for the ultimate holiday adventure as we take you on a musical road trip across America! In this one-of-a-kind holiday spectacular\, your Reno Phil Orchestra & Chorus\, along with special guest performers\, bring the sounds of the holidays from every corner of the United States to life. From the bright lights of New York to the sunny shores of California\, our country’s unique holiday spirit is captured in a symphonic celebration that’s sure to dazzle. This family friendly event promises something for everyone. It’s the perfect way to kick off your holiday season\, start a new tradition\, and create lasting memories with loved ones. Join us for an unforgettable journey across America—where the magic of the holidays and the beauty of our nation come together in perfect harmony! \nTicket Information: \nClassix Subscriber Pre-sale begins Sept. 5 at 10 a.m.. Tickets on Sale Sept. 10 at 10 a.m. For more information\, including how to subscribe to Classix\, visit https://renophil.com/spirit-of-the-season.
URL:https://create.vegas/event/spirit-of-the-season-a-very-merry-road-trip-holidays-across-america-2/
LOCATION:Pioneer Center for the Performing Arts\, 100 South Virginia Street\, Reno\, 89501\, United States
CATEGORIES:Performing,Performing Arts
ATTACH;FMTTYPE=image/jpeg:https://create.vegas/wp-content/uploads/2025/11/Spirit-Large-fAoe7r.jpg
ORGANIZER;CN="The Reno Phil":MAILTO:renophil@renophil.com
END:VEVENT
BEGIN:VEVENT
DTSTART;TZID=America/Los_Angeles:20251212T180000
DTEND;TZID=America/Los_Angeles:20251212T220000
DTSTAMP:20260422T223012
CREATED:20251126T222609Z
LAST-MODIFIED:20251126T222609Z
UID:10031633-1765562400-1765576800@create.vegas
SUMMARY:Spirit of the Season | A Very Merry Road Trip: Holidays Across America
DESCRIPTION:SHOWTIMES: \nFriday\, Dec. 12: Doors 6 p.m.\, Concert 7 p.m.  \nSaturday\, Dec. 13: Two showtimes – Doors 1 p.m.\, Concert 2 p.m.\, Doors 6 p.m.\, Concert 7 p.m.  \nSunday\, Dec. 14: Doors 1 p.m.\, Concert 2 p.m.  \nBuckle up for the ultimate holiday adventure as we take you on a musical road trip across America! In this one-of-a-kind holiday spectacular\, your Reno Phil Orchestra & Chorus\, along with special guest performers\, bring the sounds of the holidays from every corner of the United States to life. From the bright lights of New York to the sunny shores of California\, our country’s unique holiday spirit is captured in a symphonic celebration that’s sure to dazzle. This family friendly event promises something for everyone. It’s the perfect way to kick off your holiday season\, start a new tradition\, and create lasting memories with loved ones. Join us for an unforgettable journey across America—where the magic of the holidays and the beauty of our nation come together in perfect harmony! \nTicket Information: \nClassix Subscriber Pre-sale begins Sept. 5 at 10 a.m.. Tickets on Sale Sept. 10 at 10 a.m. For more information\, including how to subscribe to Classix\, visit https://renophil.com/spirit-of-the-season.
URL:https://create.vegas/event/spirit-of-the-season-a-very-merry-road-trip-holidays-across-america/
LOCATION:Pioneer Center for the Performing Arts\, 100 South Virginia Street\, Reno\, 89501\, United States
CATEGORIES:Performing,Performing Arts
ATTACH;FMTTYPE=image/jpeg:https://create.vegas/wp-content/uploads/2025/11/Spirit-Large-fAoe7r.jpg
ORGANIZER;CN="The Reno Phil":MAILTO:renophil@renophil.com
END:VEVENT
BEGIN:VEVENT
DTSTART;TZID=America/Los_Angeles:20251109T143000
DTEND;TZID=America/Los_Angeles:20251109T183000
DTSTAMP:20260422T223012
CREATED:20251106T201334Z
LAST-MODIFIED:20251106T201334Z
UID:10030857-1762698600-1762713000@create.vegas
SUMMARY:Classix Series | John Williams and Sibelius
DESCRIPTION:SHOWTIMES: \nSaturday\, Nov. 8: Doors 6 p.m.\, Concert 7:30 p.m.  \nSunday\, Nov. 9: Doors 2:30 p.m.\, Concert 4 p.m.  \nCatch us if you can! The Reno Phil embarks on a thrilling pursuit of adventure\, weaving together bold contemporary voices and timeless orchestral grandeur. Tennison Watts and Timothy McAllister ignite the stage with John Williams’ Escapades\, a jazzy\, high-energy ride brimming with playfulness and intrigue. Zhou Tian’s Transcend\, commissioned by the Reno Phil to mark the 150th anniversary of the completion of the Transcontinental Railroad\, soars with luminous textures and unyielding spirit\, capturing the boundless ambition of human ingenuity. Anchoring the journey\, Sibelius’ majestic Symphony No. 2 unfolds like a vast Nordic landscape – achingly beautiful & bracingly powerful – culminating in a triumphant finale that surges with hope and resilience.   \nON THE PROGRAM  \nZhou Tian Transcend\nJohn Williams Escapades for Alto Sax and Vibraphone  \nJean Sibelius Symphony No. 2 op. 43 in D Major    \nTICKET INFORMATION  \nTickets for 2025-26 Classix Series concerts at the Pioneer Center for the Performing Arts can only be purchased at this time as part of a Classix 6-concert subscription package. Single tickets for the 2025-2026 Season go on sale Aug. 4\, 2025 at 10 a.m. For information on group rates\, or other ticket discounts\, please visit the Reno Phil Ticket Information Site at renophil.com/ticket-info. 
URL:https://create.vegas/event/classix-series-john-williams-and-sibelius-2/
LOCATION:Pioneer Center for the Performing Arts\, 100 South Virginia Street\, Reno\, 89501\, United States
CATEGORIES:Performing Arts
ATTACH;FMTTYPE=image/jpeg:https://create.vegas/wp-content/uploads/2025/11/Classix-Large-S4xjpW.jpg
ORGANIZER;CN="The Reno Phil":MAILTO:renophil@renophil.com
END:VEVENT
BEGIN:VEVENT
DTSTART;TZID=America/Los_Angeles:20251108T180000
DTEND;TZID=America/Los_Angeles:20251108T220000
DTSTAMP:20260422T223012
CREATED:20251106T201330Z
LAST-MODIFIED:20251106T201330Z
UID:10030852-1762624800-1762639200@create.vegas
SUMMARY:Classix Series | John Williams and Sibelius
DESCRIPTION:SHOWTIMES: \nSaturday\, Nov. 8: Doors 6 p.m.\, Concert 7:30 p.m.  \nSunday\, Nov. 9: Doors 2:30 p.m.\, Concert 4 p.m.  \nCatch us if you can! The Reno Phil embarks on a thrilling pursuit of adventure\, weaving together bold contemporary voices and timeless orchestral grandeur. Tennison Watts and Timothy McAllister ignite the stage with John Williams’ Escapades\, a jazzy\, high-energy ride brimming with playfulness and intrigue. Zhou Tian’s Transcend\, commissioned by the Reno Phil to mark the 150th anniversary of the completion of the Transcontinental Railroad\, soars with luminous textures and unyielding spirit\, capturing the boundless ambition of human ingenuity. Anchoring the journey\, Sibelius’ majestic Symphony No. 2 unfolds like a vast Nordic landscape – achingly beautiful & bracingly powerful – culminating in a triumphant finale that surges with hope and resilience.   \nON THE PROGRAM  \nZhou Tian Transcend\nJohn Williams Escapades for Alto Sax and Vibraphone  \nJean Sibelius Symphony No. 2 op. 43 in D Major    \nTICKET INFORMATION  \nTickets for 2025-26 Classix Series concerts at the Pioneer Center for the Performing Arts can only be purchased at this time as part of a Classix 6-concert subscription package. Single tickets for the 2025-2026 Season go on sale Aug. 4\, 2025 at 10 a.m. For information on group rates\, or other ticket discounts\, please visit the Reno Phil Ticket Information Site at renophil.com/ticket-info. 
URL:https://create.vegas/event/classix-series-john-williams-and-sibelius/
LOCATION:Pioneer Center for the Performing Arts\, 100 South Virginia Street\, Reno\, 89501\, United States
CATEGORIES:Performing Arts
ATTACH;FMTTYPE=image/jpeg:https://create.vegas/wp-content/uploads/2025/11/Classix-Large-S4xjpW.jpg
ORGANIZER;CN="The Reno Phil":MAILTO:renophil@renophil.com
END:VEVENT
END:VCALENDAR