BEGIN:VCALENDAR
VERSION:2.0
PRODID:-//Create.Vegas - ECPv6.15.20//NONSGML v1.0//EN
CALSCALE:GREGORIAN
METHOD:PUBLISH
X-WR-CALNAME:Create.Vegas
X-ORIGINAL-URL:https://create.vegas
X-WR-CALDESC:Events for Create.Vegas
REFRESH-INTERVAL;VALUE=DURATION:PT1H
X-Robots-Tag:noindex
X-PUBLISHED-TTL:PT1H
BEGIN:VTIMEZONE
TZID:America/Los_Angeles
BEGIN:DAYLIGHT
TZOFFSETFROM:-0800
TZOFFSETTO:-0700
TZNAME:PDT
DTSTART:20240310T100000
END:DAYLIGHT
BEGIN:STANDARD
TZOFFSETFROM:-0700
TZOFFSETTO:-0800
TZNAME:PST
DTSTART:20241103T090000
END:STANDARD
BEGIN:DAYLIGHT
TZOFFSETFROM:-0800
TZOFFSETTO:-0700
TZNAME:PDT
DTSTART:20250309T100000
END:DAYLIGHT
BEGIN:STANDARD
TZOFFSETFROM:-0700
TZOFFSETTO:-0800
TZNAME:PST
DTSTART:20251102T090000
END:STANDARD
BEGIN:DAYLIGHT
TZOFFSETFROM:-0800
TZOFFSETTO:-0700
TZNAME:PDT
DTSTART:20260308T100000
END:DAYLIGHT
BEGIN:STANDARD
TZOFFSETFROM:-0700
TZOFFSETTO:-0800
TZNAME:PST
DTSTART:20261101T090000
END:STANDARD
END:VTIMEZONE
BEGIN:VEVENT
DTSTART;TZID=America/Los_Angeles:20251109T070000
DTEND;TZID=America/Los_Angeles:20251109T190000
DTSTAMP:20260422T223640
CREATED:20251106T201333Z
LAST-MODIFIED:20251106T201333Z
UID:10030854-1762671600-1762714800@create.vegas
SUMMARY:Peso Neto
DESCRIPTION:Peso Neto by Luis Valera-Rico is reminiscent of an ofrenda or altar utilized during Día de los Muertos (Day of the Dead). The large-scale steel sculpture pays homage to Mexico’s rich heritage and is a celebration of Mexican-indigenous and Spanish colonial architecture. \nThis public art exhibition is a collaboration between the City of Henderson and Nevada State University’s Office for the Arts and Thalia Dondero Gallery. \nPeso Neto is on view from dawn to dusk in the Plaza at Nevada State University from Oct. 20\, 2025–Nov. 9\, 2025. Keep yourselves and the sculpture safe. Please do not climb. \nSculpture Location: Peso Neto is on view on the plaza in front of the Rogers Student Center.
URL:https://create.vegas/event/peso-neto-4/
LOCATION:Nevada State University\, 1300 Nevada State Drive\, Henderson\, NV\, 89002\, United States
CATEGORIES:Exhibit,Performing Arts
ATTACH;FMTTYPE=image/jpeg:https://create.vegas/wp-content/uploads/2025/11/Media-RMHaSS.jpg
END:VEVENT
BEGIN:VEVENT
DTSTART;TZID=America/Los_Angeles:20251108T070000
DTEND;TZID=America/Los_Angeles:20251108T190000
DTSTAMP:20260422T223640
CREATED:20251106T201329Z
LAST-MODIFIED:20251106T201329Z
UID:10030849-1762585200-1762628400@create.vegas
SUMMARY:Peso Neto
DESCRIPTION:Peso Neto by Luis Valera-Rico is reminiscent of an ofrenda or altar utilized during Día de los Muertos (Day of the Dead). The large-scale steel sculpture pays homage to Mexico’s rich heritage and is a celebration of Mexican-indigenous and Spanish colonial architecture. \nThis public art exhibition is a collaboration between the City of Henderson and Nevada State University’s Office for the Arts and Thalia Dondero Gallery. \nPeso Neto is on view from dawn to dusk in the Plaza at Nevada State University from Oct. 20\, 2025–Nov. 9\, 2025. Keep yourselves and the sculpture safe. Please do not climb. \nSculpture Location: Peso Neto is on view on the plaza in front of the Rogers Student Center.
URL:https://create.vegas/event/peso-neto-3/
LOCATION:Nevada State University\, 1300 Nevada State Drive\, Henderson\, NV\, 89002\, United States
CATEGORIES:Exhibit,Performing Arts
ATTACH;FMTTYPE=image/jpeg:https://create.vegas/wp-content/uploads/2025/11/Media-RMHaSS.jpg
END:VEVENT
BEGIN:VEVENT
DTSTART;TZID=America/Los_Angeles:20251107T070000
DTEND;TZID=America/Los_Angeles:20251107T190000
DTSTAMP:20260422T223640
CREATED:20251106T201321Z
LAST-MODIFIED:20251106T201321Z
UID:10030842-1762498800-1762542000@create.vegas
SUMMARY:Peso Neto
DESCRIPTION:Peso Neto by Luis Valera-Rico is reminiscent of an ofrenda or altar utilized during Día de los Muertos (Day of the Dead). The large-scale steel sculpture pays homage to Mexico’s rich heritage and is a celebration of Mexican-indigenous and Spanish colonial architecture. \nThis public art exhibition is a collaboration between the City of Henderson and Nevada State University’s Office for the Arts and Thalia Dondero Gallery. \nPeso Neto is on view from dawn to dusk in the Plaza at Nevada State University from Oct. 20\, 2025–Nov. 9\, 2025. Keep yourselves and the sculpture safe. Please do not climb. \nSculpture Location: Peso Neto is on view on the plaza in front of the Rogers Student Center.
URL:https://create.vegas/event/peso-neto-2/
LOCATION:Nevada State University\, 1300 Nevada State Drive\, Henderson\, NV\, 89002\, United States
CATEGORIES:Exhibit,Performing Arts
ATTACH;FMTTYPE=image/jpeg:https://create.vegas/wp-content/uploads/2025/11/Media-RMHaSS.jpg
END:VEVENT
BEGIN:VEVENT
DTSTART;TZID=America/Los_Angeles:20251106T070000
DTEND;TZID=America/Los_Angeles:20251106T190000
DTSTAMP:20260422T223640
CREATED:20251106T201303Z
LAST-MODIFIED:20251106T201303Z
UID:10030832-1762412400-1762455600@create.vegas
SUMMARY:Peso Neto
DESCRIPTION:Peso Neto by Luis Valera-Rico is reminiscent of an ofrenda or altar utilized during Día de los Muertos (Day of the Dead). The large-scale steel sculpture pays homage to Mexico’s rich heritage and is a celebration of Mexican-indigenous and Spanish colonial architecture. \nThis public art exhibition is a collaboration between the City of Henderson and Nevada State University’s Office for the Arts and Thalia Dondero Gallery. \nPeso Neto is on view from dawn to dusk in the Plaza at Nevada State University from Oct. 20\, 2025–Nov. 9\, 2025. Keep yourselves and the sculpture safe. Please do not climb. \nSculpture Location: Peso Neto is on view on the plaza in front of the Rogers Student Center.
URL:https://create.vegas/event/peso-neto/
LOCATION:Nevada State University\, 1300 Nevada State Drive\, Henderson\, NV\, 89002\, United States
CATEGORIES:Exhibit,Performing Arts
ATTACH;FMTTYPE=image/jpeg:https://create.vegas/wp-content/uploads/2025/11/Media-RMHaSS.jpg
END:VEVENT
END:VCALENDAR