BEGIN:VCALENDAR
VERSION:2.0
PRODID:-//Create.Vegas - ECPv6.15.20//NONSGML v1.0//EN
CALSCALE:GREGORIAN
METHOD:PUBLISH
X-WR-CALNAME:Create.Vegas
X-ORIGINAL-URL:https://create.vegas
X-WR-CALDESC:Events for Create.Vegas
REFRESH-INTERVAL;VALUE=DURATION:PT1H
X-Robots-Tag:noindex
X-PUBLISHED-TTL:PT1H
BEGIN:VTIMEZONE
TZID:America/Los_Angeles
BEGIN:DAYLIGHT
TZOFFSETFROM:-0800
TZOFFSETTO:-0700
TZNAME:PDT
DTSTART:20240310T100000
END:DAYLIGHT
BEGIN:STANDARD
TZOFFSETFROM:-0700
TZOFFSETTO:-0800
TZNAME:PST
DTSTART:20241103T090000
END:STANDARD
BEGIN:DAYLIGHT
TZOFFSETFROM:-0800
TZOFFSETTO:-0700
TZNAME:PDT
DTSTART:20250309T100000
END:DAYLIGHT
BEGIN:STANDARD
TZOFFSETFROM:-0700
TZOFFSETTO:-0800
TZNAME:PST
DTSTART:20251102T090000
END:STANDARD
BEGIN:DAYLIGHT
TZOFFSETFROM:-0800
TZOFFSETTO:-0700
TZNAME:PDT
DTSTART:20260308T100000
END:DAYLIGHT
BEGIN:STANDARD
TZOFFSETFROM:-0700
TZOFFSETTO:-0800
TZNAME:PST
DTSTART:20261101T090000
END:STANDARD
BEGIN:DAYLIGHT
TZOFFSETFROM:-0800
TZOFFSETTO:-0700
TZNAME:PDT
DTSTART:20270314T100000
END:DAYLIGHT
BEGIN:STANDARD
TZOFFSETFROM:-0700
TZOFFSETTO:-0800
TZNAME:PST
DTSTART:20271107T090000
END:STANDARD
END:VTIMEZONE
BEGIN:VEVENT
DTSTART;TZID=America/Los_Angeles:20260124T180000
DTEND;TZID=America/Los_Angeles:20260124T220000
DTSTAMP:20260423T132313
CREATED:20251215T001940Z
LAST-MODIFIED:20251215T001940Z
UID:10032104-1769277600-1769292000@create.vegas
SUMMARY:Ace's Las Vegas Old School Party at Maxan Jazz
DESCRIPTION:Join us at Maxan Jazz for a throwback night of old school jams at Ace’s Las Vegas Old School Party!\n\n\nWelcome to Ace’s Las Vegas Old School Party at Maxan Jazz! Get ready to groove to the classic tunes of the past in a vibrant and lively atmosphere. Join us for a night filled with nostalgia\, great music\, and fantastic company. Come dressed in your best retro attire and dance the night away. Don’t miss out on this epic event that will transport you back in time to the golden age of music. See you there!
URL:https://create.vegas/event/aces-las-vegas-old-school-party-at-maxan-jazz-2/
LOCATION:Maxan Jazz\, 4130 South Decatur Boulevard\, Las Vegas\, NV\, 89103\, United States
CATEGORIES:Jazz & Blues
ATTACH;FMTTYPE=image/jpeg:https://create.vegas/wp-content/uploads/2025/12/e3295ff9819ecfe40b766a14385444c2.jpg
END:VEVENT
BEGIN:VEVENT
DTSTART;TZID=America/Los_Angeles:20260124T180000
DTEND;TZID=America/Los_Angeles:20260124T220000
DTSTAMP:20260423T132313
CREATED:20251215T001940Z
LAST-MODIFIED:20251215T001940Z
UID:10032105-1769277600-1769292000@create.vegas
SUMMARY:Sassy performs at Ace's Las Vegas Old School Party at Maxan Jazz
DESCRIPTION:Join us at Maxan Jazz for a throwback night of old school jams at Ace’s Las Vegas Old School Party!\n\n\nWelcome to Ace’s Las Vegas Old School Party at Maxan Jazz! Get ready to groove to the classic tunes of the past in a vibrant and lively atmosphere. Join us for a night filled with nostalgia\, great music\, and fantastic company. Come dressed in your best retro attire and dance the night away. Don’t miss out on this epic event that will transport you back in time to the golden age of music. See you there!
URL:https://create.vegas/event/sassy-performs-at-aces-las-vegas-old-school-party-at-maxan-jazz/
LOCATION:Maxan Jazz\, 4130 South Decatur Boulevard\, Las Vegas\, NV\, 89103\, United States
CATEGORIES:Jazz & Blues
ATTACH;FMTTYPE=image/jpeg:https://create.vegas/wp-content/uploads/2025/12/dcc27f31c40bba31783ccb598eb66607.jpg
END:VEVENT
BEGIN:VEVENT
DTSTART;TZID=America/Los_Angeles:20251227T180000
DTEND;TZID=America/Los_Angeles:20251230T220000
DTSTAMP:20260423T132313
CREATED:20251215T001936Z
LAST-MODIFIED:20251215T001936Z
UID:10032098-1766858400-1767132000@create.vegas
SUMMARY:Paul Gregory VIP guest Ace's Las Vegas Old School Party at Maxan Jazz
DESCRIPTION:Join us at Maxan Jazz for a throwback night of old school jams at Ace’s Las Vegas Old School Party!\n\n\nWelcome to Ace’s Las Vegas Old School Party at Maxan Jazz! Get ready to groove to the classic tunes of the past in a vibrant and lively atmosphere. Join us for a night filled with nostalgia\, great music\, and fantastic company. Come dressed in your best retro attire and dance the night away. Don’t miss out on this epic event that will transport you back in time to the golden age of music. See you there!
URL:https://create.vegas/event/paul-gregory-vip-guest-aces-las-vegas-old-school-party-at-maxan-jazz/
LOCATION:Maxan Jazz\, 4130 South Decatur Boulevard\, Las Vegas\, NV\, 89103\, United States
CATEGORIES:Jazz & Blues
ATTACH;FMTTYPE=image/jpeg:https://create.vegas/wp-content/uploads/2025/12/abb8cd669491c832ce3f1779dda5b256.jpg
END:VEVENT
BEGIN:VEVENT
DTSTART;TZID=America/Los_Angeles:20251227T180000
DTEND;TZID=America/Los_Angeles:20251227T220000
DTSTAMP:20260423T132313
CREATED:20251215T001940Z
LAST-MODIFIED:20251215T001940Z
UID:10032103-1766858400-1766872800@create.vegas
SUMMARY:R. Gregory Sablan's  VIP guest Ace's Las Vegas Old School Party
DESCRIPTION:Join us at Maxan Jazz for a throwback night of old school jams at Ace’s Las Vegas Old School Party!\n\n\nWelcome to Ace’s Las Vegas Old School Party at Maxan Jazz! Get ready to groove to the classic tunes of the past in a vibrant and lively atmosphere. Join us for a night filled with nostalgia\, great music\, and fantastic company. Come dressed in your best retro attire and dance the night away. Don’t miss out on this epic event that will transport you back in time to the golden age of music. See you there!
URL:https://create.vegas/event/r-gregory-sablans-vip-guest-aces-las-vegas-old-school-party/
LOCATION:Maxan Jazz\, 4130 South Decatur Boulevard\, Las Vegas\, NV\, 89103\, United States
CATEGORIES:Jazz & Blues
ATTACH;FMTTYPE=image/jpeg:https://create.vegas/wp-content/uploads/2025/12/e3295ff9819ecfe40b766a14385444c2.jpg
END:VEVENT
BEGIN:VEVENT
DTSTART;TZID=America/Los_Angeles:20251227T180000
DTEND;TZID=America/Los_Angeles:20251227T220000
DTSTAMP:20260423T132313
CREATED:20251215T001939Z
LAST-MODIFIED:20251215T001939Z
UID:10032101-1766858400-1766872800@create.vegas
SUMMARY:Aaron Michaels VIP guestlist Ace's Las Vegas Old School Party at Maxan Jazz
DESCRIPTION:Join us at Maxan Jazz for a throwback night of old school jams at Ace’s Las Vegas Old School Party!\n\n\nWelcome to Ace’s Las Vegas Old School Party at Maxan Jazz! Get ready to groove to the classic tunes of the past in a vibrant and lively atmosphere. Join us for a night filled with nostalgia\, great music\, and fantastic company. Come dressed in your best retro attire and dance the night away. Don’t miss out on this epic event that will transport you back in time to the golden age of music. See you there!
URL:https://create.vegas/event/aaron-michaels-vip-guestlist-aces-las-vegas-old-school-party-at-maxan-jazz/
LOCATION:Maxan Jazz\, 4130 South Decatur Boulevard\, Las Vegas\, NV\, 89103\, United States
CATEGORIES:Jazz & Blues
ATTACH;FMTTYPE=image/jpeg:https://create.vegas/wp-content/uploads/2025/12/e3295ff9819ecfe40b766a14385444c2.jpg
END:VEVENT
BEGIN:VEVENT
DTSTART;TZID=America/Los_Angeles:20251227T180000
DTEND;TZID=America/Los_Angeles:20251227T220000
DTSTAMP:20260423T132313
CREATED:20251215T001939Z
LAST-MODIFIED:20251215T001939Z
UID:10032102-1766858400-1766872800@create.vegas
SUMMARY:Alex Belandres VIP guest  at Ace's Las Vegas Old School Party at Maxan Jazz
DESCRIPTION:Join us at Maxan Jazz for a throwback night of old school jams at Ace’s Las Vegas Old School Party!\n\n\nWelcome to Ace’s Las Vegas Old School Party at Maxan Jazz! Get ready to groove to the classic tunes of the past in a vibrant and lively atmosphere. Join us for a night filled with nostalgia\, great music\, and fantastic company. Come dressed in your best retro attire and dance the night away. Don’t miss out on this epic event that will transport you back in time to the golden age of music. See you there!
URL:https://create.vegas/event/alex-belandres-vip-guest-at-aces-las-vegas-old-school-party-at-maxan-jazz/
LOCATION:Maxan Jazz\, 4130 South Decatur Boulevard\, Las Vegas\, NV\, 89103\, United States
CATEGORIES:Jazz & Blues
ATTACH;FMTTYPE=image/jpeg:https://create.vegas/wp-content/uploads/2025/12/e3295ff9819ecfe40b766a14385444c2.jpg
END:VEVENT
BEGIN:VEVENT
DTSTART;TZID=America/Los_Angeles:20251227T180000
DTEND;TZID=America/Los_Angeles:20251227T220000
DTSTAMP:20260423T132313
CREATED:20251215T001939Z
LAST-MODIFIED:20251215T001939Z
UID:10032100-1766858400-1766872800@create.vegas
SUMMARY:Jeff Medina's VIP guestlist Ace's Las Vegas Old School Party at Maxan Jazz
DESCRIPTION:Join us at Maxan Jazz for a throwback night of old school jams at Ace’s Las Vegas Old School Party!\n\n\nWelcome to Ace’s Las Vegas Old School Party at Maxan Jazz! Get ready to groove to the classic tunes of the past in a vibrant and lively atmosphere. Join us for a night filled with nostalgia\, great music\, and fantastic company. Come dressed in your best retro attire and dance the night away. Don’t miss out on this epic event that will transport you back in time to the golden age of music. See you there!
URL:https://create.vegas/event/jeff-medinas-vip-guestlist-aces-las-vegas-old-school-party-at-maxan-jazz/
LOCATION:Maxan Jazz\, 4130 South Decatur Boulevard\, Las Vegas\, NV\, 89103\, United States
CATEGORIES:Jazz & Blues
ATTACH;FMTTYPE=image/jpeg:https://create.vegas/wp-content/uploads/2025/12/e3295ff9819ecfe40b766a14385444c2.jpg
END:VEVENT
BEGIN:VEVENT
DTSTART;TZID=America/Los_Angeles:20251227T180000
DTEND;TZID=America/Los_Angeles:20251227T220000
DTSTAMP:20260423T132313
CREATED:20251215T001933Z
LAST-MODIFIED:20251215T001933Z
UID:10032096-1766858400-1766872800@create.vegas
SUMMARY:Ace's Las Vegas Old School Party at Maxan Jazz
DESCRIPTION:Join us at Maxan Jazz for a throwback night of old school jams at Ace’s Las Vegas Old School Party!\n\n\nWelcome to Ace’s Las Vegas Old School Party at Maxan Jazz! Get ready to groove to the classic tunes of the past in a vibrant and lively atmosphere. Join us for a night filled with nostalgia\, great music\, and fantastic company. Come dressed in your best retro attire and dance the night away. Don’t miss out on this epic event that will transport you back in time to the golden age of music. See you there!
URL:https://create.vegas/event/aces-las-vegas-old-school-party-at-maxan-jazz/
LOCATION:Maxan Jazz\, 4130 South Decatur Boulevard\, Las Vegas\, NV\, 89103\, United States
CATEGORIES:Jazz & Blues
ATTACH;FMTTYPE=image/jpeg:https://create.vegas/wp-content/uploads/2025/12/e3295ff9819ecfe40b766a14385444c2.jpg
END:VEVENT
BEGIN:VEVENT
DTSTART;TZID=America/Los_Angeles:20251227T173000
DTEND;TZID=America/Los_Angeles:20251227T220000
DTSTAMP:20260423T132313
CREATED:20251215T001930Z
LAST-MODIFIED:20251215T001930Z
UID:10032094-1766856600-1766872800@create.vegas
SUMMARY:Crystal performs at  Ace's Las Vegas Old School Party
DESCRIPTION:Join us at Maxan Jazz for a throwback night of old school jams at Ace’s Las Vegas Old School Party!\n\n\nCrystal Santos is a 13-year-old Las Vegas singer and actress with a big voice and an even bigger passion for music! She released her debut single “My Mirror” and has two new songs coming up. Crystal has performed in Las Vegas\, Chicago\, New York\, and LA\, and is the lead singer of the teen band No Off Switch. From musicals to national anthem performances\, Crystal shines wherever she sings! \nWelcome to Ace’s Las Vegas Old School Party at Maxan Jazz! Get ready to groove to the classic tunes of the past in a vibrant and lively atmosphere. Join us for a night filled with nostalgia\, great music\, and fantastic company. Come dressed in your best retro attire and dance the night away. Don’t miss out on this epic event that will transport you back in time to the golden age of music. See you there!
URL:https://create.vegas/event/crystal-performs-at-aces-las-vegas-old-school-party/
LOCATION:Maxan Jazz\, 4130 South Decatur Boulevard\, Las Vegas\, NV\, 89103\, United States
CATEGORIES:Jazz & Blues
ATTACH;FMTTYPE=image/jpeg:https://create.vegas/wp-content/uploads/2025/12/2adc00120d82d3168771bbc7f3d0a275.jpg
END:VEVENT
END:VCALENDAR