BEGIN:VCALENDAR
VERSION:2.0
PRODID:-//Create.Vegas - ECPv6.15.20//NONSGML v1.0//EN
CALSCALE:GREGORIAN
METHOD:PUBLISH
X-ORIGINAL-URL:https://create.vegas
X-WR-CALDESC:Events for Create.Vegas
REFRESH-INTERVAL;VALUE=DURATION:PT1H
X-Robots-Tag:noindex
X-PUBLISHED-TTL:PT1H
BEGIN:VTIMEZONE
TZID:America/Los_Angeles
BEGIN:DAYLIGHT
TZOFFSETFROM:-0800
TZOFFSETTO:-0700
TZNAME:PDT
DTSTART:20250309T100000
END:DAYLIGHT
BEGIN:STANDARD
TZOFFSETFROM:-0700
TZOFFSETTO:-0800
TZNAME:PST
DTSTART:20251102T090000
END:STANDARD
BEGIN:DAYLIGHT
TZOFFSETFROM:-0800
TZOFFSETTO:-0700
TZNAME:PDT
DTSTART:20260308T100000
END:DAYLIGHT
BEGIN:STANDARD
TZOFFSETFROM:-0700
TZOFFSETTO:-0800
TZNAME:PST
DTSTART:20261101T090000
END:STANDARD
BEGIN:DAYLIGHT
TZOFFSETFROM:-0800
TZOFFSETTO:-0700
TZNAME:PDT
DTSTART:20270314T100000
END:DAYLIGHT
BEGIN:STANDARD
TZOFFSETFROM:-0700
TZOFFSETTO:-0800
TZNAME:PST
DTSTART:20271107T090000
END:STANDARD
END:VTIMEZONE
BEGIN:VEVENT
DTSTART;TZID=America/Los_Angeles:20260522T113000
DTEND;TZID=America/Los_Angeles:20260522T170000
DTSTAMP:20260421T110644
CREATED:20251107T024746Z
LAST-MODIFIED:20260417T065054Z
UID:10031067-1779449400-1779469200@create.vegas
SUMMARY:Las Vegas Pool Crawl
DESCRIPTION:Party at the best pool parties in Las Vegas this summer!
URL:https://create.vegas/event/las-vegas-pool-crawl-210/
LOCATION:Las Vegas Strip\, TBA\, Las Vegas\, NV\, 89109\, United States
CATEGORIES:Food & Drink & Fun
ATTACH;FMTTYPE=image/jpeg:https://create.vegas/wp-content/uploads/2025/09/e51a000afcf0608166fb2e5b19d6d060.jpg
END:VEVENT
BEGIN:VEVENT
DTSTART;TZID=America/Los_Angeles:20260523T113000
DTEND;TZID=America/Los_Angeles:20260523T170000
DTSTAMP:20260421T110644
CREATED:20251107T024746Z
LAST-MODIFIED:20260417T065054Z
UID:10031068-1779535800-1779555600@create.vegas
SUMMARY:Las Vegas Pool Crawl
DESCRIPTION:Party at the best pool parties in Las Vegas this summer!
URL:https://create.vegas/event/las-vegas-pool-crawl-211/
LOCATION:Las Vegas Strip\, TBA\, Las Vegas\, NV\, 89109\, United States
CATEGORIES:Food & Drink & Fun
ATTACH;FMTTYPE=image/jpeg:https://create.vegas/wp-content/uploads/2025/09/e51a000afcf0608166fb2e5b19d6d060.jpg
END:VEVENT
BEGIN:VEVENT
DTSTART;TZID=America/Los_Angeles:20260524T113000
DTEND;TZID=America/Los_Angeles:20260524T170000
DTSTAMP:20260421T110644
CREATED:20251107T024746Z
LAST-MODIFIED:20260417T065054Z
UID:10031069-1779622200-1779642000@create.vegas
SUMMARY:Las Vegas Pool Crawl
DESCRIPTION:Party at the best pool parties in Las Vegas this summer!
URL:https://create.vegas/event/las-vegas-pool-crawl-212/
LOCATION:Las Vegas Strip\, TBA\, Las Vegas\, NV\, 89109\, United States
CATEGORIES:Food & Drink & Fun
ATTACH;FMTTYPE=image/jpeg:https://create.vegas/wp-content/uploads/2025/09/e51a000afcf0608166fb2e5b19d6d060.jpg
END:VEVENT
BEGIN:VEVENT
DTSTART;TZID=America/Los_Angeles:20260525T113000
DTEND;TZID=America/Los_Angeles:20260525T170000
DTSTAMP:20260421T110644
CREATED:20251128T023539Z
LAST-MODIFIED:20260417T065055Z
UID:10031793-1779708600-1779728400@create.vegas
SUMMARY:Las Vegas Pool Crawl
DESCRIPTION:Party at the best pool parties in Las Vegas this summer!
URL:https://create.vegas/event/las-vegas-pool-crawl-236/
LOCATION:Las Vegas Strip\, TBA\, Las Vegas\, NV\, 89109\, United States
CATEGORIES:Food & Drink & Fun
ATTACH;FMTTYPE=image/jpeg:https://create.vegas/wp-content/uploads/2025/09/e51a000afcf0608166fb2e5b19d6d060.jpg
END:VEVENT
BEGIN:VEVENT
DTSTART;TZID=America/Los_Angeles:20260529T113000
DTEND;TZID=America/Los_Angeles:20260529T170000
DTSTAMP:20260421T110644
CREATED:20251107T024747Z
LAST-MODIFIED:20260417T065055Z
UID:10031070-1780054200-1780074000@create.vegas
SUMMARY:Las Vegas Pool Crawl
DESCRIPTION:Party at the best pool parties in Las Vegas this summer!
URL:https://create.vegas/event/las-vegas-pool-crawl-213/
LOCATION:Las Vegas Strip\, TBA\, Las Vegas\, NV\, 89109\, United States
CATEGORIES:Food & Drink & Fun
ATTACH;FMTTYPE=image/jpeg:https://create.vegas/wp-content/uploads/2025/09/e51a000afcf0608166fb2e5b19d6d060.jpg
END:VEVENT
BEGIN:VEVENT
DTSTART;TZID=America/Los_Angeles:20260530T113000
DTEND;TZID=America/Los_Angeles:20260530T170000
DTSTAMP:20260421T110644
CREATED:20251107T024747Z
LAST-MODIFIED:20260417T065055Z
UID:10031071-1780140600-1780160400@create.vegas
SUMMARY:Las Vegas Pool Crawl
DESCRIPTION:Party at the best pool parties in Las Vegas this summer!
URL:https://create.vegas/event/las-vegas-pool-crawl-214/
LOCATION:Las Vegas Strip\, TBA\, Las Vegas\, NV\, 89109\, United States
CATEGORIES:Food & Drink & Fun
ATTACH;FMTTYPE=image/jpeg:https://create.vegas/wp-content/uploads/2025/09/e51a000afcf0608166fb2e5b19d6d060.jpg
END:VEVENT
BEGIN:VEVENT
DTSTART;TZID=America/Los_Angeles:20260531T113000
DTEND;TZID=America/Los_Angeles:20260531T170000
DTSTAMP:20260421T110644
CREATED:20251107T024748Z
LAST-MODIFIED:20260417T065055Z
UID:10031072-1780227000-1780246800@create.vegas
SUMMARY:Las Vegas Pool Crawl
DESCRIPTION:Party at the best pool parties in Las Vegas this summer!
URL:https://create.vegas/event/las-vegas-pool-crawl-215/
LOCATION:Las Vegas Strip\, TBA\, Las Vegas\, NV\, 89109\, United States
CATEGORIES:Food & Drink & Fun
ATTACH;FMTTYPE=image/jpeg:https://create.vegas/wp-content/uploads/2025/09/e51a000afcf0608166fb2e5b19d6d060.jpg
END:VEVENT
BEGIN:VEVENT
DTSTART;TZID=America/Los_Angeles:20260605T113000
DTEND;TZID=America/Los_Angeles:20260605T170000
DTSTAMP:20260421T110644
CREATED:20251107T024748Z
LAST-MODIFIED:20260417T065055Z
UID:10031073-1780659000-1780678800@create.vegas
SUMMARY:Las Vegas Pool Crawl
DESCRIPTION:Party at the best pool parties in Las Vegas this summer!
URL:https://create.vegas/event/las-vegas-pool-crawl-216/
LOCATION:Las Vegas Strip\, TBA\, Las Vegas\, NV\, 89109\, United States
CATEGORIES:Food & Drink & Fun
ATTACH;FMTTYPE=image/jpeg:https://create.vegas/wp-content/uploads/2025/09/e51a000afcf0608166fb2e5b19d6d060.jpg
END:VEVENT
BEGIN:VEVENT
DTSTART;TZID=America/Los_Angeles:20260606T113000
DTEND;TZID=America/Los_Angeles:20260606T170000
DTSTAMP:20260421T110644
CREATED:20251107T024749Z
LAST-MODIFIED:20260417T065056Z
UID:10031074-1780745400-1780765200@create.vegas
SUMMARY:Las Vegas Pool Crawl
DESCRIPTION:Party at the best pool parties in Las Vegas this summer!
URL:https://create.vegas/event/las-vegas-pool-crawl-217/
LOCATION:Las Vegas Strip\, TBA\, Las Vegas\, NV\, 89109\, United States
CATEGORIES:Food & Drink & Fun
ATTACH;FMTTYPE=image/jpeg:https://create.vegas/wp-content/uploads/2025/09/e51a000afcf0608166fb2e5b19d6d060.jpg
END:VEVENT
BEGIN:VEVENT
DTSTART;TZID=America/Los_Angeles:20260607T113000
DTEND;TZID=America/Los_Angeles:20260607T170000
DTSTAMP:20260421T110644
CREATED:20251107T024749Z
LAST-MODIFIED:20260417T065056Z
UID:10031075-1780831800-1780851600@create.vegas
SUMMARY:Las Vegas Pool Crawl
DESCRIPTION:Party at the best pool parties in Las Vegas this summer!
URL:https://create.vegas/event/las-vegas-pool-crawl-218/
LOCATION:Las Vegas Strip\, TBA\, Las Vegas\, NV\, 89109\, United States
CATEGORIES:Food & Drink & Fun
ATTACH;FMTTYPE=image/jpeg:https://create.vegas/wp-content/uploads/2025/09/e51a000afcf0608166fb2e5b19d6d060.jpg
END:VEVENT
BEGIN:VEVENT
DTSTART;TZID=America/Los_Angeles:20260612T113000
DTEND;TZID=America/Los_Angeles:20260612T170000
DTSTAMP:20260421T110644
CREATED:20251107T024750Z
LAST-MODIFIED:20260417T065056Z
UID:10031076-1781263800-1781283600@create.vegas
SUMMARY:Las Vegas Pool Crawl
DESCRIPTION:Party at the best pool parties in Las Vegas this summer!
URL:https://create.vegas/event/las-vegas-pool-crawl-219/
LOCATION:Las Vegas Strip\, TBA\, Las Vegas\, NV\, 89109\, United States
CATEGORIES:Food & Drink & Fun
ATTACH;FMTTYPE=image/jpeg:https://create.vegas/wp-content/uploads/2025/09/e51a000afcf0608166fb2e5b19d6d060.jpg
END:VEVENT
BEGIN:VEVENT
DTSTART;TZID=America/Los_Angeles:20260613T113000
DTEND;TZID=America/Los_Angeles:20260613T170000
DTSTAMP:20260421T110644
CREATED:20251107T024750Z
LAST-MODIFIED:20260417T065056Z
UID:10031077-1781350200-1781370000@create.vegas
SUMMARY:Las Vegas Pool Crawl
DESCRIPTION:Party at the best pool parties in Las Vegas this summer!
URL:https://create.vegas/event/las-vegas-pool-crawl-220/
LOCATION:Las Vegas Strip\, TBA\, Las Vegas\, NV\, 89109\, United States
CATEGORIES:Food & Drink & Fun
ATTACH;FMTTYPE=image/jpeg:https://create.vegas/wp-content/uploads/2025/09/e51a000afcf0608166fb2e5b19d6d060.jpg
END:VEVENT
BEGIN:VEVENT
DTSTART;TZID=America/Los_Angeles:20260614T113000
DTEND;TZID=America/Los_Angeles:20260614T170000
DTSTAMP:20260421T110644
CREATED:20251107T024750Z
LAST-MODIFIED:20260417T065057Z
UID:10031078-1781436600-1781456400@create.vegas
SUMMARY:Las Vegas Pool Crawl
DESCRIPTION:Party at the best pool parties in Las Vegas this summer!
URL:https://create.vegas/event/las-vegas-pool-crawl-221/
LOCATION:Las Vegas Strip\, TBA\, Las Vegas\, NV\, 89109\, United States
CATEGORIES:Food & Drink & Fun
ATTACH;FMTTYPE=image/jpeg:https://create.vegas/wp-content/uploads/2025/09/e51a000afcf0608166fb2e5b19d6d060.jpg
END:VEVENT
BEGIN:VEVENT
DTSTART;TZID=America/Los_Angeles:20260619T113000
DTEND;TZID=America/Los_Angeles:20260619T170000
DTSTAMP:20260421T110644
CREATED:20251107T024751Z
LAST-MODIFIED:20260417T065057Z
UID:10031079-1781868600-1781888400@create.vegas
SUMMARY:Las Vegas Pool Crawl
DESCRIPTION:Party at the best pool parties in Las Vegas this summer!
URL:https://create.vegas/event/las-vegas-pool-crawl-222/
LOCATION:Las Vegas Strip\, TBA\, Las Vegas\, NV\, 89109\, United States
CATEGORIES:Food & Drink & Fun
ATTACH;FMTTYPE=image/jpeg:https://create.vegas/wp-content/uploads/2025/09/e51a000afcf0608166fb2e5b19d6d060.jpg
END:VEVENT
BEGIN:VEVENT
DTSTART;TZID=America/Los_Angeles:20260620T113000
DTEND;TZID=America/Los_Angeles:20260620T170000
DTSTAMP:20260421T110644
CREATED:20251107T024752Z
LAST-MODIFIED:20260417T065057Z
UID:10031080-1781955000-1781974800@create.vegas
SUMMARY:Las Vegas Pool Crawl
DESCRIPTION:Party at the best pool parties in Las Vegas this summer!
URL:https://create.vegas/event/las-vegas-pool-crawl-223/
LOCATION:Las Vegas Strip\, TBA\, Las Vegas\, NV\, 89109\, United States
CATEGORIES:Food & Drink & Fun
ATTACH;FMTTYPE=image/jpeg:https://create.vegas/wp-content/uploads/2025/09/e51a000afcf0608166fb2e5b19d6d060.jpg
END:VEVENT
BEGIN:VEVENT
DTSTART;TZID=America/Los_Angeles:20260621T113000
DTEND;TZID=America/Los_Angeles:20260621T170000
DTSTAMP:20260421T110644
CREATED:20251107T024752Z
LAST-MODIFIED:20260417T065057Z
UID:10031081-1782041400-1782061200@create.vegas
SUMMARY:Las Vegas Pool Crawl
DESCRIPTION:Party at the best pool parties in Las Vegas this summer!
URL:https://create.vegas/event/las-vegas-pool-crawl-224/
LOCATION:Las Vegas Strip\, TBA\, Las Vegas\, NV\, 89109\, United States
CATEGORIES:Food & Drink & Fun
ATTACH;FMTTYPE=image/jpeg:https://create.vegas/wp-content/uploads/2025/09/e51a000afcf0608166fb2e5b19d6d060.jpg
END:VEVENT
BEGIN:VEVENT
DTSTART;TZID=America/Los_Angeles:20260626T113000
DTEND;TZID=America/Los_Angeles:20260626T170000
DTSTAMP:20260421T110644
CREATED:20251107T024752Z
LAST-MODIFIED:20260417T065058Z
UID:10031082-1782473400-1782493200@create.vegas
SUMMARY:Las Vegas Pool Crawl
DESCRIPTION:Party at the best pool parties in Las Vegas this summer!
URL:https://create.vegas/event/las-vegas-pool-crawl-225/
LOCATION:Las Vegas Strip\, TBA\, Las Vegas\, NV\, 89109\, United States
CATEGORIES:Food & Drink & Fun
ATTACH;FMTTYPE=image/jpeg:https://create.vegas/wp-content/uploads/2025/09/e51a000afcf0608166fb2e5b19d6d060.jpg
END:VEVENT
BEGIN:VEVENT
DTSTART;TZID=America/Los_Angeles:20260627T113000
DTEND;TZID=America/Los_Angeles:20260627T170000
DTSTAMP:20260421T110644
CREATED:20251107T024753Z
LAST-MODIFIED:20260417T065058Z
UID:10031083-1782559800-1782579600@create.vegas
SUMMARY:Las Vegas Pool Crawl
DESCRIPTION:Party at the best pool parties in Las Vegas this summer!
URL:https://create.vegas/event/las-vegas-pool-crawl-226/
LOCATION:Las Vegas Strip\, TBA\, Las Vegas\, NV\, 89109\, United States
CATEGORIES:Food & Drink & Fun
ATTACH;FMTTYPE=image/jpeg:https://create.vegas/wp-content/uploads/2025/09/e51a000afcf0608166fb2e5b19d6d060.jpg
END:VEVENT
BEGIN:VEVENT
DTSTART;TZID=America/Los_Angeles:20260628T113000
DTEND;TZID=America/Los_Angeles:20260628T170000
DTSTAMP:20260421T110644
CREATED:20251107T024753Z
LAST-MODIFIED:20260417T065058Z
UID:10031084-1782646200-1782666000@create.vegas
SUMMARY:Las Vegas Pool Crawl
DESCRIPTION:Party at the best pool parties in Las Vegas this summer!
URL:https://create.vegas/event/las-vegas-pool-crawl-227/
LOCATION:Las Vegas Strip\, TBA\, Las Vegas\, NV\, 89109\, United States
CATEGORIES:Food & Drink & Fun
ATTACH;FMTTYPE=image/jpeg:https://create.vegas/wp-content/uploads/2025/09/e51a000afcf0608166fb2e5b19d6d060.jpg
END:VEVENT
BEGIN:VEVENT
DTSTART;TZID=America/Los_Angeles:20260703T113000
DTEND;TZID=America/Los_Angeles:20260703T170000
DTSTAMP:20260421T110644
CREATED:20251107T024754Z
LAST-MODIFIED:20260417T065058Z
UID:10031085-1783078200-1783098000@create.vegas
SUMMARY:Las Vegas Pool Crawl
DESCRIPTION:Party at the best pool parties in Las Vegas this summer!
URL:https://create.vegas/event/las-vegas-pool-crawl-228/
LOCATION:Las Vegas Strip\, TBA\, Las Vegas\, NV\, 89109\, United States
CATEGORIES:Food & Drink & Fun
ATTACH;FMTTYPE=image/jpeg:https://create.vegas/wp-content/uploads/2025/09/e51a000afcf0608166fb2e5b19d6d060.jpg
END:VEVENT
BEGIN:VEVENT
DTSTART;TZID=America/Los_Angeles:20260704T113000
DTEND;TZID=America/Los_Angeles:20260704T170000
DTSTAMP:20260421T110644
CREATED:20251107T024754Z
LAST-MODIFIED:20260417T065058Z
UID:10031086-1783164600-1783184400@create.vegas
SUMMARY:Las Vegas Pool Crawl
DESCRIPTION:Party at the best pool parties in Las Vegas this summer!
URL:https://create.vegas/event/las-vegas-pool-crawl-229/
LOCATION:Las Vegas Strip\, TBA\, Las Vegas\, NV\, 89109\, United States
CATEGORIES:Food & Drink & Fun
ATTACH;FMTTYPE=image/jpeg:https://create.vegas/wp-content/uploads/2025/09/e51a000afcf0608166fb2e5b19d6d060.jpg
END:VEVENT
BEGIN:VEVENT
DTSTART;TZID=America/Los_Angeles:20260705T113000
DTEND;TZID=America/Los_Angeles:20260705T170000
DTSTAMP:20260421T110644
CREATED:20251107T024755Z
LAST-MODIFIED:20260417T065059Z
UID:10031087-1783251000-1783270800@create.vegas
SUMMARY:Las Vegas Pool Crawl
DESCRIPTION:Party at the best pool parties in Las Vegas this summer!
URL:https://create.vegas/event/las-vegas-pool-crawl-230/
LOCATION:Las Vegas Strip\, TBA\, Las Vegas\, NV\, 89109\, United States
CATEGORIES:Food & Drink & Fun
ATTACH;FMTTYPE=image/jpeg:https://create.vegas/wp-content/uploads/2025/09/e51a000afcf0608166fb2e5b19d6d060.jpg
END:VEVENT
BEGIN:VEVENT
DTSTART;TZID=America/Los_Angeles:20260710T113000
DTEND;TZID=America/Los_Angeles:20260710T170000
DTSTAMP:20260421T110644
CREATED:20251107T024755Z
LAST-MODIFIED:20260417T065059Z
UID:10031088-1783683000-1783702800@create.vegas
SUMMARY:Las Vegas Pool Crawl
DESCRIPTION:Party at the best pool parties in Las Vegas this summer!
URL:https://create.vegas/event/las-vegas-pool-crawl-231/
LOCATION:Las Vegas Strip\, TBA\, Las Vegas\, NV\, 89109\, United States
CATEGORIES:Food & Drink & Fun
ATTACH;FMTTYPE=image/jpeg:https://create.vegas/wp-content/uploads/2025/09/e51a000afcf0608166fb2e5b19d6d060.jpg
END:VEVENT
BEGIN:VEVENT
DTSTART;TZID=America/Los_Angeles:20260711T113000
DTEND;TZID=America/Los_Angeles:20260711T170000
DTSTAMP:20260421T110644
CREATED:20251107T024756Z
LAST-MODIFIED:20260417T065059Z
UID:10031089-1783769400-1783789200@create.vegas
SUMMARY:Las Vegas Pool Crawl
DESCRIPTION:Party at the best pool parties in Las Vegas this summer!
URL:https://create.vegas/event/las-vegas-pool-crawl-232/
LOCATION:Las Vegas Strip\, TBA\, Las Vegas\, NV\, 89109\, United States
CATEGORIES:Food & Drink & Fun
ATTACH;FMTTYPE=image/jpeg:https://create.vegas/wp-content/uploads/2025/09/e51a000afcf0608166fb2e5b19d6d060.jpg
END:VEVENT
BEGIN:VEVENT
DTSTART;TZID=America/Los_Angeles:20260712T113000
DTEND;TZID=America/Los_Angeles:20260712T170000
DTSTAMP:20260421T110644
CREATED:20251107T024756Z
LAST-MODIFIED:20260417T065059Z
UID:10031090-1783855800-1783875600@create.vegas
SUMMARY:Las Vegas Pool Crawl
DESCRIPTION:Party at the best pool parties in Las Vegas this summer!
URL:https://create.vegas/event/las-vegas-pool-crawl-233/
LOCATION:Las Vegas Strip\, TBA\, Las Vegas\, NV\, 89109\, United States
CATEGORIES:Food & Drink & Fun
ATTACH;FMTTYPE=image/jpeg:https://create.vegas/wp-content/uploads/2025/09/e51a000afcf0608166fb2e5b19d6d060.jpg
END:VEVENT
BEGIN:VEVENT
DTSTART;TZID=America/Los_Angeles:20260717T113000
DTEND;TZID=America/Los_Angeles:20260717T170000
DTSTAMP:20260421T110644
CREATED:20251107T024757Z
LAST-MODIFIED:20260417T065059Z
UID:10031091-1784287800-1784307600@create.vegas
SUMMARY:Las Vegas Pool Crawl
DESCRIPTION:Party at the best pool parties in Las Vegas this summer!
URL:https://create.vegas/event/las-vegas-pool-crawl-234/
LOCATION:Las Vegas Strip\, TBA\, Las Vegas\, NV\, 89109\, United States
CATEGORIES:Food & Drink & Fun
ATTACH;FMTTYPE=image/jpeg:https://create.vegas/wp-content/uploads/2025/09/e51a000afcf0608166fb2e5b19d6d060.jpg
END:VEVENT
BEGIN:VEVENT
DTSTART;TZID=America/Los_Angeles:20260718T113000
DTEND;TZID=America/Los_Angeles:20260718T170000
DTSTAMP:20260421T110644
CREATED:20251107T024757Z
LAST-MODIFIED:20260417T065100Z
UID:10031092-1784374200-1784394000@create.vegas
SUMMARY:Las Vegas Pool Crawl
DESCRIPTION:Party at the best pool parties in Las Vegas this summer!
URL:https://create.vegas/event/las-vegas-pool-crawl-235/
LOCATION:Las Vegas Strip\, TBA\, Las Vegas\, NV\, 89109\, United States
CATEGORIES:Food & Drink & Fun
ATTACH;FMTTYPE=image/jpeg:https://create.vegas/wp-content/uploads/2025/09/e51a000afcf0608166fb2e5b19d6d060.jpg
END:VEVENT
BEGIN:VEVENT
DTSTART;TZID=America/Los_Angeles:20260719T113000
DTEND;TZID=America/Los_Angeles:20260719T170000
DTSTAMP:20260421T110644
CREATED:20260403T062154Z
LAST-MODIFIED:20260417T065100Z
UID:10034283-1784460600-1784480400@create.vegas
SUMMARY:Las Vegas Pool Crawl
DESCRIPTION:Party at the best pool parties in Las Vegas this summer!
URL:https://create.vegas/event/las-vegas-pool-crawl-241/
LOCATION:Las Vegas Strip\, TBA\, Las Vegas\, NV\, 89109\, United States
CATEGORIES:Food & Drink & Fun
ATTACH;FMTTYPE=image/jpeg:https://create.vegas/wp-content/uploads/2025/09/e51a000afcf0608166fb2e5b19d6d060.jpg
END:VEVENT
BEGIN:VEVENT
DTSTART;TZID=America/Los_Angeles:20260724T113000
DTEND;TZID=America/Los_Angeles:20260724T170000
DTSTAMP:20260421T110644
CREATED:20260403T062154Z
LAST-MODIFIED:20260417T065100Z
UID:10034284-1784892600-1784912400@create.vegas
SUMMARY:Las Vegas Pool Crawl
DESCRIPTION:Party at the best pool parties in Las Vegas this summer!
URL:https://create.vegas/event/las-vegas-pool-crawl-242/
LOCATION:Las Vegas Strip\, TBA\, Las Vegas\, NV\, 89109\, United States
CATEGORIES:Food & Drink & Fun
ATTACH;FMTTYPE=image/jpeg:https://create.vegas/wp-content/uploads/2025/09/e51a000afcf0608166fb2e5b19d6d060.jpg
END:VEVENT
BEGIN:VEVENT
DTSTART;TZID=America/Los_Angeles:20260725T113000
DTEND;TZID=America/Los_Angeles:20260725T170000
DTSTAMP:20260421T110644
CREATED:20260403T062154Z
LAST-MODIFIED:20260417T065100Z
UID:10034285-1784979000-1784998800@create.vegas
SUMMARY:Las Vegas Pool Crawl
DESCRIPTION:Party at the best pool parties in Las Vegas this summer!
URL:https://create.vegas/event/las-vegas-pool-crawl-243/
LOCATION:Las Vegas Strip\, TBA\, Las Vegas\, NV\, 89109\, United States
CATEGORIES:Food & Drink & Fun
ATTACH;FMTTYPE=image/jpeg:https://create.vegas/wp-content/uploads/2025/09/e51a000afcf0608166fb2e5b19d6d060.jpg
END:VEVENT
END:VCALENDAR