BEGIN:VCALENDAR
VERSION:2.0
PRODID:-//Create.Vegas - ECPv6.15.20//NONSGML v1.0//EN
CALSCALE:GREGORIAN
METHOD:PUBLISH
X-ORIGINAL-URL:https://create.vegas
X-WR-CALDESC:Events for Create.Vegas
REFRESH-INTERVAL;VALUE=DURATION:PT1H
X-Robots-Tag:noindex
X-PUBLISHED-TTL:PT1H
BEGIN:VTIMEZONE
TZID:America/Los_Angeles
BEGIN:DAYLIGHT
TZOFFSETFROM:-0800
TZOFFSETTO:-0700
TZNAME:PDT
DTSTART:20240310T100000
END:DAYLIGHT
BEGIN:STANDARD
TZOFFSETFROM:-0700
TZOFFSETTO:-0800
TZNAME:PST
DTSTART:20241103T090000
END:STANDARD
BEGIN:DAYLIGHT
TZOFFSETFROM:-0800
TZOFFSETTO:-0700
TZNAME:PDT
DTSTART:20250309T100000
END:DAYLIGHT
BEGIN:STANDARD
TZOFFSETFROM:-0700
TZOFFSETTO:-0800
TZNAME:PST
DTSTART:20251102T090000
END:STANDARD
BEGIN:DAYLIGHT
TZOFFSETFROM:-0800
TZOFFSETTO:-0700
TZNAME:PDT
DTSTART:20260308T100000
END:DAYLIGHT
BEGIN:STANDARD
TZOFFSETFROM:-0700
TZOFFSETTO:-0800
TZNAME:PST
DTSTART:20261101T090000
END:STANDARD
BEGIN:DAYLIGHT
TZOFFSETFROM:-0800
TZOFFSETTO:-0700
TZNAME:PDT
DTSTART:20270314T100000
END:DAYLIGHT
BEGIN:STANDARD
TZOFFSETFROM:-0700
TZOFFSETTO:-0800
TZNAME:PST
DTSTART:20271107T090000
END:STANDARD
END:VTIMEZONE
BEGIN:VEVENT
DTSTART;TZID=America/Los_Angeles:20260414T213000
DTEND;TZID=America/Los_Angeles:20260415T040000
DTSTAMP:20260421T173821
CREATED:20260116T033658Z
LAST-MODIFIED:20260410T063650Z
UID:10032629-1776202200-1776225600@create.vegas
SUMMARY:Spring Break Las Vegas Club Crawl
DESCRIPTION:Party at the best clubs in Vegas for Spring Break 2026!
URL:https://create.vegas/event/spring-break-las-vegas-club-crawl-80/
LOCATION:Las Vegas Strip  (check our website for starting location)\, Las Vegas Strip\, Las Vegas\, NV\, 89109\, United States
CATEGORIES:Food & Drink & Fun
ATTACH;FMTTYPE=image/jpeg:https://create.vegas/wp-content/uploads/2026/01/8754bc031d9b3a99ce837da12cb8e781.jpg
END:VEVENT
BEGIN:VEVENT
DTSTART;TZID=America/Los_Angeles:20260412T213000
DTEND;TZID=America/Los_Angeles:20260413T040000
DTSTAMP:20260421T173821
CREATED:20260116T033658Z
LAST-MODIFIED:20260410T063650Z
UID:10032628-1776029400-1776052800@create.vegas
SUMMARY:Spring Break Las Vegas Club Crawl
DESCRIPTION:Party at the best clubs in Vegas for Spring Break 2026!
URL:https://create.vegas/event/spring-break-las-vegas-club-crawl-79/
LOCATION:Las Vegas Strip  (check our website for starting location)\, Las Vegas Strip\, Las Vegas\, NV\, 89109\, United States
CATEGORIES:Food & Drink & Fun
ATTACH;FMTTYPE=image/jpeg:https://create.vegas/wp-content/uploads/2026/01/8754bc031d9b3a99ce837da12cb8e781.jpg
END:VEVENT
BEGIN:VEVENT
DTSTART;TZID=America/Los_Angeles:20260411T213000
DTEND;TZID=America/Los_Angeles:20260412T040000
DTSTAMP:20260421T173821
CREATED:20260116T033657Z
LAST-MODIFIED:20260410T063650Z
UID:10032627-1775943000-1775966400@create.vegas
SUMMARY:Spring Break Las Vegas Club Crawl
DESCRIPTION:Party at the best clubs in Vegas for Spring Break 2026!
URL:https://create.vegas/event/spring-break-las-vegas-club-crawl-78/
LOCATION:Las Vegas Strip  (check our website for starting location)\, Las Vegas Strip\, Las Vegas\, NV\, 89109\, United States
CATEGORIES:Food & Drink & Fun
ATTACH;FMTTYPE=image/jpeg:https://create.vegas/wp-content/uploads/2026/01/8754bc031d9b3a99ce837da12cb8e781.jpg
END:VEVENT
BEGIN:VEVENT
DTSTART;TZID=America/Los_Angeles:20260410T213000
DTEND;TZID=America/Los_Angeles:20260411T040000
DTSTAMP:20260421T173821
CREATED:20260116T033657Z
LAST-MODIFIED:20260410T063606Z
UID:10032626-1775856600-1775880000@create.vegas
SUMMARY:Spring Break Las Vegas Club Crawl
DESCRIPTION:Party at the best clubs in Vegas for Spring Break 2026!
URL:https://create.vegas/event/spring-break-las-vegas-club-crawl-77/
LOCATION:Las Vegas Strip  (check our website for starting location)\, Las Vegas Strip\, Las Vegas\, NV\, 89109\, United States
CATEGORIES:Food & Drink & Fun
ATTACH;FMTTYPE=image/jpeg:https://create.vegas/wp-content/uploads/2026/01/8754bc031d9b3a99ce837da12cb8e781.jpg
END:VEVENT
BEGIN:VEVENT
DTSTART;TZID=America/Los_Angeles:20260409T213000
DTEND;TZID=America/Los_Angeles:20260410T040000
DTSTAMP:20260421T173821
CREATED:20260116T033657Z
LAST-MODIFIED:20260403T062210Z
UID:10032625-1775770200-1775793600@create.vegas
SUMMARY:Spring Break Las Vegas Club Crawl
DESCRIPTION:Party at the best clubs in Vegas for Spring Break 2026!
URL:https://create.vegas/event/spring-break-las-vegas-club-crawl-76/
LOCATION:Las Vegas Strip  (check our website for starting location)\, Las Vegas Strip\, Las Vegas\, NV\, 89109\, United States
CATEGORIES:Food & Drink & Fun
ATTACH;FMTTYPE=image/jpeg:https://create.vegas/wp-content/uploads/2026/01/8754bc031d9b3a99ce837da12cb8e781.jpg
END:VEVENT
BEGIN:VEVENT
DTSTART;TZID=America/Los_Angeles:20260407T213000
DTEND;TZID=America/Los_Angeles:20260408T040000
DTSTAMP:20260421T173821
CREATED:20260116T033656Z
LAST-MODIFIED:20260403T062210Z
UID:10032624-1775597400-1775620800@create.vegas
SUMMARY:Spring Break Las Vegas Club Crawl
DESCRIPTION:Party at the best clubs in Vegas for Spring Break 2026!
URL:https://create.vegas/event/spring-break-las-vegas-club-crawl-75/
LOCATION:Las Vegas Strip  (check our website for starting location)\, Las Vegas Strip\, Las Vegas\, NV\, 89109\, United States
CATEGORIES:Food & Drink & Fun
ATTACH;FMTTYPE=image/jpeg:https://create.vegas/wp-content/uploads/2026/01/8754bc031d9b3a99ce837da12cb8e781.jpg
END:VEVENT
BEGIN:VEVENT
DTSTART;TZID=America/Los_Angeles:20260405T213000
DTEND;TZID=America/Los_Angeles:20260406T040000
DTSTAMP:20260421T173821
CREATED:20260116T033656Z
LAST-MODIFIED:20260403T062210Z
UID:10032623-1775424600-1775448000@create.vegas
SUMMARY:Spring Break Las Vegas Club Crawl
DESCRIPTION:Party at the best clubs in Vegas for Spring Break 2026!
URL:https://create.vegas/event/spring-break-las-vegas-club-crawl-74/
LOCATION:Las Vegas Strip  (check our website for starting location)\, Las Vegas Strip\, Las Vegas\, NV\, 89109\, United States
CATEGORIES:Food & Drink & Fun
ATTACH;FMTTYPE=image/jpeg:https://create.vegas/wp-content/uploads/2026/01/8754bc031d9b3a99ce837da12cb8e781.jpg
END:VEVENT
BEGIN:VEVENT
DTSTART;TZID=America/Los_Angeles:20260404T213000
DTEND;TZID=America/Los_Angeles:20260405T040000
DTSTAMP:20260421T173821
CREATED:20260116T033655Z
LAST-MODIFIED:20260403T062210Z
UID:10032622-1775338200-1775361600@create.vegas
SUMMARY:Spring Break Las Vegas Club Crawl
DESCRIPTION:Party at the best clubs in Vegas for Spring Break 2026!
URL:https://create.vegas/event/spring-break-las-vegas-club-crawl-73/
LOCATION:Las Vegas Strip  (check our website for starting location)\, Las Vegas Strip\, Las Vegas\, NV\, 89109\, United States
CATEGORIES:Food & Drink & Fun
ATTACH;FMTTYPE=image/jpeg:https://create.vegas/wp-content/uploads/2026/01/8754bc031d9b3a99ce837da12cb8e781.jpg
END:VEVENT
BEGIN:VEVENT
DTSTART;TZID=America/Los_Angeles:20260403T213000
DTEND;TZID=America/Los_Angeles:20260404T040000
DTSTAMP:20260421T173821
CREATED:20260116T033655Z
LAST-MODIFIED:20260403T062209Z
UID:10032621-1775251800-1775275200@create.vegas
SUMMARY:Spring Break Las Vegas Club Crawl
DESCRIPTION:Party at the best clubs in Vegas for Spring Break 2026!
URL:https://create.vegas/event/spring-break-las-vegas-club-crawl-72/
LOCATION:Las Vegas Strip  (check our website for starting location)\, Las Vegas Strip\, Las Vegas\, NV\, 89109\, United States
CATEGORIES:Food & Drink & Fun
ATTACH;FMTTYPE=image/jpeg:https://create.vegas/wp-content/uploads/2026/01/8754bc031d9b3a99ce837da12cb8e781.jpg
END:VEVENT
BEGIN:VEVENT
DTSTART;TZID=America/Los_Angeles:20260402T213000
DTEND;TZID=America/Los_Angeles:20260403T040000
DTSTAMP:20260421T173821
CREATED:20260116T033655Z
LAST-MODIFIED:20260403T062138Z
UID:10032620-1775165400-1775188800@create.vegas
SUMMARY:Spring Break Las Vegas Club Crawl
DESCRIPTION:Party at the best clubs in Vegas for Spring Break 2026!
URL:https://create.vegas/event/spring-break-las-vegas-club-crawl-71/
LOCATION:Las Vegas Strip  (check our website for starting location)\, Las Vegas Strip\, Las Vegas\, NV\, 89109\, United States
CATEGORIES:Food & Drink & Fun
ATTACH;FMTTYPE=image/jpeg:https://create.vegas/wp-content/uploads/2026/01/8754bc031d9b3a99ce837da12cb8e781.jpg
END:VEVENT
BEGIN:VEVENT
DTSTART;TZID=America/Los_Angeles:20260331T213000
DTEND;TZID=America/Los_Angeles:20260401T040000
DTSTAMP:20260421T173821
CREATED:20260116T033654Z
LAST-MODIFIED:20260327T060727Z
UID:10032619-1774992600-1775016000@create.vegas
SUMMARY:Spring Break Las Vegas Club Crawl
DESCRIPTION:Party at the best clubs in Vegas for Spring Break 2026!
URL:https://create.vegas/event/spring-break-las-vegas-club-crawl-70/
LOCATION:Las Vegas Strip  (check our website for starting location)\, Las Vegas Strip\, Las Vegas\, NV\, 89109\, United States
CATEGORIES:Food & Drink & Fun
ATTACH;FMTTYPE=image/jpeg:https://create.vegas/wp-content/uploads/2026/01/8754bc031d9b3a99ce837da12cb8e781.jpg
END:VEVENT
BEGIN:VEVENT
DTSTART;TZID=America/Los_Angeles:20260329T213000
DTEND;TZID=America/Los_Angeles:20260330T040000
DTSTAMP:20260421T173821
CREATED:20260116T033654Z
LAST-MODIFIED:20260327T060726Z
UID:10032618-1774819800-1774843200@create.vegas
SUMMARY:Spring Break Las Vegas Club Crawl
DESCRIPTION:Party at the best clubs in Vegas for Spring Break 2026!
URL:https://create.vegas/event/spring-break-las-vegas-club-crawl-69/
LOCATION:Las Vegas Strip  (check our website for starting location)\, Las Vegas Strip\, Las Vegas\, NV\, 89109\, United States
CATEGORIES:Food & Drink & Fun
ATTACH;FMTTYPE=image/jpeg:https://create.vegas/wp-content/uploads/2026/01/8754bc031d9b3a99ce837da12cb8e781.jpg
END:VEVENT
BEGIN:VEVENT
DTSTART;TZID=America/Los_Angeles:20260328T213000
DTEND;TZID=America/Los_Angeles:20260329T040000
DTSTAMP:20260421T173821
CREATED:20260116T033654Z
LAST-MODIFIED:20260327T060726Z
UID:10032617-1774733400-1774756800@create.vegas
SUMMARY:Spring Break Las Vegas Club Crawl
DESCRIPTION:Party at the best clubs in Vegas for Spring Break 2026!
URL:https://create.vegas/event/spring-break-las-vegas-club-crawl-68/
LOCATION:Las Vegas Strip  (check our website for starting location)\, Las Vegas Strip\, Las Vegas\, NV\, 89109\, United States
CATEGORIES:Food & Drink & Fun
ATTACH;FMTTYPE=image/jpeg:https://create.vegas/wp-content/uploads/2026/01/8754bc031d9b3a99ce837da12cb8e781.jpg
END:VEVENT
BEGIN:VEVENT
DTSTART;TZID=America/Los_Angeles:20260327T213000
DTEND;TZID=America/Los_Angeles:20260328T040000
DTSTAMP:20260421T173821
CREATED:20260116T033653Z
LAST-MODIFIED:20260327T060726Z
UID:10032616-1774647000-1774670400@create.vegas
SUMMARY:Spring Break Las Vegas Club Crawl
DESCRIPTION:Party at the best clubs in Vegas for Spring Break 2026!
URL:https://create.vegas/event/spring-break-las-vegas-club-crawl-67/
LOCATION:Las Vegas Strip  (check our website for starting location)\, Las Vegas Strip\, Las Vegas\, NV\, 89109\, United States
CATEGORIES:Food & Drink & Fun
ATTACH;FMTTYPE=image/jpeg:https://create.vegas/wp-content/uploads/2026/01/8754bc031d9b3a99ce837da12cb8e781.jpg
END:VEVENT
BEGIN:VEVENT
DTSTART;TZID=America/Los_Angeles:20260326T213000
DTEND;TZID=America/Los_Angeles:20260327T040000
DTSTAMP:20260421T173821
CREATED:20260116T033653Z
LAST-MODIFIED:20260327T060651Z
UID:10032615-1774560600-1774584000@create.vegas
SUMMARY:Spring Break Las Vegas Club Crawl
DESCRIPTION:Party at the best clubs in Vegas for Spring Break 2026!
URL:https://create.vegas/event/spring-break-las-vegas-club-crawl-66/
LOCATION:Las Vegas Strip  (check our website for starting location)\, Las Vegas Strip\, Las Vegas\, NV\, 89109\, United States
CATEGORIES:Food & Drink & Fun
ATTACH;FMTTYPE=image/jpeg:https://create.vegas/wp-content/uploads/2026/01/8754bc031d9b3a99ce837da12cb8e781.jpg
END:VEVENT
BEGIN:VEVENT
DTSTART;TZID=America/Los_Angeles:20260324T213000
DTEND;TZID=America/Los_Angeles:20260325T040000
DTSTAMP:20260421T173821
CREATED:20260116T033653Z
LAST-MODIFIED:20260320T055305Z
UID:10032614-1774387800-1774411200@create.vegas
SUMMARY:Spring Break Las Vegas Club Crawl
DESCRIPTION:Party at the best clubs in Vegas for Spring Break 2026!
URL:https://create.vegas/event/spring-break-las-vegas-club-crawl-65/
LOCATION:Las Vegas Strip  (check our website for starting location)\, Las Vegas Strip\, Las Vegas\, NV\, 89109\, United States
CATEGORIES:Food & Drink & Fun
ATTACH;FMTTYPE=image/jpeg:https://create.vegas/wp-content/uploads/2026/01/8754bc031d9b3a99ce837da12cb8e781.jpg
END:VEVENT
BEGIN:VEVENT
DTSTART;TZID=America/Los_Angeles:20260322T213000
DTEND;TZID=America/Los_Angeles:20260323T040000
DTSTAMP:20260421T173821
CREATED:20260116T033652Z
LAST-MODIFIED:20260320T055305Z
UID:10032613-1774215000-1774238400@create.vegas
SUMMARY:Spring Break Las Vegas Club Crawl
DESCRIPTION:Party at the best clubs in Vegas for Spring Break 2026!
URL:https://create.vegas/event/spring-break-las-vegas-club-crawl-41/
LOCATION:Las Vegas Strip  (check our website for starting location)\, Las Vegas Strip\, Las Vegas\, NV\, 89109\, United States
CATEGORIES:Food & Drink & Fun
ATTACH;FMTTYPE=image/jpeg:https://create.vegas/wp-content/uploads/2026/01/8754bc031d9b3a99ce837da12cb8e781.jpg
END:VEVENT
BEGIN:VEVENT
DTSTART;TZID=America/Los_Angeles:20260321T213000
DTEND;TZID=America/Los_Angeles:20260322T040000
DTSTAMP:20260421T173821
CREATED:20260116T033652Z
LAST-MODIFIED:20260320T055304Z
UID:10032612-1774128600-1774152000@create.vegas
SUMMARY:Spring Break Las Vegas Club Crawl
DESCRIPTION:Party at the best clubs in Vegas for Spring Break 2026!
URL:https://create.vegas/event/spring-break-las-vegas-club-crawl-39/
LOCATION:Las Vegas Strip  (check our website for starting location)\, Las Vegas Strip\, Las Vegas\, NV\, 89109\, United States
CATEGORIES:Food & Drink & Fun
ATTACH;FMTTYPE=image/jpeg:https://create.vegas/wp-content/uploads/2026/01/8754bc031d9b3a99ce837da12cb8e781.jpg
END:VEVENT
BEGIN:VEVENT
DTSTART;TZID=America/Los_Angeles:20260320T213000
DTEND;TZID=America/Los_Angeles:20260321T040000
DTSTAMP:20260421T173821
CREATED:20260116T033652Z
LAST-MODIFIED:20260320T055304Z
UID:10032611-1774042200-1774065600@create.vegas
SUMMARY:Spring Break Las Vegas Club Crawl
DESCRIPTION:Party at the best clubs in Vegas for Spring Break 2026!
URL:https://create.vegas/event/spring-break-las-vegas-club-crawl-38/
LOCATION:Las Vegas Strip  (check our website for starting location)\, Las Vegas Strip\, Las Vegas\, NV\, 89109\, United States
CATEGORIES:Food & Drink & Fun
ATTACH;FMTTYPE=image/jpeg:https://create.vegas/wp-content/uploads/2026/01/8754bc031d9b3a99ce837da12cb8e781.jpg
END:VEVENT
BEGIN:VEVENT
DTSTART;TZID=America/Los_Angeles:20260319T213000
DTEND;TZID=America/Los_Angeles:20260320T040000
DTSTAMP:20260421T173821
CREATED:20260116T033651Z
LAST-MODIFIED:20260320T055216Z
UID:10032610-1773955800-1773979200@create.vegas
SUMMARY:Spring Break Las Vegas Club Crawl
DESCRIPTION:Party at the best clubs in Vegas for Spring Break 2026!
URL:https://create.vegas/event/spring-break-las-vegas-club-crawl-29/
LOCATION:Las Vegas Strip  (check our website for starting location)\, Las Vegas Strip\, Las Vegas\, NV\, 89109\, United States
CATEGORIES:Food & Drink & Fun
ATTACH;FMTTYPE=image/jpeg:https://create.vegas/wp-content/uploads/2026/01/8754bc031d9b3a99ce837da12cb8e781.jpg
END:VEVENT
BEGIN:VEVENT
DTSTART;TZID=America/Los_Angeles:20260317T213000
DTEND;TZID=America/Los_Angeles:20260318T040000
DTSTAMP:20260421T173821
CREATED:20260116T033610Z
LAST-MODIFIED:20260313T053629Z
UID:10032592-1773783000-1773806400@create.vegas
SUMMARY:Spring Break Las Vegas Club Crawl
DESCRIPTION:Party at the best clubs in Vegas for Spring Break 2026!
URL:https://create.vegas/event/spring-break-las-vegas-club-crawl-15/
LOCATION:Las Vegas Strip  (check our website for starting location)\, Las Vegas Strip\, Las Vegas\, NV\, 89109\, United States
CATEGORIES:Food & Drink & Fun
ATTACH;FMTTYPE=image/jpeg:https://create.vegas/wp-content/uploads/2026/01/8754bc031d9b3a99ce837da12cb8e781.jpg
END:VEVENT
BEGIN:VEVENT
DTSTART;TZID=America/Los_Angeles:20260214T213000
DTEND;TZID=America/Los_Angeles:20260215T040000
DTSTAMP:20260421T173821
CREATED:20260130T040610Z
LAST-MODIFIED:20260213T043642Z
UID:10032974-1771104600-1771128000@create.vegas
SUMMARY:Valentine's Day Las Vegas Party Bus Crawl
DESCRIPTION:Party at the best clubs in Vegas + party bus with free drinks\n\n\nLAS VEGAS CLUB CRAWL👉 The Ultimate Singles Party This Valentine’s Day — Party Bus with FREE drinks Included 🔥 \n \nParty at the best clubs in Las Vegas this Valentine’s Day weekend! Enjoy free express entry to all venues and ride in style on an epic mega party bus stocked with unlimited drinks. This is the ultimate Las Vegas party bus club crawl experience. 🥳 \n \nWhat’s Included in This Anti-Valentines Day Club Crawl⭐️ FREE express entry to multiple top clubs🚍 Vegas party bus  with FREE drinks ⭐️ Performances by some of the biggest artists in the world ⭐️ Drink specials at the starting venue⭐️ Private party hosts to lead the night \n \nHow It Works: Meet your party hosts at the first venue listed on the lineup to check-in and pregame. Your party host will lead the group to all of the epic venues on the lineup! The check-in location and full lineup will be posted on our website.   \n\n\n\n\n\nLA EPIC CLUB CRAWLS LAS VEGAS: Full refunds are permitted 30 days prior to the event. Credits will be given in the amount paid\, if requested 3 days prior to the event. Get more info on Las Vegas dress code here. \n🎟️ CHECK-INCheck-in at 9:30PM at a location on The Strip! Meeting location and full lineup will be posted on our website. \n \n👗 DRESS CODE & PROHIBITED ITEMSAll participants must adhere to the dress code and prohibited item policies enforced by the venues. We recommend reviewing these policies in advance to ensure entry. Click HERE for more info on Las Vegas Dress Code. \n \n⭐️ Want a more personalized party experience? ⭐️We also offer custom private club crawls—perfect for a VIP celebration\, like a birthday\, bachelor party\, or bachelorette party. Visit our Private Crawl Page on our website for more information and pricing! \n\n\n_________________________________________ \n📞 CONTACT US \n866-THE-EPIC or 866-843-3742 \nInfo@laepicclubcrawls.com \nwww.laepicclubcrawls.com
URL:https://create.vegas/event/valentines-day-las-vegas-party-bus-crawl/
LOCATION:Las Vegas Strip  (check our website for starting location)\, Las Vegas Strip\, Las Vegas\, NV\, 89109\, United States
CATEGORIES:Food & Drink & Fun
ATTACH;FMTTYPE=image/jpeg:https://create.vegas/wp-content/uploads/2026/01/5f48377c619306f2d943cf3a7752d692.jpg
END:VEVENT
BEGIN:VEVENT
DTSTART;TZID=America/Los_Angeles:20251101T213000
DTEND;TZID=America/Los_Angeles:20251102T013000
DTSTAMP:20260421T173821
CREATED:20250509T230719Z
LAST-MODIFIED:20251006T233458Z
UID:10028393-1762032600-1762047000@create.vegas
SUMMARY:Halloween Las Vegas Club Crawl
DESCRIPTION:Spook\, Sip\, and Socialize: The Wildest Halloween Night Awaits!
URL:https://create.vegas/event/halloween-las-vegas-club-crawl-3/
LOCATION:Las Vegas Strip  (check our website for starting location)\, Las Vegas Strip\, Las Vegas\, NV\, 89109\, United States
CATEGORIES:Food & Drink & Fun
ATTACH;FMTTYPE=image/jpeg:https://create.vegas/wp-content/uploads/2025/05/ef2f38307c179433baacec6303c934e4.jpg
END:VEVENT
BEGIN:VEVENT
DTSTART;TZID=America/Los_Angeles:20251031T213000
DTEND;TZID=America/Los_Angeles:20251101T013000
DTSTAMP:20260421T173821
CREATED:20250509T230719Z
LAST-MODIFIED:20251006T233457Z
UID:10028392-1761946200-1761960600@create.vegas
SUMMARY:Halloween Las Vegas Club Crawl
DESCRIPTION:Spook\, Sip\, and Socialize: The Wildest Halloween Night Awaits!
URL:https://create.vegas/event/halloween-las-vegas-club-crawl-2/
LOCATION:Las Vegas Strip  (check our website for starting location)\, Las Vegas Strip\, Las Vegas\, NV\, 89109\, United States
CATEGORIES:Food & Drink & Fun
ATTACH;FMTTYPE=image/jpeg:https://create.vegas/wp-content/uploads/2025/05/ef2f38307c179433baacec6303c934e4.jpg
END:VEVENT
BEGIN:VEVENT
DTSTART;TZID=America/Los_Angeles:20251030T213000
DTEND;TZID=America/Los_Angeles:20251031T013000
DTSTAMP:20260421T173821
CREATED:20250509T230717Z
LAST-MODIFIED:20251006T233450Z
UID:10028391-1761859800-1761874200@create.vegas
SUMMARY:Halloween Las Vegas Club Crawl
DESCRIPTION:Spook\, Sip\, and Socialize: The Wildest Halloween Night Awaits!
URL:https://create.vegas/event/halloween-las-vegas-club-crawl/
LOCATION:Las Vegas Strip  (check our website for starting location)\, Las Vegas Strip\, Las Vegas\, NV\, 89109\, United States
CATEGORIES:Food & Drink & Fun
ATTACH;FMTTYPE=image/jpeg:https://create.vegas/wp-content/uploads/2025/05/ef2f38307c179433baacec6303c934e4.jpg
END:VEVENT
END:VCALENDAR