BEGIN:VCALENDAR
VERSION:2.0
PRODID:-//Create.Vegas - ECPv6.15.20//NONSGML v1.0//EN
CALSCALE:GREGORIAN
METHOD:PUBLISH
X-ORIGINAL-URL:https://create.vegas
X-WR-CALDESC:Events for Create.Vegas
REFRESH-INTERVAL;VALUE=DURATION:PT1H
X-Robots-Tag:noindex
X-PUBLISHED-TTL:PT1H
BEGIN:VTIMEZONE
TZID:America/Los_Angeles
BEGIN:DAYLIGHT
TZOFFSETFROM:-0800
TZOFFSETTO:-0700
TZNAME:PDT
DTSTART:20250309T100000
END:DAYLIGHT
BEGIN:STANDARD
TZOFFSETFROM:-0700
TZOFFSETTO:-0800
TZNAME:PST
DTSTART:20251102T090000
END:STANDARD
BEGIN:DAYLIGHT
TZOFFSETFROM:-0800
TZOFFSETTO:-0700
TZNAME:PDT
DTSTART:20260308T100000
END:DAYLIGHT
BEGIN:STANDARD
TZOFFSETFROM:-0700
TZOFFSETTO:-0800
TZNAME:PST
DTSTART:20261101T090000
END:STANDARD
BEGIN:DAYLIGHT
TZOFFSETFROM:-0800
TZOFFSETTO:-0700
TZNAME:PDT
DTSTART:20270314T100000
END:DAYLIGHT
BEGIN:STANDARD
TZOFFSETFROM:-0700
TZOFFSETTO:-0800
TZNAME:PST
DTSTART:20271107T090000
END:STANDARD
END:VTIMEZONE
BEGIN:VEVENT
DTSTART;TZID=America/Los_Angeles:20260428T180000
DTEND;TZID=America/Los_Angeles:20260428T200000
DTSTAMP:20260421T225018
CREATED:20260304T184813Z
LAST-MODIFIED:20260415T190322Z
UID:10033621-1777399200-1777406400@create.vegas
SUMMARY:Nevada Entrepreneurial Artist Toolkit (NEAT) Series Launch
DESCRIPTION:An Evening of Community\, Creativity and Practical Legal Tools\n\n\nJoin us for the public launch of the Nevada Entrepreneurial Artist Toolkit Series\, a community-facing resource designed to support artists\, creatives and cultural workers in building sustainable businesses with confidence. \nThis first event brings together artist-entrepreneurs\, small business advocates\, legal professionals\, student attorneys and community partners for an interactive evening focused on practical tools\, shared learning\, and strengthening our creative ecosystem. \nWhether you are just beginning your creative business journey or have been operating for years\, this event is designed to meet you where you are. \nParking available in the lot on a first come\, first serve basis. Metered street parking available. \nIn partnership with UNLV Law and Nevada Arts Council.
URL:https://create.vegas/event/nevada-entrepreneur-artist-toolkit/
LOCATION:Historic Fifth Street School\, 401 South 4th Street\, Las Vegas\, NV\, 89101\, United States
ATTACH;FMTTYPE=image/jpeg:https://create.vegas/wp-content/uploads/2026/03/4325c509607897e23368d1986bcf8dfb.jpg
END:VEVENT
BEGIN:VEVENT
DTSTART;TZID=America/Los_Angeles:20260530T090000
DTEND;TZID=America/Los_Angeles:20260530T110000
DTSTAMP:20260421T225018
CREATED:20260318T190325Z
LAST-MODIFIED:20260415T190324Z
UID:10033797-1780131600-1780138800@create.vegas
SUMMARY:How to Start Urban Sketching
DESCRIPTION:New to urban sketching? Join Las Vegas artist Donna Fox for a beginner-friendly workshop on drawing the world around you from observation.\n\n\nCurious about urban sketching but not sure where to begin? This beginner-friendly workshop is the perfect place to start. Join Las Vegas artist Donna Fox for an introduction to the art of urban sketching; drawing the world around you directly from observation. \nWe’ll cover simple tools\, easy techniques and how to approach sketching on location without feeling overwhelmed. No experience required! Just bring your curiosity and a willingness to look at the world a little more closely. \nSupplies will be provided on a first come\, first serve basis but attendees are welcome to bring their own sketchbooks and materials as well.
URL:https://create.vegas/event/how-to-start-urban-sketching/
LOCATION:Historic Fifth Street School\, 401 South 4th Street\, Las Vegas\, NV\, 89101\, United States
ATTACH;FMTTYPE=image/jpeg:https://create.vegas/wp-content/uploads/2026/03/c0b793bf1b8cb80be0c2b4ed83dee48f.jpg
END:VEVENT
BEGIN:VEVENT
DTSTART;TZID=America/Los_Angeles:20261017T100000
DTEND;TZID=America/Los_Angeles:20261017T170000
DTSTAMP:20260421T225018
CREATED:20251105T172907Z
LAST-MODIFIED:20260415T190325Z
UID:10030827-1792231200-1792256400@create.vegas
SUMMARY:Las Vegas Book Festival 2026
DESCRIPTION:Save the Date: 2026 Las Vegas Book Festival!\n\n\nThe 2025 Las Vegas Book Festival will feature renowned authors and political icons former U.S. Senator Richard Bryan\, former Nevada Governor Bob Miller; authors from The New York Times Bestsellers list\, including Taylor Jenkins Reid\, Katherine Stewart\, Tim Alberta\, Jasmine Guillory and Julie Murphy; and allthe rest of the authors from Disney’s Meant To Be romantic comedy series— Christina Lauren\, Zoraida Córdova and Jesse Q. Sutanto. \nJoin us for a day of literary delights\, where book lovers of all ages are invited to partake in enriching discussions with esteemed authors and participate in family-friendly activities that spark creativity and curiosity. \nAdmission is FREE\, and everyone is welcome! Discover the magic of storytelling through engaging author sessions and explore the wonders of literature with family and friends. \nRSVP to secure your spot and visit lasvegasbookfestival.com for the latest updates and information. Mark your calendars so you don’t miss out on this opportunity to celebrate the written word. \nIf you are interested in applying to become a vendor with the city\, please fill out this form: https://cityoflasvegas.formstack.com/forms/vendor_application_to_provide_services (opportunities are closed for this event.)
URL:https://create.vegas/event/las-vegas-book-festival-2026/
LOCATION:Historic Fifth Street School\, 401 South 4th Street\, Las Vegas\, NV\, 89101\, United States
CATEGORIES:Community Event
ATTACH;FMTTYPE=image/jpeg:https://create.vegas/wp-content/uploads/2025/03/7938f1741b5206d65efee7f88559cc57.jpg
END:VEVENT
END:VCALENDAR