BEGIN:VCALENDAR
VERSION:2.0
PRODID:-//Create.Vegas - ECPv6.15.20//NONSGML v1.0//EN
CALSCALE:GREGORIAN
METHOD:PUBLISH
X-WR-CALNAME:Create.Vegas
X-ORIGINAL-URL:https://create.vegas
X-WR-CALDESC:Events for Create.Vegas
REFRESH-INTERVAL;VALUE=DURATION:PT1H
X-Robots-Tag:noindex
X-PUBLISHED-TTL:PT1H
BEGIN:VTIMEZONE
TZID:America/Los_Angeles
BEGIN:DAYLIGHT
TZOFFSETFROM:-0800
TZOFFSETTO:-0700
TZNAME:PDT
DTSTART:20240310T100000
END:DAYLIGHT
BEGIN:STANDARD
TZOFFSETFROM:-0700
TZOFFSETTO:-0800
TZNAME:PST
DTSTART:20241103T090000
END:STANDARD
BEGIN:DAYLIGHT
TZOFFSETFROM:-0800
TZOFFSETTO:-0700
TZNAME:PDT
DTSTART:20250309T100000
END:DAYLIGHT
BEGIN:STANDARD
TZOFFSETFROM:-0700
TZOFFSETTO:-0800
TZNAME:PST
DTSTART:20251102T090000
END:STANDARD
BEGIN:DAYLIGHT
TZOFFSETFROM:-0800
TZOFFSETTO:-0700
TZNAME:PDT
DTSTART:20260308T100000
END:DAYLIGHT
BEGIN:STANDARD
TZOFFSETFROM:-0700
TZOFFSETTO:-0800
TZNAME:PST
DTSTART:20261101T090000
END:STANDARD
END:VTIMEZONE
BEGIN:VEVENT
DTSTART;TZID=America/Los_Angeles:20251106T090000
DTEND;TZID=America/Los_Angeles:20251106T110000
DTSTAMP:20260422T003450
CREATED:20251106T201440Z
LAST-MODIFIED:20251106T201440Z
UID:10030959-1762419600-1762426800@create.vegas
SUMMARY:FY27 Grants Road Show – Las Vegas
DESCRIPTION:Are you a local artist or part of a small group like a nonprofit\, school\, library\, tribe\, or town office\, looking to bring more art and visitors to your community? The Nevada Arts Council and Travel Nevada offer grants that can help make that possible. \nPlease register to attend one of our in-person grants information session. Registration is encouraged.
URL:https://create.vegas/event/fy27-grants-road-show-las-vegas/
LOCATION:Historic Fifth Street School\, 401 South 4th Street\, Las Vegas\, NV\, 89101\, United States
CATEGORIES:Performing Arts
ATTACH;FMTTYPE=image/jpeg:https://create.vegas/wp-content/uploads/2025/11/Car-Forest-2-91QAGA.jpg
END:VEVENT
BEGIN:VEVENT
DTSTART;TZID=America/Los_Angeles:20251018T100000
DTEND;TZID=America/Los_Angeles:20251018T170000
DTSTAMP:20260422T003450
CREATED:20250313T215532Z
LAST-MODIFIED:20251008T183815Z
UID:10025803-1760781600-1760806800@create.vegas
SUMMARY:Las Vegas Book Festival 2025
DESCRIPTION:Save the Date: 2025 Las Vegas Book Festival!\n\n\nImmerse yourself in the world of literature at the Las Vegas Book Festival. Join us for a day of literary delights\, where book lovers of all ages are invited to partake in enriching discussions with esteemed authors and participate in family-friendly activities that spark creativity and curiosity. \nAdmission is FREE\, and everyone is welcome! Discover the magic of storytelling through engaging author sessions and explore the wonders of literature with family and friends. \nRSVP to secure your spot and visit lasvegasbookfestival.com for the latest updates and information. Mark your calendars so you don’t miss out on this opportunity to celebrate the written word. \nIf you are interested in applying to become a vendor with the city\, please fill out this form: https://cityoflasvegas.formstack.com/forms/vendor_application_to_provide_services (opportunities are closed for this event.)
URL:https://create.vegas/event/las-vegas-book-festival-2025/
LOCATION:Historic Fifth Street School\, 401 South 4th Street\, Las Vegas\, NV\, 89101\, United States
CATEGORIES:Community Event
ATTACH;FMTTYPE=image/jpeg:https://create.vegas/wp-content/uploads/2025/03/7938f1741b5206d65efee7f88559cc57.jpg
END:VEVENT
BEGIN:VEVENT
DTSTART;TZID=America/Los_Angeles:20251011T100000
DTEND;TZID=America/Los_Angeles:20251011T120000
DTSTAMP:20260422T003450
CREATED:20250910T171815Z
LAST-MODIFIED:20251008T183814Z
UID:10029554-1760176800-1760184000@create.vegas
SUMMARY:Memory Ware Workshop with Artist Kat Ryals
DESCRIPTION:Join mixed media artist Kat Ryals for a hands-on workshop exploring mosaic upcycling inspired by the craft of memory ware.\n\n\nAbout this event: \n“Memory ware” is a folk art practice where everyday vessels like bottles\, vases\, and jugs are decorated by embedding small items and keepsakes into a clay-like substance. Originating in Black communities of the American South and in Victorian Britain\, these 3D mosaics were intended to hold personal significance\, with objects such as keys\, buttons\, shells\, and beads being used to create the designs. \n \nJoin mixed media artist Kat Ryals for a hands-on workshop exploring mosaic upcycling inspired by the craft of memory ware. Participants will use recycled and found materials to create a one-of-a- memory ware vessel. \n \nWhat you’ll do: \n\nLearn about the history and creative traditions of memory ware\nSee examples of both historic and contemporary memory ware artworks\nCreate your own using a homemade mortar and provided trinkets\, beads\, and materials\nExperiment with upcycling and reuse as part of the artistic process\nTake home your completed memory ware vessel\n\n \nWho can attend: \nThis workshop is designed for families and all ages. \n\nChildren under 14 must be accompanied by an adult.\nNo prior experience required.\n\n \nWhat to bring: \n\nA vase\, pot\, or small vessel you’d like to decorate\n\nOptional: small personal trinkets\, jewelry\, or keepsakes to embed in your design (additional decorative items will be provided) \n \nDetails: \nDate & Time: October 11th 10am-12pm \nLocation: Historic Fifth Street School\, 401 S. 4th St.\, Suite 140 Las Vegas\, NV 89101 \nDuration: 2 hours \nCapacity: Limited to 20 participants \nCost: Free \nPlease wear clothes suitable for a hands-on art activity.
URL:https://create.vegas/event/memory-ware-workshop-with-artist-kat-ryals/
LOCATION:Historic Fifth Street School\, 401 South 4th Street\, Las Vegas\, NV\, 89101\, United States
CATEGORIES:Community Event
ATTACH;FMTTYPE=image/jpeg:https://create.vegas/wp-content/uploads/2025/09/52df6f77098d5d238d328536baf5785b.jpg
END:VEVENT
END:VCALENDAR