BEGIN:VCALENDAR
VERSION:2.0
PRODID:-//Create.Vegas - ECPv6.15.20//NONSGML v1.0//EN
CALSCALE:GREGORIAN
METHOD:PUBLISH
X-WR-CALNAME:Create.Vegas
X-ORIGINAL-URL:https://create.vegas
X-WR-CALDESC:Events for Create.Vegas
REFRESH-INTERVAL;VALUE=DURATION:PT1H
X-Robots-Tag:noindex
X-PUBLISHED-TTL:PT1H
BEGIN:VTIMEZONE
TZID:America/Los_Angeles
BEGIN:DAYLIGHT
TZOFFSETFROM:-0800
TZOFFSETTO:-0700
TZNAME:PDT
DTSTART:20240310T100000
END:DAYLIGHT
BEGIN:STANDARD
TZOFFSETFROM:-0700
TZOFFSETTO:-0800
TZNAME:PST
DTSTART:20241103T090000
END:STANDARD
BEGIN:DAYLIGHT
TZOFFSETFROM:-0800
TZOFFSETTO:-0700
TZNAME:PDT
DTSTART:20250309T100000
END:DAYLIGHT
BEGIN:STANDARD
TZOFFSETFROM:-0700
TZOFFSETTO:-0800
TZNAME:PST
DTSTART:20251102T090000
END:STANDARD
BEGIN:DAYLIGHT
TZOFFSETFROM:-0800
TZOFFSETTO:-0700
TZNAME:PDT
DTSTART:20260308T100000
END:DAYLIGHT
BEGIN:STANDARD
TZOFFSETFROM:-0700
TZOFFSETTO:-0800
TZNAME:PST
DTSTART:20261101T090000
END:STANDARD
BEGIN:DAYLIGHT
TZOFFSETFROM:-0800
TZOFFSETTO:-0700
TZNAME:PDT
DTSTART:20270314T100000
END:DAYLIGHT
BEGIN:STANDARD
TZOFFSETFROM:-0700
TZOFFSETTO:-0800
TZNAME:PST
DTSTART:20271107T090000
END:STANDARD
END:VTIMEZONE
BEGIN:VEVENT
DTSTART;TZID=America/Los_Angeles:20260204T190000
DTEND;TZID=America/Los_Angeles:20260204T210000
DTSTAMP:20260423T100205
CREATED:20260125T204748Z
LAST-MODIFIED:20260125T204748Z
UID:10032708-1770231600-1770238800@create.vegas
SUMMARY:Trivia Night at General Admission
DESCRIPTION:Come and experience the thrill of Trivia Night at General Admission Las Vegas! \nJoin us for an exciting Trivia Night\, where fun\, food\, and friendly competition come together! Whether you’re a trivia aficionado or just looking for a great night out\, our Trivia Night is the perfect event for you. Bring your friends\, family\, or coworkers\, and put your knowledge to the test across a range of topics. It’s free to play and prizes to win! \nReady to put your knowledge to the test and have a blast? Join us every Wednesday from 7pm to 9pm for Trivia Night Extravaganza!
URL:https://create.vegas/event/trivia-night-at-general-admission-67/
LOCATION:General Admission\, 8548 Rozita Lee Ave\, Las Vegas\, NV\, 89113\, United States
CATEGORIES:Food & Drink & Fun
ATTACH;FMTTYPE=image/png:https://create.vegas/wp-content/uploads/2024/09/JUN-26-2024-k0JuYN.tmp_.png
END:VEVENT
BEGIN:VEVENT
DTSTART;TZID=America/Los_Angeles:20260128T190000
DTEND;TZID=America/Los_Angeles:20260128T210000
DTSTAMP:20260423T100205
CREATED:20260125T204747Z
LAST-MODIFIED:20260125T204747Z
UID:10032705-1769626800-1769634000@create.vegas
SUMMARY:Trivia Night at General Admission
DESCRIPTION:Come and experience the thrill of Trivia Night at General Admission Las Vegas! \nJoin us for an exciting Trivia Night\, where fun\, food\, and friendly competition come together! Whether you’re a trivia aficionado or just looking for a great night out\, our Trivia Night is the perfect event for you. Bring your friends\, family\, or coworkers\, and put your knowledge to the test across a range of topics. It’s free to play and prizes to win! \nReady to put your knowledge to the test and have a blast? Join us every Wednesday from 7pm to 9pm for Trivia Night Extravaganza!
URL:https://create.vegas/event/trivia-night-at-general-admission-66/
LOCATION:General Admission\, 8548 Rozita Lee Ave\, Las Vegas\, NV\, 89113\, United States
CATEGORIES:Food & Drink & Fun
ATTACH;FMTTYPE=image/png:https://create.vegas/wp-content/uploads/2024/09/JUN-26-2024-k0JuYN.tmp_.png
END:VEVENT
BEGIN:VEVENT
DTSTART;TZID=America/Los_Angeles:20260121T190000
DTEND;TZID=America/Los_Angeles:20260121T210000
DTSTAMP:20260423T100205
CREATED:20251226T204751Z
LAST-MODIFIED:20251226T204751Z
UID:10032246-1769022000-1769029200@create.vegas
SUMMARY:Trivia Night at General Admission
DESCRIPTION:Come and experience the thrill of Trivia Night at General Admission Las Vegas! \nJoin us for an exciting Trivia Night\, where fun\, food\, and friendly competition come together! Whether you’re a trivia aficionado or just looking for a great night out\, our Trivia Night is the perfect event for you. Bring your friends\, family\, or coworkers\, and put your knowledge to the test across a range of topics. It’s free to play and prizes to win! \nReady to put your knowledge to the test and have a blast? Join us every Wednesday from 7pm to 9pm for Trivia Night Extravaganza!
URL:https://create.vegas/event/trivia-night-at-general-admission-65/
LOCATION:General Admission\, 8548 Rozita Lee Ave\, Las Vegas\, NV\, 89113\, United States
CATEGORIES:Food & Drink & Fun
ATTACH;FMTTYPE=image/png:https://create.vegas/wp-content/uploads/2024/09/JUN-26-2024-k0JuYN.tmp_.png
END:VEVENT
BEGIN:VEVENT
DTSTART;TZID=America/Los_Angeles:20260114T190000
DTEND;TZID=America/Los_Angeles:20260114T210000
DTSTAMP:20260423T100205
CREATED:20251226T204750Z
LAST-MODIFIED:20251226T204750Z
UID:10032243-1768417200-1768424400@create.vegas
SUMMARY:Trivia Night at General Admission
DESCRIPTION:Come and experience the thrill of Trivia Night at General Admission Las Vegas! \nJoin us for an exciting Trivia Night\, where fun\, food\, and friendly competition come together! Whether you’re a trivia aficionado or just looking for a great night out\, our Trivia Night is the perfect event for you. Bring your friends\, family\, or coworkers\, and put your knowledge to the test across a range of topics. It’s free to play and prizes to win! \nReady to put your knowledge to the test and have a blast? Join us every Wednesday from 7pm to 9pm for Trivia Night Extravaganza!
URL:https://create.vegas/event/trivia-night-at-general-admission-64/
LOCATION:General Admission\, 8548 Rozita Lee Ave\, Las Vegas\, NV\, 89113\, United States
CATEGORIES:Food & Drink & Fun
ATTACH;FMTTYPE=image/png:https://create.vegas/wp-content/uploads/2024/09/JUN-26-2024-k0JuYN.tmp_.png
END:VEVENT
BEGIN:VEVENT
DTSTART;TZID=America/Los_Angeles:20260107T190000
DTEND;TZID=America/Los_Angeles:20260107T210000
DTSTAMP:20260423T100205
CREATED:20251226T204749Z
LAST-MODIFIED:20251226T204749Z
UID:10032239-1767812400-1767819600@create.vegas
SUMMARY:Trivia Night at General Admission
DESCRIPTION:Come and experience the thrill of Trivia Night at General Admission Las Vegas! \nJoin us for an exciting Trivia Night\, where fun\, food\, and friendly competition come together! Whether you’re a trivia aficionado or just looking for a great night out\, our Trivia Night is the perfect event for you. Bring your friends\, family\, or coworkers\, and put your knowledge to the test across a range of topics. It’s free to play and prizes to win! \nReady to put your knowledge to the test and have a blast? Join us every Wednesday from 7pm to 9pm for Trivia Night Extravaganza!
URL:https://create.vegas/event/trivia-night-at-general-admission-63/
LOCATION:General Admission\, 8548 Rozita Lee Ave\, Las Vegas\, NV\, 89113\, United States
CATEGORIES:Food & Drink & Fun
ATTACH;FMTTYPE=image/png:https://create.vegas/wp-content/uploads/2024/09/JUN-26-2024-k0JuYN.tmp_.png
END:VEVENT
BEGIN:VEVENT
DTSTART;TZID=America/Los_Angeles:20251231T190000
DTEND;TZID=America/Los_Angeles:20251231T210000
DTSTAMP:20260423T100205
CREATED:20251226T204748Z
LAST-MODIFIED:20251226T204748Z
UID:10032236-1767207600-1767214800@create.vegas
SUMMARY:Trivia Night at General Admission
DESCRIPTION:Come and experience the thrill of Trivia Night at General Admission Las Vegas! \nJoin us for an exciting Trivia Night\, where fun\, food\, and friendly competition come together! Whether you’re a trivia aficionado or just looking for a great night out\, our Trivia Night is the perfect event for you. Bring your friends\, family\, or coworkers\, and put your knowledge to the test across a range of topics. It’s free to play and prizes to win! \nReady to put your knowledge to the test and have a blast? Join us every Wednesday from 7pm to 9pm for Trivia Night Extravaganza!
URL:https://create.vegas/event/trivia-night-at-general-admission-62/
LOCATION:General Admission\, 8548 Rozita Lee Ave\, Las Vegas\, NV\, 89113\, United States
CATEGORIES:Food & Drink & Fun
ATTACH;FMTTYPE=image/png:https://create.vegas/wp-content/uploads/2024/09/JUN-26-2024-k0JuYN.tmp_.png
END:VEVENT
BEGIN:VEVENT
DTSTART;TZID=America/Los_Angeles:20251224T190000
DTEND;TZID=America/Los_Angeles:20251224T210000
DTSTAMP:20260423T100205
CREATED:20251126T203744Z
LAST-MODIFIED:20251126T203744Z
UID:10031535-1766602800-1766610000@create.vegas
SUMMARY:Trivia Night at General Admission
DESCRIPTION:Come and experience the thrill of Trivia Night at General Admission Las Vegas! \nJoin us for an exciting Trivia Night\, where fun\, food\, and friendly competition come together! Whether you’re a trivia aficionado or just looking for a great night out\, our Trivia Night is the perfect event for you. Bring your friends\, family\, or coworkers\, and put your knowledge to the test across a range of topics. It’s free to play and prizes to win! \nReady to put your knowledge to the test and have a blast? Join us every Wednesday from 7pm to 9pm for Trivia Night Extravaganza!
URL:https://create.vegas/event/trivia-night-at-general-admission-61/
LOCATION:General Admission\, 8548 Rozita Lee Ave\, Las Vegas\, NV\, 89113\, United States
CATEGORIES:Food & Drink & Fun
ATTACH;FMTTYPE=image/png:https://create.vegas/wp-content/uploads/2024/09/JUN-26-2024-k0JuYN.tmp_.png
END:VEVENT
BEGIN:VEVENT
DTSTART;TZID=America/Los_Angeles:20251217T190000
DTEND;TZID=America/Los_Angeles:20251217T210000
DTSTAMP:20260423T100205
CREATED:20251126T203742Z
LAST-MODIFIED:20251126T203742Z
UID:10031530-1765998000-1766005200@create.vegas
SUMMARY:Trivia Night at General Admission
DESCRIPTION:Come and experience the thrill of Trivia Night at General Admission Las Vegas! \nJoin us for an exciting Trivia Night\, where fun\, food\, and friendly competition come together! Whether you’re a trivia aficionado or just looking for a great night out\, our Trivia Night is the perfect event for you. Bring your friends\, family\, or coworkers\, and put your knowledge to the test across a range of topics. It’s free to play and prizes to win! \nReady to put your knowledge to the test and have a blast? Join us every Wednesday from 7pm to 9pm for Trivia Night Extravaganza!
URL:https://create.vegas/event/trivia-night-at-general-admission-60/
LOCATION:General Admission\, 8548 Rozita Lee Ave\, Las Vegas\, NV\, 89113\, United States
CATEGORIES:Food & Drink & Fun
ATTACH;FMTTYPE=image/png:https://create.vegas/wp-content/uploads/2024/09/JUN-26-2024-k0JuYN.tmp_.png
END:VEVENT
BEGIN:VEVENT
DTSTART;TZID=America/Los_Angeles:20251210T190000
DTEND;TZID=America/Los_Angeles:20251210T210000
DTSTAMP:20260423T100205
CREATED:20251126T203738Z
LAST-MODIFIED:20251126T203738Z
UID:10031523-1765393200-1765400400@create.vegas
SUMMARY:Trivia Night at General Admission
DESCRIPTION:Come and experience the thrill of Trivia Night at General Admission Las Vegas! \nJoin us for an exciting Trivia Night\, where fun\, food\, and friendly competition come together! Whether you’re a trivia aficionado or just looking for a great night out\, our Trivia Night is the perfect event for you. Bring your friends\, family\, or coworkers\, and put your knowledge to the test across a range of topics. It’s free to play and prizes to win! \nReady to put your knowledge to the test and have a blast? Join us every Wednesday from 7pm to 9pm for Trivia Night Extravaganza!
URL:https://create.vegas/event/trivia-night-at-general-admission-59/
LOCATION:General Admission\, 8548 Rozita Lee Ave\, Las Vegas\, NV\, 89113\, United States
CATEGORIES:Food & Drink & Fun
ATTACH;FMTTYPE=image/png:https://create.vegas/wp-content/uploads/2024/09/JUN-26-2024-k0JuYN.tmp_.png
END:VEVENT
BEGIN:VEVENT
DTSTART;TZID=America/Los_Angeles:20251203T190000
DTEND;TZID=America/Los_Angeles:20251203T210000
DTSTAMP:20260423T100205
CREATED:20251126T203734Z
LAST-MODIFIED:20251126T203734Z
UID:10031516-1764788400-1764795600@create.vegas
SUMMARY:Trivia Night at General Admission
DESCRIPTION:Come and experience the thrill of Trivia Night at General Admission Las Vegas! \nJoin us for an exciting Trivia Night\, where fun\, food\, and friendly competition come together! Whether you’re a trivia aficionado or just looking for a great night out\, our Trivia Night is the perfect event for you. Bring your friends\, family\, or coworkers\, and put your knowledge to the test across a range of topics. It’s free to play and prizes to win! \nReady to put your knowledge to the test and have a blast? Join us every Wednesday from 7pm to 9pm for Trivia Night Extravaganza!
URL:https://create.vegas/event/trivia-night-at-general-admission-58/
LOCATION:General Admission\, 8548 Rozita Lee Ave\, Las Vegas\, NV\, 89113\, United States
CATEGORIES:Food & Drink & Fun
ATTACH;FMTTYPE=image/png:https://create.vegas/wp-content/uploads/2024/09/JUN-26-2024-k0JuYN.tmp_.png
END:VEVENT
BEGIN:VEVENT
DTSTART;TZID=America/Los_Angeles:20251126T190000
DTEND;TZID=America/Los_Angeles:20251126T210000
DTSTAMP:20260423T100205
CREATED:20251126T203731Z
LAST-MODIFIED:20251126T203731Z
UID:10031511-1764183600-1764190800@create.vegas
SUMMARY:Trivia Night at General Admission
DESCRIPTION:Come and experience the thrill of Trivia Night at General Admission Las Vegas! \nJoin us for an exciting Trivia Night\, where fun\, food\, and friendly competition come together! Whether you’re a trivia aficionado or just looking for a great night out\, our Trivia Night is the perfect event for you. Bring your friends\, family\, or coworkers\, and put your knowledge to the test across a range of topics. It’s free to play and prizes to win! \nReady to put your knowledge to the test and have a blast? Join us every Wednesday from 7pm to 9pm for Trivia Night Extravaganza!
URL:https://create.vegas/event/trivia-night-at-general-admission-57/
LOCATION:General Admission\, 8548 Rozita Lee Ave\, Las Vegas\, NV\, 89113\, United States
CATEGORIES:Food & Drink & Fun
ATTACH;FMTTYPE=image/png:https://create.vegas/wp-content/uploads/2024/09/JUN-26-2024-k0JuYN.tmp_.png
END:VEVENT
BEGIN:VEVENT
DTSTART;TZID=America/Los_Angeles:20251029T190000
DTEND;TZID=America/Los_Angeles:20251029T210000
DTSTAMP:20260423T100205
CREATED:20251005T223259Z
LAST-MODIFIED:20251005T223308Z
UID:10029711-1761764400-1761771600@create.vegas
SUMMARY:Trivia Night at General Admission
DESCRIPTION:Come and experience the thrill of Trivia Night at General Admission Las Vegas! \nJoin us for an exciting Trivia Night\, where fun\, food\, and friendly competition come together! Whether you’re a trivia aficionado or just looking for a great night out\, our Trivia Night is the perfect event for you. Bring your friends\, family\, or coworkers\, and put your knowledge to the test across a range of topics. It’s free to play and prizes to win! \nReady to put your knowledge to the test and have a blast? Join us every Wednesday from 7pm to 9pm for Trivia Night Extravaganza!
URL:https://create.vegas/event/trivia-night-at-general-admission-56/
LOCATION:General Admission\, 8548 Rozita Lee Ave\, Las Vegas\, NV\, 89113\, United States
CATEGORIES:Food & Drink & Fun
ATTACH;FMTTYPE=image/png:https://create.vegas/wp-content/uploads/2024/09/JUN-26-2024-k0JuYN.tmp_.png
END:VEVENT
BEGIN:VEVENT
DTSTART;TZID=America/Los_Angeles:20251022T190000
DTEND;TZID=America/Los_Angeles:20251022T210000
DTSTAMP:20260423T100205
CREATED:20251005T223256Z
LAST-MODIFIED:20251005T223305Z
UID:10029705-1761159600-1761166800@create.vegas
SUMMARY:Trivia Night at General Admission
DESCRIPTION:Come and experience the thrill of Trivia Night at General Admission Las Vegas! \nJoin us for an exciting Trivia Night\, where fun\, food\, and friendly competition come together! Whether you’re a trivia aficionado or just looking for a great night out\, our Trivia Night is the perfect event for you. Bring your friends\, family\, or coworkers\, and put your knowledge to the test across a range of topics. It’s free to play and prizes to win! \nReady to put your knowledge to the test and have a blast? Join us every Wednesday from 7pm to 9pm for Trivia Night Extravaganza!
URL:https://create.vegas/event/trivia-night-at-general-admission-55/
LOCATION:General Admission\, 8548 Rozita Lee Ave\, Las Vegas\, NV\, 89113\, United States
CATEGORIES:Food & Drink & Fun
ATTACH;FMTTYPE=image/png:https://create.vegas/wp-content/uploads/2024/09/JUN-26-2024-k0JuYN.tmp_.png
END:VEVENT
BEGIN:VEVENT
DTSTART;TZID=America/Los_Angeles:20251015T190000
DTEND;TZID=America/Los_Angeles:20251015T210000
DTSTAMP:20260423T100205
CREATED:20251005T223255Z
LAST-MODIFIED:20251005T223303Z
UID:10029699-1760554800-1760562000@create.vegas
SUMMARY:Trivia Night at General Admission
DESCRIPTION:Come and experience the thrill of Trivia Night at General Admission Las Vegas! \nJoin us for an exciting Trivia Night\, where fun\, food\, and friendly competition come together! Whether you’re a trivia aficionado or just looking for a great night out\, our Trivia Night is the perfect event for you. Bring your friends\, family\, or coworkers\, and put your knowledge to the test across a range of topics. It’s free to play and prizes to win! \nReady to put your knowledge to the test and have a blast? Join us every Wednesday from 7pm to 9pm for Trivia Night Extravaganza!
URL:https://create.vegas/event/trivia-night-at-general-admission-54/
LOCATION:General Admission\, 8548 Rozita Lee Ave\, Las Vegas\, NV\, 89113\, United States
CATEGORIES:Food & Drink & Fun
ATTACH;FMTTYPE=image/png:https://create.vegas/wp-content/uploads/2024/09/JUN-26-2024-k0JuYN.tmp_.png
END:VEVENT
BEGIN:VEVENT
DTSTART;TZID=America/Los_Angeles:20251008T190000
DTEND;TZID=America/Los_Angeles:20251008T210000
DTSTAMP:20260423T100205
CREATED:20251005T223251Z
LAST-MODIFIED:20251005T223301Z
UID:10029691-1759950000-1759957200@create.vegas
SUMMARY:Trivia Night at General Admission
DESCRIPTION:Come and experience the thrill of Trivia Night at General Admission Las Vegas! \nJoin us for an exciting Trivia Night\, where fun\, food\, and friendly competition come together! Whether you’re a trivia aficionado or just looking for a great night out\, our Trivia Night is the perfect event for you. Bring your friends\, family\, or coworkers\, and put your knowledge to the test across a range of topics. It’s free to play and prizes to win! \nReady to put your knowledge to the test and have a blast? Join us every Wednesday from 7pm to 9pm for Trivia Night Extravaganza!
URL:https://create.vegas/event/trivia-night-at-general-admission-53/
LOCATION:General Admission\, 8548 Rozita Lee Ave\, Las Vegas\, NV\, 89113\, United States
CATEGORIES:Food & Drink & Fun
ATTACH;FMTTYPE=image/png:https://create.vegas/wp-content/uploads/2024/09/JUN-26-2024-k0JuYN.tmp_.png
END:VEVENT
BEGIN:VEVENT
DTSTART;TZID=America/Los_Angeles:20251001T190000
DTEND;TZID=America/Los_Angeles:20251001T210000
DTSTAMP:20260423T100205
CREATED:20250905T223302Z
LAST-MODIFIED:20250905T223302Z
UID:10029486-1759345200-1759352400@create.vegas
SUMMARY:Trivia Night at General Admission
DESCRIPTION:Come and experience the thrill of Trivia Night at General Admission Las Vegas! \nJoin us for an exciting Trivia Night\, where fun\, food\, and friendly competition come together! Whether you’re a trivia aficionado or just looking for a great night out\, our Trivia Night is the perfect event for you. Bring your friends\, family\, or coworkers\, and put your knowledge to the test across a range of topics. It’s free to play and prizes to win! \nReady to put your knowledge to the test and have a blast? Join us every Wednesday from 7pm to 9pm for Trivia Night Extravaganza!
URL:https://create.vegas/event/trivia-night-at-general-admission-52/
LOCATION:General Admission\, 8548 Rozita Lee Ave\, Las Vegas\, NV\, 89113\, United States
CATEGORIES:Food & Drink & Fun
ATTACH;FMTTYPE=image/png:https://create.vegas/wp-content/uploads/2024/09/JUN-26-2024-k0JuYN.tmp_.png
END:VEVENT
END:VCALENDAR