BEGIN:VCALENDAR
VERSION:2.0
PRODID:-//Create.Vegas - ECPv6.15.20//NONSGML v1.0//EN
CALSCALE:GREGORIAN
METHOD:PUBLISH
X-ORIGINAL-URL:https://create.vegas
X-WR-CALDESC:Events for Create.Vegas
REFRESH-INTERVAL;VALUE=DURATION:PT1H
X-Robots-Tag:noindex
X-PUBLISHED-TTL:PT1H
BEGIN:VTIMEZONE
TZID:America/Los_Angeles
BEGIN:DAYLIGHT
TZOFFSETFROM:-0800
TZOFFSETTO:-0700
TZNAME:PDT
DTSTART:20240310T100000
END:DAYLIGHT
BEGIN:STANDARD
TZOFFSETFROM:-0700
TZOFFSETTO:-0800
TZNAME:PST
DTSTART:20241103T090000
END:STANDARD
BEGIN:DAYLIGHT
TZOFFSETFROM:-0800
TZOFFSETTO:-0700
TZNAME:PDT
DTSTART:20250309T100000
END:DAYLIGHT
BEGIN:STANDARD
TZOFFSETFROM:-0700
TZOFFSETTO:-0800
TZNAME:PST
DTSTART:20251102T090000
END:STANDARD
BEGIN:DAYLIGHT
TZOFFSETFROM:-0800
TZOFFSETTO:-0700
TZNAME:PDT
DTSTART:20260308T100000
END:DAYLIGHT
BEGIN:STANDARD
TZOFFSETFROM:-0700
TZOFFSETTO:-0800
TZNAME:PST
DTSTART:20261101T090000
END:STANDARD
END:VTIMEZONE
BEGIN:VEVENT
DTSTART;TZID=America/Los_Angeles:20251129T130000
DTEND;TZID=America/Los_Angeles:20251129T160000
DTSTAMP:20260424T150902
CREATED:20251125T180248Z
LAST-MODIFIED:20251125T180248Z
UID:10031500-1764421200-1764432000@create.vegas
SUMMARY:The Cigar Aficionado & Motorcar Enthusiast-Meet-Up Experience By:  (CCG)
DESCRIPTION:Join The Cigars and Cars Group (CCG) where The Cigar Aficionado and Car Enthusiast join forces for a great afternoon of networking and more.\n\n\n\nCome and learn about our Breakfast Club and it’s perks. The (CCG )Breakfast Club meets every three weeks at selected locations. Share this event with your inner circle and join the fun.  \nPlease RSVP for our head count by: Novermber 27th  \nFollow and like us on IG & X: @CigarsCarsGroup \nOfficial Website: www.CigarsandCarsGroup.com \nAll Inquiries: Info@Cigarsandcarsgroup \nHashtag: CigarsandCarsGroup
URL:https://create.vegas/event/the-cigar-aficionado-motorcar-enthusiast-meet-up-experience-by-ccg/
LOCATION:Del Frisco’s Double Eagle Steakhouse\, 3925 Paradise Road\, Las Vegas\, NV\, 89169\, United States
CATEGORIES:Community Event
ATTACH;FMTTYPE=image/jpeg:https://create.vegas/wp-content/uploads/2025/11/c1bbfd0b0695145596ad99555c21ca2a.jpg
END:VEVENT
END:VCALENDAR