BEGIN:VCALENDAR
VERSION:2.0
PRODID:-//Create.Vegas - ECPv6.15.20//NONSGML v1.0//EN
CALSCALE:GREGORIAN
METHOD:PUBLISH
X-WR-CALNAME:Create.Vegas
X-ORIGINAL-URL:https://create.vegas
X-WR-CALDESC:Events for Create.Vegas
REFRESH-INTERVAL;VALUE=DURATION:PT1H
X-Robots-Tag:noindex
X-PUBLISHED-TTL:PT1H
BEGIN:VTIMEZONE
TZID:America/Los_Angeles
BEGIN:DAYLIGHT
TZOFFSETFROM:-0800
TZOFFSETTO:-0700
TZNAME:PDT
DTSTART:20250309T100000
END:DAYLIGHT
BEGIN:STANDARD
TZOFFSETFROM:-0700
TZOFFSETTO:-0800
TZNAME:PST
DTSTART:20251102T090000
END:STANDARD
BEGIN:DAYLIGHT
TZOFFSETFROM:-0800
TZOFFSETTO:-0700
TZNAME:PDT
DTSTART:20260308T100000
END:DAYLIGHT
BEGIN:STANDARD
TZOFFSETFROM:-0700
TZOFFSETTO:-0800
TZNAME:PST
DTSTART:20261101T090000
END:STANDARD
BEGIN:DAYLIGHT
TZOFFSETFROM:-0800
TZOFFSETTO:-0700
TZNAME:PDT
DTSTART:20270314T100000
END:DAYLIGHT
BEGIN:STANDARD
TZOFFSETFROM:-0700
TZOFFSETTO:-0800
TZNAME:PST
DTSTART:20271107T090000
END:STANDARD
END:VTIMEZONE
BEGIN:VEVENT
DTSTART;TZID=America/Los_Angeles:20260422T070000
DTEND;TZID=America/Los_Angeles:20260422T170000
DTSTAMP:20260421T205850
CREATED:20260326T230427Z
LAST-MODIFIED:20260326T230427Z
UID:10034149-1776841200-1776877200@create.vegas
SUMMARY:Flux1: A College of Southern Nevada traveling exhibition featuring the work of Sherry Watkins – North Las Vegas
DESCRIPTION:The College of Southern Nevada\, School of Arts & Letters\, and Department of Fine Arts will host a traveling exhibition of acrylic paintings by Nevada-based artist and College of Southern Nevada Performing Arts Center box office supervisor\, Sherry Watkins. Flux1: A College of Southern Nevada traveling exhibition featuring the work of Sherry Watkins\, will open on Tuesday\, July 1\, 2025\, and will travel throughout the Las Vegas Valley with showings on the CSN Henderson Campus (July 1\, 2025 – Oct. 31\, 2025)\, the Charleston Campus (Nov. 1\, 2025 – Feb. 28\, 2026)\, and the North Las Vegas Campus (March 1\, 2026 – June 30\, 2026). A special Gallery Talk and Artist Reception with light refreshments will take place on Wednesday\, March 4\, 2026\, at 6 p.m. in the North Las Vegas Campus\, Tyrone Thompson Student Union Art Gallery. The CSN Student Union Art Galleries are free\, family-friendly\, and open to the public. \nOriginally from Illinois\, Sherry Watkins has lived in Las Vegas for nearly 50 years. She attended Clark High School\, the University of Nevada\, Las Vegas\, and the College of Southern Nevada. Watkins has been painting for over a decade\, working primarily in abstract styles. Her work explores various techniques\, including fluid pouring and original design methods. Watkins uses a wide range of tools and materials to achieve distinctive effects and embraces experimentation and creative risk in her process. While she occasionally paints traditional subjects—such as characters\, still lifes\, and landscapes—Watkins is most drawn to the expressive freedom of abstraction. \nSpeaking of her work\, Watkins states\, “Most of my work comes from trial and error\, a willingness to explore new methods\, opening my boundaries to include what I might not at first be comfortable with\, and sometimes just pure luck. I enjoy the freedom of abstract art. I like the power of creating something that did not previously exist. I have AD/HD. When I was doing more “traditional” painting\, such as still life and landscapes\, I ended up with a lot of unfinished paintings. I would be on to the next idea before finishing what I was working on. With abstract art\, only the artist knows when it is truly finished. Abstract art gave me the freedom to be able to paint without the anxiety of not completing my work and leaving paintings half done.” \nThe CSN Student Union Art Galleries are free\, family-friendly\, and open to the public. Gallery hours vary by campus and semester. Please visit https://www.csn.edu/student-unions for current hours of operation. \nFor more information\, please call 702-651-4146 or visit https://www.csn.edu/artgallery
URL:https://create.vegas/event/flux1-a-college-of-southern-nevada-traveling-exhibition-featuring-the-work-of-sherry-watkins-north-las-vegas-40/
LOCATION:CSN North Las Vegas Art Galleries\, 3200 E. Cheyenne Ave.\, North Las Vegas\, NV\, 89030\, United States
CATEGORIES:Exhibit,Family Friendly,Performing Arts,Reception,Visual
ATTACH;FMTTYPE=image/jpeg:https://create.vegas/wp-content/uploads/2025/11/Cloverfield-ZvETT7.jpg
ORGANIZER;CN="College of Southern Nevada Art Galleries":MAILTO:artgallery@csn.edu
END:VEVENT
BEGIN:VEVENT
DTSTART;TZID=America/Los_Angeles:20260423T070000
DTEND;TZID=America/Los_Angeles:20260423T170000
DTSTAMP:20260421T205850
CREATED:20260326T230429Z
LAST-MODIFIED:20260326T230429Z
UID:10034162-1776927600-1776963600@create.vegas
SUMMARY:Flux1: A College of Southern Nevada traveling exhibition featuring the work of Sherry Watkins – North Las Vegas
DESCRIPTION:The College of Southern Nevada\, School of Arts & Letters\, and Department of Fine Arts will host a traveling exhibition of acrylic paintings by Nevada-based artist and College of Southern Nevada Performing Arts Center box office supervisor\, Sherry Watkins. Flux1: A College of Southern Nevada traveling exhibition featuring the work of Sherry Watkins\, will open on Tuesday\, July 1\, 2025\, and will travel throughout the Las Vegas Valley with showings on the CSN Henderson Campus (July 1\, 2025 – Oct. 31\, 2025)\, the Charleston Campus (Nov. 1\, 2025 – Feb. 28\, 2026)\, and the North Las Vegas Campus (March 1\, 2026 – June 30\, 2026). A special Gallery Talk and Artist Reception with light refreshments will take place on Wednesday\, March 4\, 2026\, at 6 p.m. in the North Las Vegas Campus\, Tyrone Thompson Student Union Art Gallery. The CSN Student Union Art Galleries are free\, family-friendly\, and open to the public. \nOriginally from Illinois\, Sherry Watkins has lived in Las Vegas for nearly 50 years. She attended Clark High School\, the University of Nevada\, Las Vegas\, and the College of Southern Nevada. Watkins has been painting for over a decade\, working primarily in abstract styles. Her work explores various techniques\, including fluid pouring and original design methods. Watkins uses a wide range of tools and materials to achieve distinctive effects and embraces experimentation and creative risk in her process. While she occasionally paints traditional subjects—such as characters\, still lifes\, and landscapes—Watkins is most drawn to the expressive freedom of abstraction. \nSpeaking of her work\, Watkins states\, “Most of my work comes from trial and error\, a willingness to explore new methods\, opening my boundaries to include what I might not at first be comfortable with\, and sometimes just pure luck. I enjoy the freedom of abstract art. I like the power of creating something that did not previously exist. I have AD/HD. When I was doing more “traditional” painting\, such as still life and landscapes\, I ended up with a lot of unfinished paintings. I would be on to the next idea before finishing what I was working on. With abstract art\, only the artist knows when it is truly finished. Abstract art gave me the freedom to be able to paint without the anxiety of not completing my work and leaving paintings half done.” \nThe CSN Student Union Art Galleries are free\, family-friendly\, and open to the public. Gallery hours vary by campus and semester. Please visit https://www.csn.edu/student-unions for current hours of operation. \nFor more information\, please call 702-651-4146 or visit https://www.csn.edu/artgallery
URL:https://create.vegas/event/flux1-a-college-of-southern-nevada-traveling-exhibition-featuring-the-work-of-sherry-watkins-north-las-vegas-41/
LOCATION:CSN North Las Vegas Art Galleries\, 3200 E. Cheyenne Ave.\, North Las Vegas\, NV\, 89030\, United States
CATEGORIES:Exhibit,Family Friendly,Performing Arts,Reception,Visual
ATTACH;FMTTYPE=image/jpeg:https://create.vegas/wp-content/uploads/2025/11/Cloverfield-ZvETT7.jpg
ORGANIZER;CN="College of Southern Nevada Art Galleries":MAILTO:artgallery@csn.edu
END:VEVENT
BEGIN:VEVENT
DTSTART;TZID=America/Los_Angeles:20260424T070000
DTEND;TZID=America/Los_Angeles:20260424T170000
DTSTAMP:20260421T205850
CREATED:20260326T230431Z
LAST-MODIFIED:20260326T230431Z
UID:10034174-1777014000-1777050000@create.vegas
SUMMARY:Flux1: A College of Southern Nevada traveling exhibition featuring the work of Sherry Watkins – North Las Vegas
DESCRIPTION:The College of Southern Nevada\, School of Arts & Letters\, and Department of Fine Arts will host a traveling exhibition of acrylic paintings by Nevada-based artist and College of Southern Nevada Performing Arts Center box office supervisor\, Sherry Watkins. Flux1: A College of Southern Nevada traveling exhibition featuring the work of Sherry Watkins\, will open on Tuesday\, July 1\, 2025\, and will travel throughout the Las Vegas Valley with showings on the CSN Henderson Campus (July 1\, 2025 – Oct. 31\, 2025)\, the Charleston Campus (Nov. 1\, 2025 – Feb. 28\, 2026)\, and the North Las Vegas Campus (March 1\, 2026 – June 30\, 2026). A special Gallery Talk and Artist Reception with light refreshments will take place on Wednesday\, March 4\, 2026\, at 6 p.m. in the North Las Vegas Campus\, Tyrone Thompson Student Union Art Gallery. The CSN Student Union Art Galleries are free\, family-friendly\, and open to the public. \nOriginally from Illinois\, Sherry Watkins has lived in Las Vegas for nearly 50 years. She attended Clark High School\, the University of Nevada\, Las Vegas\, and the College of Southern Nevada. Watkins has been painting for over a decade\, working primarily in abstract styles. Her work explores various techniques\, including fluid pouring and original design methods. Watkins uses a wide range of tools and materials to achieve distinctive effects and embraces experimentation and creative risk in her process. While she occasionally paints traditional subjects—such as characters\, still lifes\, and landscapes—Watkins is most drawn to the expressive freedom of abstraction. \nSpeaking of her work\, Watkins states\, “Most of my work comes from trial and error\, a willingness to explore new methods\, opening my boundaries to include what I might not at first be comfortable with\, and sometimes just pure luck. I enjoy the freedom of abstract art. I like the power of creating something that did not previously exist. I have AD/HD. When I was doing more “traditional” painting\, such as still life and landscapes\, I ended up with a lot of unfinished paintings. I would be on to the next idea before finishing what I was working on. With abstract art\, only the artist knows when it is truly finished. Abstract art gave me the freedom to be able to paint without the anxiety of not completing my work and leaving paintings half done.” \nThe CSN Student Union Art Galleries are free\, family-friendly\, and open to the public. Gallery hours vary by campus and semester. Please visit https://www.csn.edu/student-unions for current hours of operation. \nFor more information\, please call 702-651-4146 or visit https://www.csn.edu/artgallery
URL:https://create.vegas/event/flux1-a-college-of-southern-nevada-traveling-exhibition-featuring-the-work-of-sherry-watkins-north-las-vegas-42/
LOCATION:CSN North Las Vegas Art Galleries\, 3200 E. Cheyenne Ave.\, North Las Vegas\, NV\, 89030\, United States
CATEGORIES:Exhibit,Family Friendly,Performing Arts,Reception,Visual
ATTACH;FMTTYPE=image/jpeg:https://create.vegas/wp-content/uploads/2025/11/Cloverfield-ZvETT7.jpg
ORGANIZER;CN="College of Southern Nevada Art Galleries":MAILTO:artgallery@csn.edu
END:VEVENT
END:VCALENDAR