BEGIN:VCALENDAR
VERSION:2.0
PRODID:-//Create.Vegas - ECPv6.15.20//NONSGML v1.0//EN
CALSCALE:GREGORIAN
METHOD:PUBLISH
X-WR-CALNAME:Create.Vegas
X-ORIGINAL-URL:https://create.vegas
X-WR-CALDESC:Events for Create.Vegas
REFRESH-INTERVAL;VALUE=DURATION:PT1H
X-Robots-Tag:noindex
X-PUBLISHED-TTL:PT1H
BEGIN:VTIMEZONE
TZID:America/Los_Angeles
BEGIN:DAYLIGHT
TZOFFSETFROM:-0800
TZOFFSETTO:-0700
TZNAME:PDT
DTSTART:20250309T100000
END:DAYLIGHT
BEGIN:STANDARD
TZOFFSETFROM:-0700
TZOFFSETTO:-0800
TZNAME:PST
DTSTART:20251102T090000
END:STANDARD
BEGIN:DAYLIGHT
TZOFFSETFROM:-0800
TZOFFSETTO:-0700
TZNAME:PDT
DTSTART:20260308T100000
END:DAYLIGHT
BEGIN:STANDARD
TZOFFSETFROM:-0700
TZOFFSETTO:-0800
TZNAME:PST
DTSTART:20261101T090000
END:STANDARD
BEGIN:DAYLIGHT
TZOFFSETFROM:-0800
TZOFFSETTO:-0700
TZNAME:PDT
DTSTART:20270314T100000
END:DAYLIGHT
BEGIN:STANDARD
TZOFFSETFROM:-0700
TZOFFSETTO:-0800
TZNAME:PST
DTSTART:20271107T090000
END:STANDARD
END:VTIMEZONE
BEGIN:VEVENT
DTSTART;TZID=America/Los_Angeles:20260529T221500
DTEND;TZID=America/Los_Angeles:20260530T000000
DTSTAMP:20260422T072556
CREATED:20260410T064855Z
LAST-MODIFIED:20260417T070343Z
UID:10034377-1780092900-1780099200@create.vegas
SUMMARY:Angel of Death (Slayer) & Rose of Sharyn (Killswitch Engage)
DESCRIPTION:Slayer & Killswitch tributes May 29. Doors 10PM\, music 10:15PM. No cover\, metal night\, drink specials.\n\n\nGet ready for a crushing night of metal as Angel of Death (Slayer Tribute) and Rose of Sharyn (Killswitch Engage Tribute) take over Copa Room on Friday\, May 29th. \nDoors open at 10PM with music starting at 10:15PM\, and there’s no cover—just pure adrenaline\, heavy riffs\, and nonstop headbanging. \nAngel of Death brings the speed\, aggression\, and intensity of Slayer\, delivering iconic thrash anthems with relentless energy. Rose of Sharyn follows up with the melodic power and metalcore punch of Killswitch Engage\, combining heavy breakdowns with soaring vocals for a dynamic live set. \nUpgrade your night with VIP table service and take the experience to the next level. VIP tables include a dedicated server\, premium seating\, and every dollar you spend on the table comes right back to you as bar credit—so you’re not paying extra\, you’re just fueling the night. \nReserve a 2-person table for $100 and get $100 in drinks\, or a 4-person table for $200 with $200 in bar credit. It’s the best way to stay comfortable\, skip the hassle\, and keep the drinks flowing while the music hits hard. \nCopa Room is the home of Vegas Rock\, featuring $5 Modelo along with tequila and vodka drink specials all night. Always free parking and all-ages shows\, so bring your crew and get ready for a loud\, late-night lineup. \nNo cover\, all-out metal\, and two killer tribute bands—don’t miss this one.
URL:https://create.vegas/event/angel-of-death-slayer-rose-of-sharyn-killswitch-engage/
LOCATION:Copa Room\, 255 East Flamingo Road\, Las Vegas\, NV\, 89169\, United States
CATEGORIES:Jazz & Blues
ATTACH;FMTTYPE=image/jpeg:https://create.vegas/wp-content/uploads/2026/04/176db796c30c0cc9f939cf3ef8a741fc.jpg
END:VEVENT
BEGIN:VEVENT
DTSTART;TZID=America/Los_Angeles:20260530T210000
DTEND;TZID=America/Los_Angeles:20260530T235900
DTSTAMP:20260422T072556
CREATED:20260410T064856Z
LAST-MODIFIED:20260417T070343Z
UID:10034378-1780174800-1780185540@create.vegas
SUMMARY:Abusement Park & Children of the Korn (Korn Tribute) – May 30 at Copa Room
DESCRIPTION:Abusement Park & Children of the Korn May 30. Doors 8:30PM\, music 9PM. $5 cover\, drink specials\, free parking.\n\n\nGet ready for a night of heavy grooves and high energy as Abusement Park and Children of the Korn (Korn Tribute) take over Copa Room on Saturday\, May 30th. \nDoors open at 8:30PM with music kicking off at 9PM. For just a $5 cover\, catch a stacked lineup bringing intensity\, attitude\, and a full night of hard-hitting rock. \nChildren of the Korn delivers the raw\, unmistakable sound of Korn—bringing the nu-metal classics to life with pounding riffs\, gritty vocals\, and that signature energy fans know and love. Abusement Park sets the tone with a powerful live performance that keeps the crowd moving from start to finish. \nUpgrade your night with VIP table service and take the experience to the next level. VIP tables waive the cover charge\, include a dedicated server\, and every dollar you spend on the table comes right back to you as bar credit—so you’re not paying extra\, you’re just fueling the night. \nReserve a 2-person table for $100 and get $100 in drinks\, or a 4-person table for $200 with $200 in bar credit. It’s the best way to stay comfortable\, skip the line\, and keep the drinks flowing all night. \nCopa Room is the home of Vegas Rock\, featuring $5 Modelo along with tequila and vodka drink specials all night. Always free parking and all-ages shows\, so bring your crew and get ready for a loud night. \n$5 cover\, big sound\, and a full night of nu-metal energy—don’t miss it.
URL:https://create.vegas/event/abusement-park-children-of-the-korn-korn-tribute-may-30-at-copa-room/
LOCATION:Copa Room\, 255 East Flamingo Road\, Las Vegas\, NV\, 89169\, United States
CATEGORIES:Jazz & Blues
ATTACH;FMTTYPE=image/jpeg:https://create.vegas/wp-content/uploads/2026/04/19011510106627ff5f1d09258ffd8cdf.jpg
END:VEVENT
BEGIN:VEVENT
DTSTART;TZID=America/Los_Angeles:20260531T150000
DTEND;TZID=America/Los_Angeles:20260531T170000
DTSTAMP:20260422T072556
CREATED:20260410T064857Z
LAST-MODIFIED:20260417T070343Z
UID:10034379-1780239600-1780246800@create.vegas
SUMMARY:Rock 'n' Roll Church - Brunch Performance
DESCRIPTION:Rock ’n’ Roll Church Jam: a freeform classic rock jam with top musicians\, surprise guests\, and unpredictable sets\n\n\n\nRock ’n’ Roll Church\nSunday\, May 31st | 3:00 PMThe Copa Room at Tuscany Suites & Casino \nSpend your Sunday afternoon the right way — great music\, good food\, and strong drinks. \nRock ’n’ Roll Church brings a high-energy\, classic rock jam session to the Copa Room. Expect killer musicians\, surprise moments\, and a laid-back crowd that’s there for the music and the vibe. It’s part brunch party\, part rock show — and always a good time. \n🎟 Cover\n$5 at the doorCover is waived when you purchase the brunch buffet. \n🍳 Brunch & Drink Specials\n\n$20 Brunch Buffet*\n$10 All-You-Can-Drink Mimosas*\n$5 Vodka & Tequila Specials\n$5 Modelos\n\nGrab brunch\, skip the cover\, and settle in for an afternoon of live rock in an intimate setting. \nDoors at 3PM. Come hungry. Leave loud. 🎸 \n*Brunch and Mimosas subject to 22% gratuities and tax.
URL:https://create.vegas/event/rock-n-roll-church-brunch-performance-2/
LOCATION:Copa Room\, 255 East Flamingo Road\, Las Vegas\, NV\, 89169\, United States
CATEGORIES:Jazz & Blues
ATTACH;FMTTYPE=image/jpeg:https://create.vegas/wp-content/uploads/2026/01/eed0616fdb3cef837f709cb811b292d6.jpg
END:VEVENT
BEGIN:VEVENT
DTSTART;TZID=America/Los_Angeles:20260612T193000
DTEND;TZID=America/Los_Angeles:20260612T213000
DTSTAMP:20260422T072556
CREATED:20260410T064857Z
LAST-MODIFIED:20260417T070343Z
UID:10034380-1781292600-1781299800@create.vegas
SUMMARY:Robby Krieger and the Soul Savages
DESCRIPTION:Legendary Doors guitarist Robby Krieger and the Soul Savages\n\n\n\nRobby Krieger & The Soul Savages\nLive at the Copa Room at Tuscany Suites & CasinoFriday\, June 12th\, 2026Doors: 6:30 PM | Show: 7:30 PMAll Ages | Free Parking \n🎟 Ticket Pricing\n\n$40 – Advance tickets through June 5th\, 2026\n$45 – Advance tickets June 6th–June 12th\, 2026\n$50 – At the door (day of show)\n\nRock ‘n’ Roll Hall of Fame guitarist and songwriter Robby Krieger of The Doors leads Robby Krieger & The Soul Savages\, a powerhouse ensemble delivering a bold\, immersive journey through melodic\, psychedelic rock and deep soul. \nNo one plays guitar like Robby Krieger. His instantly recognizable sound comes from his signature fingerstyle (no pick)\, a melodic and expressive approach to electric guitar\, and adventurous\, jazz-influenced slide work. In addition to his legendary work with The Doors\, Krieger is a multiple Grammy Award recipient with a successful career in jazz-fusion\, releasing numerous solo albums since the late 1970s\, including the acclaimed album Singularity. \nBassist and songwriter Kevin “Brandino” Brandon co-wrote and recorded Singularity with Krieger. A top-tier session bassist\, Brandon has earned over half a dozen Grammy Awards and three Emmy Awards\, with credits including James Brown\, Aretha Franklin\, Michael Jackson\, and Beyoncé. Rooted in funk and jazz\, his creative bass lines form a rock-solid foundation for the band’s sound. \nKeyboardist and songwriter Ed Roth\, a longtime collaborator of Krieger\, is known for his exclusive use of vintage organs and keyboards. A Grammy nominee\, Roth’s genre-spanning style moves effortlessly between jazz\, rock\, and pop. His session work includes collaborations with Ringo Starr\, The Brothers Johnson\, Coolio\, Shuggie Otis\, and Annie Lennox\, and his Billboard Top 100 Jazz Song of the Year “Blue” has been streamed more than one million times. \nDriving the band with dynamic rhythm and youthful energy is drummer and songwriter Franklin Vanderbilt\, whose credits include working with Stevie Wonder\, Chaka Khan\, Stanley Clarke\, and touring worldwide with Lenny Kravitz. His drumming cements the band’s deep grooves and brings true savagery to the soul. \nWith their own signature sound\, Robby Krieger & The Soul Savages boldly step beyond the boundaries of sophisticated music — blending legacy\, innovation\, and raw energy into an unforgettable live performance. \nVenue: Copa Room at Tuscany Suites & CasinoParking: FreeAge Restriction: All Ages \nFIRST SHOW SOLD OUT TWO WEEKS BEFORE SHOW DATE. ADVANCED PURCHASE STRONGLY SUGGESTED.
URL:https://create.vegas/event/robby-krieger-and-the-soul-savages-2/
LOCATION:Copa Room\, 255 East Flamingo Road\, Las Vegas\, NV\, 89169\, United States
CATEGORIES:Jazz & Blues
ATTACH;FMTTYPE=image/jpeg:https://create.vegas/wp-content/uploads/2026/01/2355dbc8e7f2ee4f51b697e9f278656a.jpg
END:VEVENT
BEGIN:VEVENT
DTSTART;TZID=America/Los_Angeles:20260613T200000
DTEND;TZID=America/Los_Angeles:20260613T220000
DTSTAMP:20260422T072556
CREATED:20260410T064857Z
LAST-MODIFIED:20260417T070344Z
UID:10034381-1781380800-1781388000@create.vegas
SUMMARY:Turbo Lover (Judas Priest Tribute) + Flight 666 (Iron Maiden Tribute)  6/13
DESCRIPTION:Turbo Lover & Flight 666 bring Judas Priest & Iron Maiden hits to Copa Room. $5 cover. Doors 7:30PM\, music 8PM.\n\n\n\nGet ready for a night of pure heavy metal at Copa Room—home of Vegas Rock\, $5 Modelo\, tequila and vodka drink specials\, always free parking\, and all-ages shows. \nTurbo Lover delivers a high-energy tribute to Judas Priest\, ripping through classics with leather-and-steel intensity. Flight 666 follows with a powerful Iron Maiden tribute set packed with soaring vocals and iconic riffs. \n📅 Saturday\, June 13🚪 Doors: 7:30PM🎸 Music: 8:00PM💵 Cover: $5📍 Copa Room (Las Vegas) \n🔥 Two legendary bands. One killer night. Don’t miss it. \nVIP Tables:Upgrade your night with VIP seating:• 2-person table: $100 (includes $100 bar credit)• 4-person table: $200 (includes $200 bar credit)VIP tables waive the cover charge and include a dedicated server.
URL:https://create.vegas/event/turbo-lover-judas-priest-tribute-flight-666-iron-maiden-tribute-6-13/
LOCATION:Copa Room\, 255 East Flamingo Road\, Las Vegas\, NV\, 89169\, United States
CATEGORIES:Jazz & Blues
ATTACH;FMTTYPE=image/jpeg:https://create.vegas/wp-content/uploads/2026/04/017afd3baed5c7a1c5b03e6909ce7adc.jpg
END:VEVENT
BEGIN:VEVENT
DTSTART;TZID=America/Los_Angeles:20260614T203000
DTEND;TZID=America/Los_Angeles:20260614T235900
DTSTAMP:20260422T072556
CREATED:20260320T055145Z
LAST-MODIFIED:20260417T070344Z
UID:10033810-1781469000-1781481540@create.vegas
SUMMARY:Anvil Live at Copa Room – Sunday June 14
DESCRIPTION:Anvil hits Copa Room June 14. Doors 8PM\, music 8:30PM. Presale $20\, $25 day of. All ages\, free parking\n\n\n\nIf you were to look up the word “perseverance” in the almighty handbook of heavy metal\, there may very well be a photo of Canadian metalists\, Anvil. Since their 1981 debut\, Hard N’ Heavy\, the group – co-founded by singer/guitarist Steve “Lips” Kudlow and drummer Robb Reiner – has been recognized as one of the creators of the thrash/speed metal genre\, especially with classics like Metal On Metal (1982) and Forged In Fire (1983). \nDespite setbacks from bad record deals\, management\, and luck\, Anvil never stopped rocking—while influencing generations of metal bands along the way. With the success of the critically acclaimed film Anvil! The Story of Anvil\, the band has reclaimed its rightful place at the forefront of heavy metal. \nCopa Room is the home of Vegas Rock\, featuring $5 Modelo\, plus tequila and vodka drink specials all night. Enjoy the show with always free parking and an unbeatable live music atmosphere. \nDon’t miss your chance to catch Anvil up close—grab your presale tickets now and be part of the action.
URL:https://create.vegas/event/anvil-live-at-copa-room-sunday-june-14/
LOCATION:Copa Room\, 255 East Flamingo Road\, Las Vegas\, NV\, 89169\, United States
CATEGORIES:Jazz & Blues
ATTACH;FMTTYPE=image/jpeg:https://create.vegas/wp-content/uploads/2026/03/3e3a20590d85587518f15e80ed61fef9.jpg
END:VEVENT
END:VCALENDAR