BEGIN:VCALENDAR
VERSION:2.0
PRODID:-//Create.Vegas - ECPv6.15.20//NONSGML v1.0//EN
CALSCALE:GREGORIAN
METHOD:PUBLISH
X-ORIGINAL-URL:https://create.vegas
X-WR-CALDESC:Events for Create.Vegas
REFRESH-INTERVAL;VALUE=DURATION:PT1H
X-Robots-Tag:noindex
X-PUBLISHED-TTL:PT1H
BEGIN:VTIMEZONE
TZID:America/Los_Angeles
BEGIN:DAYLIGHT
TZOFFSETFROM:-0800
TZOFFSETTO:-0700
TZNAME:PDT
DTSTART:20250309T100000
END:DAYLIGHT
BEGIN:STANDARD
TZOFFSETFROM:-0700
TZOFFSETTO:-0800
TZNAME:PST
DTSTART:20251102T090000
END:STANDARD
BEGIN:DAYLIGHT
TZOFFSETFROM:-0800
TZOFFSETTO:-0700
TZNAME:PDT
DTSTART:20260308T100000
END:DAYLIGHT
BEGIN:STANDARD
TZOFFSETFROM:-0700
TZOFFSETTO:-0800
TZNAME:PST
DTSTART:20261101T090000
END:STANDARD
BEGIN:DAYLIGHT
TZOFFSETFROM:-0800
TZOFFSETTO:-0700
TZNAME:PDT
DTSTART:20270314T100000
END:DAYLIGHT
BEGIN:STANDARD
TZOFFSETFROM:-0700
TZOFFSETTO:-0800
TZNAME:PST
DTSTART:20271107T090000
END:STANDARD
END:VTIMEZONE
BEGIN:VEVENT
DTSTART;TZID=America/Los_Angeles:20260424T180000
DTEND;TZID=America/Los_Angeles:20260424T200000
DTSTAMP:20260421T142354
CREATED:20260408T190306Z
LAST-MODIFIED:20260415T190320Z
UID:10034351-1777053600-1777060800@create.vegas
SUMMARY:Youth Jazz Showcase
DESCRIPTION:This night of jazz\, rock and funk music includes performing ensembles from multiple CCSD schools.\n\n\nAll family\, friends and community are invited to bring low-backed chairs and blankets to this free event at the Centennial Hills Park Amphitheatre featuring ensembles from Arbor View High School\, Cadwallader and Escobedo Middle Schools. \n \nWe are full on vendors for this event. Please fill out the expressed interest form to be considered as a vendor for future events: https://cityoflasvegas.formstack.com/forms/vendor_application_to_provide_services
URL:https://create.vegas/event/youth-jazz-showcase/
LOCATION:Centennial Hills Park Amphitheater\, 7101 North Buffalo Drive\, Las Vegas\, NV\, 89131\, United States
ATTACH;FMTTYPE=image/jpeg:https://create.vegas/wp-content/uploads/2026/04/a3b54404a268cdc36d433e48360ce986.jpg
END:VEVENT
BEGIN:VEVENT
DTSTART;TZID=America/Los_Angeles:20260508T190000
DTEND;TZID=America/Los_Angeles:20260508T203000
DTSTAMP:20260421T142354
CREATED:20260415T190323Z
LAST-MODIFIED:20260415T190323Z
UID:10034403-1778266800-1778272200@create.vegas
SUMMARY:Jazz Under the Stars
DESCRIPTION:Chill out with smooth jazz vibes and good company under the open night sky.\n\n\nBring the whole family out and relax under the stars as the city’s most acclaimed big band\, the Jazz Vegas Orchestra dazzles with iconic big band standards and new music from celebrated local arrangers featuring renowned jazz vocalist Naomi Mauro! \n \nHigh back chairs are welcome\, no pets\, no outside food or drinks. \nFood will be available for purchase. \n \nWe are full on vendors for this event. Please fill out the expressed interest form to be considered as a vendor for future events: https://cityoflasvegas.formstack.com/forms/vendor_application_to_provide_services
URL:https://create.vegas/event/jazz-under-the-stars/
LOCATION:Centennial Hills Park Amphitheater\, 7101 North Buffalo Drive\, Las Vegas\, NV\, 89131\, United States
ATTACH;FMTTYPE=image/jpeg:https://create.vegas/wp-content/uploads/2026/04/ac300011aa00a9d3d89f86c5bde7d385.jpg
END:VEVENT
END:VCALENDAR