BEGIN:VCALENDAR
VERSION:2.0
PRODID:-//Create.Vegas - ECPv6.15.20//NONSGML v1.0//EN
CALSCALE:GREGORIAN
METHOD:PUBLISH
X-WR-CALNAME:Create.Vegas
X-ORIGINAL-URL:https://create.vegas
X-WR-CALDESC:Events for Create.Vegas
REFRESH-INTERVAL;VALUE=DURATION:PT1H
X-Robots-Tag:noindex
X-PUBLISHED-TTL:PT1H
BEGIN:VTIMEZONE
TZID:America/Los_Angeles
BEGIN:DAYLIGHT
TZOFFSETFROM:-0800
TZOFFSETTO:-0700
TZNAME:PDT
DTSTART:20240310T100000
END:DAYLIGHT
BEGIN:STANDARD
TZOFFSETFROM:-0700
TZOFFSETTO:-0800
TZNAME:PST
DTSTART:20241103T090000
END:STANDARD
BEGIN:DAYLIGHT
TZOFFSETFROM:-0800
TZOFFSETTO:-0700
TZNAME:PDT
DTSTART:20250309T100000
END:DAYLIGHT
BEGIN:STANDARD
TZOFFSETFROM:-0700
TZOFFSETTO:-0800
TZNAME:PST
DTSTART:20251102T090000
END:STANDARD
BEGIN:DAYLIGHT
TZOFFSETFROM:-0800
TZOFFSETTO:-0700
TZNAME:PDT
DTSTART:20260308T100000
END:DAYLIGHT
BEGIN:STANDARD
TZOFFSETFROM:-0700
TZOFFSETTO:-0800
TZNAME:PST
DTSTART:20261101T090000
END:STANDARD
BEGIN:DAYLIGHT
TZOFFSETFROM:-0800
TZOFFSETTO:-0700
TZNAME:PDT
DTSTART:20270314T100000
END:DAYLIGHT
BEGIN:STANDARD
TZOFFSETFROM:-0700
TZOFFSETTO:-0800
TZNAME:PST
DTSTART:20271107T090000
END:STANDARD
END:VTIMEZONE
BEGIN:VEVENT
DTSTART;TZID=America/Los_Angeles:20260321T120000
DTEND;TZID=America/Los_Angeles:20260321T180000
DTSTAMP:20260425T130900
CREATED:20260224T230543Z
LAST-MODIFIED:20260224T230543Z
UID:10033514-1774094400-1774116000@create.vegas
SUMMARY:Art U OK? Wellness Festival
DESCRIPTION:The City of Las Vegas and First Friday Foundation present the third annual Art U OK? event at Goodman Plaza. Join us for a rejuvenating day under the sun. This vibrant wellness event is dedicated to supporting mental health and self-care through the arts\, featuring a curated art and resource fair\, live music and performances\, sound baths\, guided meditation sessions\, wellness vendors\, delicious food\, and more. Celebrate creativity\, connection\, and well-being in a welcoming space designed to inspire healing and community. All Ages.
URL:https://create.vegas/event/art-u-ok-wellness-festival-2/
LOCATION:Carolyn G. Goodman Plaza\, 525 S. Main St.\, Las Vegas\, NV\, 89101\, United States
CATEGORIES:Festival,Performing Arts
ATTACH;FMTTYPE=image/jpeg:https://create.vegas/wp-content/uploads/2026/02/ArtUOk-graphic-mpiD17.jpg
END:VEVENT
BEGIN:VEVENT
DTSTART;TZID=America/Los_Angeles:20260314T190000
DTEND;TZID=America/Los_Angeles:20260314T210000
DTSTAMP:20260425T130900
CREATED:20260224T230542Z
LAST-MODIFIED:20260224T230542Z
UID:10033511-1773514800-1773522000@create.vegas
SUMMARY:Paul West in Concert
DESCRIPTION:Paul West is more than a musician—he’s a modern-day troubadour. With roots in Texas and a childhood raised in the beauty of California’s Central Coast\, West brings a lived-in honesty to every performance. His journey has taken him from the shores of Maui to the heart of Las Vegas\, where he’s now making waves on stages like Jason Aldean’s and Blake Shelton’s Ole Red. His songs reflect the landscapes that have shaped him and his live shows—backed by some of Las Vegas’ best local country players—are a mix of heartfelt storytelling and are a testament to the power of following one’s passion against all odds. Classic country roots. A dash of vintage rock. And a performance you won’t want to miss. 
URL:https://create.vegas/event/paul-west-in-concert/
LOCATION:Carolyn G. Goodman Plaza\, 525 S. Main St.\, Las Vegas\, NV\, 89101\, United States
CATEGORIES:Performing,Performing Arts
END:VEVENT
BEGIN:VEVENT
DTSTART;TZID=America/Los_Angeles:20260214T190000
DTEND;TZID=America/Los_Angeles:20260214T203000
DTSTAMP:20260425T130900
CREATED:20260114T181748Z
LAST-MODIFIED:20260211T183327Z
UID:10032577-1771095600-1771101000@create.vegas
SUMMARY:Free Valentine's Day Concert “Vintage Americana”
DESCRIPTION:“Vintage Americana” is a journey through the golden age of American music!\n\n\nErik Dongil and his band deliver a high-energy musical celebration of American roots music at its finest\, channeling raw and infectious rhythms into a performance you can’t miss. This spectacular tribute show blends the original musicianship with a full-throttle remix of classic and contemporary vibes. This fresh\, dynamic concert is perfect for a Valentine’s Day night out!
URL:https://create.vegas/event/free-valentines-day-concert-vintage-americana/
LOCATION:Carolyn G. Goodman Plaza\, 525 S. Main St.\, Las Vegas\, NV\, 89101\, United States
ATTACH;FMTTYPE=image/jpeg:https://create.vegas/wp-content/uploads/2026/01/7ddd20779ce8aef221cce60b72e0009e.jpg
END:VEVENT
BEGIN:VEVENT
DTSTART;TZID=America/Los_Angeles:20251220T120000
DTEND;TZID=America/Los_Angeles:20251220T140000
DTSTAMP:20260425T130900
CREATED:20251126T222710Z
LAST-MODIFIED:20251126T222710Z
UID:10031771-1766232000-1766239200@create.vegas
SUMMARY:Vegas City Children’s Chorus presents Viva La POPera Holiday Spectacular!
DESCRIPTION:Get ready to deck the halls with dazzling melodies. This festive concert delivers a joyful blend of classics and fresh\, modern hits—perfect for ringing in the holiday season. From beloved carols to show-stopping pop favorites reimagined with a stunning operatic twist\, this show has something for everyone. Join us for an unforgettable night of soaring voices\, holiday cheer\, and musical magic that will leave you humming all the way home!
URL:https://create.vegas/event/vegas-city-childrens-chorus-presents-viva-la-popera-holiday-spectacular-2/
LOCATION:Carolyn G. Goodman Plaza\, 525 S. Main St.\, Las Vegas\, NV\, 89101\, United States
CATEGORIES:Family Friendly,Performing,Performing Arts
ATTACH;FMTTYPE=image/png:https://create.vegas/wp-content/uploads/2025/11/POPera_Holiday-uKeS9U.png
END:VEVENT
BEGIN:VEVENT
DTSTART;TZID=America/Los_Angeles:20251220T120000
DTEND;TZID=America/Los_Angeles:20251220T140000
DTSTAMP:20260425T130900
CREATED:20251119T174801Z
LAST-MODIFIED:20251217T174752Z
UID:10031288-1766232000-1766239200@create.vegas
SUMMARY:Vegas City Children’s Chorus Presents Viva La Popera Holiday Spectacular!
DESCRIPTION:Get ready for a magical night of holiday cheer with the Vegas City Children’s Chorus as they blend pop hits with classic opera tunes.\n\n\nVegas City Children’s Chorus is thrilled to present Viva La Popera Holiday Spectacular! Get ready to deck the halls with dazzling melodies. This festive concert delivers a joyful blend of classics and fresh\, modern hits — perfect for ringing in the holiday season. From beloved carols to show-stopping pop favorites reimagined with a stunning operatic twist\, this show has something for everyone. Join us for an unforgettable afternoon of soaring voices\, holiday cheer and musical magic that will leave you humming all the way home! No pets. Parking will be available in the 500 S. Main St. parking garage\, across Main Street\, and the connected Symphony Park Garage.
URL:https://create.vegas/event/vegas-city-childrens-chorus-presents-viva-la-popera-holiday-spectacular/
LOCATION:Carolyn G. Goodman Plaza\, 525 S. Main St.\, Las Vegas\, NV\, 89101\, United States
ATTACH;FMTTYPE=image/jpeg:https://create.vegas/wp-content/uploads/2025/11/30b5165e610f260798c9c5ecf877930f.jpg
END:VEVENT
BEGIN:VEVENT
DTSTART;TZID=America/Los_Angeles:20251213T120000
DTEND;TZID=America/Los_Angeles:20251213T160000
DTSTAMP:20260425T130900
CREATED:20251119T174757Z
LAST-MODIFIED:20251210T174751Z
UID:10031286-1765627200-1765641600@create.vegas
SUMMARY:Fiesta Navideña
DESCRIPTION:Enjoy holiday-themed performances\, music\, food vendors\, interactive children’s games and a special appearance by Santa Claus\n\n\nFiesta Navideña \nCome join us for a festive celebration at the Carolyn G. Goodman Plaza! The city of Las Vegas and 98.1 FM Radio invite everyone to enjoy a fun and festive day outdoors with the family. Enjoy holiday-themed performances\, music\, food vendors\, interactive children’s games and a special appearance by Santa Claus. No pets. Parking will be available in the 500 S. Main St. parking garage\, across Main Street\, and the connected Symphony Park Garage.
URL:https://create.vegas/event/fiesta-navidena/
LOCATION:Carolyn G. Goodman Plaza\, 525 S. Main St.\, Las Vegas\, NV\, 89101\, United States
ATTACH;FMTTYPE=image/jpeg:https://create.vegas/wp-content/uploads/2025/11/a68d9282c64d41ed66a8abcb50396ce6.jpg
END:VEVENT
BEGIN:VEVENT
DTSTART;TZID=America/Los_Angeles:20251206T100000
DTEND;TZID=America/Los_Angeles:20251206T160000
DTSTAMP:20260425T130900
CREATED:20251126T222536Z
LAST-MODIFIED:20251126T222536Z
UID:10031578-1765015200-1765036800@create.vegas
SUMMARY:Tamales and Mariachi Festival
DESCRIPTION:Experience the vibrant spirit of Mexico and Central America at the Tamales and Mariachi Festival! This lively event brings together the best of Latino culture with a mouthwatering array of tamales from top local vendors and live mariachi performances by Grammy-award winning Mariachi Los Camperos and Arturo Vargas. Enjoy delicious food\, exciting music\, folklorico performances and fun activities for the whole family plus finish your holiday shopping with artisan and specialty vendors. Don’t miss out on this celebration of tradition\, flavor\, and community!
URL:https://create.vegas/event/tamales-and-mariachi-festival-2/
LOCATION:Carolyn G. Goodman Plaza\, 525 S. Main St.\, Las Vegas\, NV\, 89101\, United States
CATEGORIES:Family Friendly,Festival,Performing,Performing Arts
ATTACH;FMTTYPE=image/jpeg:https://create.vegas/wp-content/uploads/2025/11/Tamale-Fest-113-S-6FifNk.jpg
END:VEVENT
END:VCALENDAR