BEGIN:VCALENDAR
VERSION:2.0
PRODID:-//Create.Vegas - ECPv6.15.20//NONSGML v1.0//EN
CALSCALE:GREGORIAN
METHOD:PUBLISH
X-WR-CALNAME:Create.Vegas
X-ORIGINAL-URL:https://create.vegas
X-WR-CALDESC:Events for Create.Vegas
REFRESH-INTERVAL;VALUE=DURATION:PT1H
X-Robots-Tag:noindex
X-PUBLISHED-TTL:PT1H
BEGIN:VTIMEZONE
TZID:America/Los_Angeles
BEGIN:DAYLIGHT
TZOFFSETFROM:-0800
TZOFFSETTO:-0700
TZNAME:PDT
DTSTART:20240310T100000
END:DAYLIGHT
BEGIN:STANDARD
TZOFFSETFROM:-0700
TZOFFSETTO:-0800
TZNAME:PST
DTSTART:20241103T090000
END:STANDARD
BEGIN:DAYLIGHT
TZOFFSETFROM:-0800
TZOFFSETTO:-0700
TZNAME:PDT
DTSTART:20250309T100000
END:DAYLIGHT
BEGIN:STANDARD
TZOFFSETFROM:-0700
TZOFFSETTO:-0800
TZNAME:PST
DTSTART:20251102T090000
END:STANDARD
BEGIN:DAYLIGHT
TZOFFSETFROM:-0800
TZOFFSETTO:-0700
TZNAME:PDT
DTSTART:20260308T100000
END:DAYLIGHT
BEGIN:STANDARD
TZOFFSETFROM:-0700
TZOFFSETTO:-0800
TZNAME:PST
DTSTART:20261101T090000
END:STANDARD
BEGIN:DAYLIGHT
TZOFFSETFROM:-0800
TZOFFSETTO:-0700
TZNAME:PDT
DTSTART:20270314T100000
END:DAYLIGHT
BEGIN:STANDARD
TZOFFSETFROM:-0700
TZOFFSETTO:-0800
TZNAME:PST
DTSTART:20271107T090000
END:STANDARD
END:VTIMEZONE
BEGIN:VEVENT
DTSTART;TZID=America/Los_Angeles:20260328T100000
DTEND;TZID=America/Los_Angeles:20260328T170000
DTSTAMP:20260425T054229
CREATED:20250723T001947Z
LAST-MODIFIED:20260307T040321Z
UID:10029105-1774692000-1774717200@create.vegas
SUMMARY:Saturday Brunch in Las Vegas at 18bin – $25 Bottomless Mimosas + Live DJs
DESCRIPTION:Sip $25 bottomless mimosas and vibe with live DJs every Saturday at 18bin in Downtown Las Vegas. Brunch from 10AM–5PM!
URL:https://create.vegas/event/saturday-brunch-in-las-vegas-at-18bin-25-bottomless-mimosas-live-djs-36/
LOCATION:18Bin Bar & Restaurant\, 107 East Charleston Boulevard\, #Suite 150\, Las Vegas\, NV\, 89104\, United States
CATEGORIES:Food & Drink & Fun
ATTACH;FMTTYPE=image/jpeg:https://create.vegas/wp-content/uploads/2025/07/3c7765f1d41bbad0db8502340aff7db3.jpg
END:VEVENT
BEGIN:VEVENT
DTSTART;TZID=America/Los_Angeles:20260321T100000
DTEND;TZID=America/Los_Angeles:20260321T170000
DTSTAMP:20260425T054229
CREATED:20250723T001946Z
LAST-MODIFIED:20260307T040321Z
UID:10029104-1774087200-1774112400@create.vegas
SUMMARY:Saturday Brunch in Las Vegas at 18bin – $25 Bottomless Mimosas + Live DJs
DESCRIPTION:Sip $25 bottomless mimosas and vibe with live DJs every Saturday at 18bin in Downtown Las Vegas. Brunch from 10AM–5PM!
URL:https://create.vegas/event/saturday-brunch-in-las-vegas-at-18bin-25-bottomless-mimosas-live-djs-35/
LOCATION:18Bin Bar & Restaurant\, 107 East Charleston Boulevard\, #Suite 150\, Las Vegas\, NV\, 89104\, United States
CATEGORIES:Food & Drink & Fun
ATTACH;FMTTYPE=image/jpeg:https://create.vegas/wp-content/uploads/2025/07/3c7765f1d41bbad0db8502340aff7db3.jpg
END:VEVENT
BEGIN:VEVENT
DTSTART;TZID=America/Los_Angeles:20260314T100000
DTEND;TZID=America/Los_Angeles:20260314T170000
DTSTAMP:20260425T054229
CREATED:20250723T001946Z
LAST-MODIFIED:20260307T040321Z
UID:10029103-1773482400-1773507600@create.vegas
SUMMARY:Saturday Brunch in Las Vegas at 18bin – $25 Bottomless Mimosas + Live DJs
DESCRIPTION:Sip $25 bottomless mimosas and vibe with live DJs every Saturday at 18bin in Downtown Las Vegas. Brunch from 10AM–5PM!
URL:https://create.vegas/event/saturday-brunch-in-las-vegas-at-18bin-25-bottomless-mimosas-live-djs-34/
LOCATION:18Bin Bar & Restaurant\, 107 East Charleston Boulevard\, #Suite 150\, Las Vegas\, NV\, 89104\, United States
CATEGORIES:Food & Drink & Fun
ATTACH;FMTTYPE=image/jpeg:https://create.vegas/wp-content/uploads/2025/07/3c7765f1d41bbad0db8502340aff7db3.jpg
END:VEVENT
BEGIN:VEVENT
DTSTART;TZID=America/Los_Angeles:20260307T100000
DTEND;TZID=America/Los_Angeles:20260307T170000
DTSTAMP:20260425T054229
CREATED:20250723T001946Z
LAST-MODIFIED:20260307T040321Z
UID:10029102-1772877600-1772902800@create.vegas
SUMMARY:Saturday Brunch in Las Vegas at 18bin – $25 Bottomless Mimosas + Live DJs
DESCRIPTION:Sip $25 bottomless mimosas and vibe with live DJs every Saturday at 18bin in Downtown Las Vegas. Brunch from 10AM–5PM!
URL:https://create.vegas/event/saturday-brunch-in-las-vegas-at-18bin-25-bottomless-mimosas-live-djs-33/
LOCATION:18Bin Bar & Restaurant\, 107 East Charleston Boulevard\, #Suite 150\, Las Vegas\, NV\, 89104\, United States
CATEGORIES:Food & Drink & Fun
ATTACH;FMTTYPE=image/jpeg:https://create.vegas/wp-content/uploads/2025/07/3c7765f1d41bbad0db8502340aff7db3.jpg
END:VEVENT
BEGIN:VEVENT
DTSTART;TZID=America/Los_Angeles:20260228T100000
DTEND;TZID=America/Los_Angeles:20260228T170000
DTSTAMP:20260425T054229
CREATED:20250723T001945Z
LAST-MODIFIED:20251208T081802Z
UID:10029101-1772272800-1772298000@create.vegas
SUMMARY:Saturday Brunch in Las Vegas at 18bin – $25 Bottomless Mimosas + Live DJs
DESCRIPTION:Sip $25 bottomless mimosas and vibe with live DJs every Saturday at 18bin in Downtown Las Vegas. Brunch from 10AM–5PM!
URL:https://create.vegas/event/saturday-brunch-in-las-vegas-at-18bin-25-bottomless-mimosas-live-djs-32/
LOCATION:18Bin Bar & Restaurant\, 107 East Charleston Boulevard\, #Suite 150\, Las Vegas\, NV\, 89104\, United States
CATEGORIES:Food & Drink & Fun
ATTACH;FMTTYPE=image/jpeg:https://create.vegas/wp-content/uploads/2025/07/3c7765f1d41bbad0db8502340aff7db3.jpg
END:VEVENT
BEGIN:VEVENT
DTSTART;TZID=America/Los_Angeles:20260221T100000
DTEND;TZID=America/Los_Angeles:20260221T170000
DTSTAMP:20260425T054229
CREATED:20250723T001945Z
LAST-MODIFIED:20251208T081801Z
UID:10029100-1771668000-1771693200@create.vegas
SUMMARY:Saturday Brunch in Las Vegas at 18bin – $25 Bottomless Mimosas + Live DJs
DESCRIPTION:Sip $25 bottomless mimosas and vibe with live DJs every Saturday at 18bin in Downtown Las Vegas. Brunch from 10AM–5PM!
URL:https://create.vegas/event/saturday-brunch-in-las-vegas-at-18bin-25-bottomless-mimosas-live-djs-31/
LOCATION:18Bin Bar & Restaurant\, 107 East Charleston Boulevard\, #Suite 150\, Las Vegas\, NV\, 89104\, United States
CATEGORIES:Food & Drink & Fun
ATTACH;FMTTYPE=image/jpeg:https://create.vegas/wp-content/uploads/2025/07/3c7765f1d41bbad0db8502340aff7db3.jpg
END:VEVENT
BEGIN:VEVENT
DTSTART;TZID=America/Los_Angeles:20260214T100000
DTEND;TZID=America/Los_Angeles:20260214T170000
DTSTAMP:20260425T054229
CREATED:20250723T001945Z
LAST-MODIFIED:20251208T081801Z
UID:10029099-1771063200-1771088400@create.vegas
SUMMARY:Saturday Brunch in Las Vegas at 18bin – $25 Bottomless Mimosas + Live DJs
DESCRIPTION:Sip $25 bottomless mimosas and vibe with live DJs every Saturday at 18bin in Downtown Las Vegas. Brunch from 10AM–5PM!
URL:https://create.vegas/event/saturday-brunch-in-las-vegas-at-18bin-25-bottomless-mimosas-live-djs-30/
LOCATION:18Bin Bar & Restaurant\, 107 East Charleston Boulevard\, #Suite 150\, Las Vegas\, NV\, 89104\, United States
CATEGORIES:Food & Drink & Fun
ATTACH;FMTTYPE=image/jpeg:https://create.vegas/wp-content/uploads/2025/07/3c7765f1d41bbad0db8502340aff7db3.jpg
END:VEVENT
BEGIN:VEVENT
DTSTART;TZID=America/Los_Angeles:20260207T100000
DTEND;TZID=America/Los_Angeles:20260207T170000
DTSTAMP:20260425T054229
CREATED:20250723T001944Z
LAST-MODIFIED:20251208T081801Z
UID:10029098-1770458400-1770483600@create.vegas
SUMMARY:Saturday Brunch in Las Vegas at 18bin – $25 Bottomless Mimosas + Live DJs
DESCRIPTION:Sip $25 bottomless mimosas and vibe with live DJs every Saturday at 18bin in Downtown Las Vegas. Brunch from 10AM–5PM!
URL:https://create.vegas/event/saturday-brunch-in-las-vegas-at-18bin-25-bottomless-mimosas-live-djs-29/
LOCATION:18Bin Bar & Restaurant\, 107 East Charleston Boulevard\, #Suite 150\, Las Vegas\, NV\, 89104\, United States
CATEGORIES:Food & Drink & Fun
ATTACH;FMTTYPE=image/jpeg:https://create.vegas/wp-content/uploads/2025/07/3c7765f1d41bbad0db8502340aff7db3.jpg
END:VEVENT
BEGIN:VEVENT
DTSTART;TZID=America/Los_Angeles:20260131T100000
DTEND;TZID=America/Los_Angeles:20260131T170000
DTSTAMP:20260425T054229
CREATED:20250723T001944Z
LAST-MODIFIED:20251208T081801Z
UID:10029097-1769853600-1769878800@create.vegas
SUMMARY:Saturday Brunch in Las Vegas at 18bin – $25 Bottomless Mimosas + Live DJs
DESCRIPTION:Sip $25 bottomless mimosas and vibe with live DJs every Saturday at 18bin in Downtown Las Vegas. Brunch from 10AM–5PM!
URL:https://create.vegas/event/saturday-brunch-in-las-vegas-at-18bin-25-bottomless-mimosas-live-djs-28/
LOCATION:18Bin Bar & Restaurant\, 107 East Charleston Boulevard\, #Suite 150\, Las Vegas\, NV\, 89104\, United States
CATEGORIES:Food & Drink & Fun
ATTACH;FMTTYPE=image/jpeg:https://create.vegas/wp-content/uploads/2025/07/3c7765f1d41bbad0db8502340aff7db3.jpg
END:VEVENT
BEGIN:VEVENT
DTSTART;TZID=America/Los_Angeles:20260124T100000
DTEND;TZID=America/Los_Angeles:20260124T170000
DTSTAMP:20260425T054229
CREATED:20250723T001944Z
LAST-MODIFIED:20251208T081801Z
UID:10029096-1769248800-1769274000@create.vegas
SUMMARY:Saturday Brunch in Las Vegas at 18bin – $25 Bottomless Mimosas + Live DJs
DESCRIPTION:Sip $25 bottomless mimosas and vibe with live DJs every Saturday at 18bin in Downtown Las Vegas. Brunch from 10AM–5PM!
URL:https://create.vegas/event/saturday-brunch-in-las-vegas-at-18bin-25-bottomless-mimosas-live-djs-27/
LOCATION:18Bin Bar & Restaurant\, 107 East Charleston Boulevard\, #Suite 150\, Las Vegas\, NV\, 89104\, United States
CATEGORIES:Food & Drink & Fun
ATTACH;FMTTYPE=image/jpeg:https://create.vegas/wp-content/uploads/2025/07/3c7765f1d41bbad0db8502340aff7db3.jpg
END:VEVENT
BEGIN:VEVENT
DTSTART;TZID=America/Los_Angeles:20260117T100000
DTEND;TZID=America/Los_Angeles:20260117T170000
DTSTAMP:20260425T054229
CREATED:20250723T001944Z
LAST-MODIFIED:20251208T081800Z
UID:10029095-1768644000-1768669200@create.vegas
SUMMARY:Saturday Brunch in Las Vegas at 18bin – $25 Bottomless Mimosas + Live DJs
DESCRIPTION:Sip $25 bottomless mimosas and vibe with live DJs every Saturday at 18bin in Downtown Las Vegas. Brunch from 10AM–5PM!
URL:https://create.vegas/event/saturday-brunch-in-las-vegas-at-18bin-25-bottomless-mimosas-live-djs-26/
LOCATION:18Bin Bar & Restaurant\, 107 East Charleston Boulevard\, #Suite 150\, Las Vegas\, NV\, 89104\, United States
CATEGORIES:Food & Drink & Fun
ATTACH;FMTTYPE=image/jpeg:https://create.vegas/wp-content/uploads/2025/07/3c7765f1d41bbad0db8502340aff7db3.jpg
END:VEVENT
BEGIN:VEVENT
DTSTART;TZID=America/Los_Angeles:20260110T100000
DTEND;TZID=America/Los_Angeles:20260110T170000
DTSTAMP:20260425T054229
CREATED:20250723T001943Z
LAST-MODIFIED:20251208T081800Z
UID:10029094-1768039200-1768064400@create.vegas
SUMMARY:Saturday Brunch in Las Vegas at 18bin – $25 Bottomless Mimosas + Live DJs
DESCRIPTION:Sip $25 bottomless mimosas and vibe with live DJs every Saturday at 18bin in Downtown Las Vegas. Brunch from 10AM–5PM!
URL:https://create.vegas/event/saturday-brunch-in-las-vegas-at-18bin-25-bottomless-mimosas-live-djs-25/
LOCATION:18Bin Bar & Restaurant\, 107 East Charleston Boulevard\, #Suite 150\, Las Vegas\, NV\, 89104\, United States
CATEGORIES:Food & Drink & Fun
ATTACH;FMTTYPE=image/jpeg:https://create.vegas/wp-content/uploads/2025/07/3c7765f1d41bbad0db8502340aff7db3.jpg
END:VEVENT
BEGIN:VEVENT
DTSTART;TZID=America/Los_Angeles:20260103T100000
DTEND;TZID=America/Los_Angeles:20260103T170000
DTSTAMP:20260425T054229
CREATED:20250723T001943Z
LAST-MODIFIED:20251208T081800Z
UID:10029093-1767434400-1767459600@create.vegas
SUMMARY:Saturday Brunch in Las Vegas at 18bin – $25 Bottomless Mimosas + Live DJs
DESCRIPTION:Sip $25 bottomless mimosas and vibe with live DJs every Saturday at 18bin in Downtown Las Vegas. Brunch from 10AM–5PM!
URL:https://create.vegas/event/saturday-brunch-in-las-vegas-at-18bin-25-bottomless-mimosas-live-djs-24/
LOCATION:18Bin Bar & Restaurant\, 107 East Charleston Boulevard\, #Suite 150\, Las Vegas\, NV\, 89104\, United States
CATEGORIES:Food & Drink & Fun
ATTACH;FMTTYPE=image/jpeg:https://create.vegas/wp-content/uploads/2025/07/3c7765f1d41bbad0db8502340aff7db3.jpg
END:VEVENT
BEGIN:VEVENT
DTSTART;TZID=America/Los_Angeles:20251227T100000
DTEND;TZID=America/Los_Angeles:20251227T170000
DTSTAMP:20260425T054229
CREATED:20250723T001943Z
LAST-MODIFIED:20251208T081800Z
UID:10029092-1766829600-1766854800@create.vegas
SUMMARY:Saturday Brunch in Las Vegas at 18bin – $25 Bottomless Mimosas + Live DJs
DESCRIPTION:Sip $25 bottomless mimosas and vibe with live DJs every Saturday at 18bin in Downtown Las Vegas. Brunch from 10AM–5PM!
URL:https://create.vegas/event/saturday-brunch-in-las-vegas-at-18bin-25-bottomless-mimosas-live-djs-23/
LOCATION:18Bin Bar & Restaurant\, 107 East Charleston Boulevard\, #Suite 150\, Las Vegas\, NV\, 89104\, United States
CATEGORIES:Food & Drink & Fun
ATTACH;FMTTYPE=image/jpeg:https://create.vegas/wp-content/uploads/2025/07/3c7765f1d41bbad0db8502340aff7db3.jpg
END:VEVENT
BEGIN:VEVENT
DTSTART;TZID=America/Los_Angeles:20251220T100000
DTEND;TZID=America/Los_Angeles:20251220T170000
DTSTAMP:20260425T054229
CREATED:20250723T001943Z
LAST-MODIFIED:20251208T081800Z
UID:10029091-1766224800-1766250000@create.vegas
SUMMARY:Saturday Brunch in Las Vegas at 18bin – $25 Bottomless Mimosas + Live DJs
DESCRIPTION:Sip $25 bottomless mimosas and vibe with live DJs every Saturday at 18bin in Downtown Las Vegas. Brunch from 10AM–5PM!
URL:https://create.vegas/event/saturday-brunch-in-las-vegas-at-18bin-25-bottomless-mimosas-live-djs-22/
LOCATION:18Bin Bar & Restaurant\, 107 East Charleston Boulevard\, #Suite 150\, Las Vegas\, NV\, 89104\, United States
CATEGORIES:Food & Drink & Fun
ATTACH;FMTTYPE=image/jpeg:https://create.vegas/wp-content/uploads/2025/07/3c7765f1d41bbad0db8502340aff7db3.jpg
END:VEVENT
BEGIN:VEVENT
DTSTART;TZID=America/Los_Angeles:20251213T100000
DTEND;TZID=America/Los_Angeles:20251213T170000
DTSTAMP:20260425T054229
CREATED:20250723T001942Z
LAST-MODIFIED:20251208T081759Z
UID:10029090-1765620000-1765645200@create.vegas
SUMMARY:Saturday Brunch in Las Vegas at 18bin – $25 Bottomless Mimosas + Live DJs
DESCRIPTION:Sip $25 bottomless mimosas and vibe with live DJs every Saturday at 18bin in Downtown Las Vegas. Brunch from 10AM–5PM!
URL:https://create.vegas/event/saturday-brunch-in-las-vegas-at-18bin-25-bottomless-mimosas-live-djs-21/
LOCATION:18Bin Bar & Restaurant\, 107 East Charleston Boulevard\, #Suite 150\, Las Vegas\, NV\, 89104\, United States
CATEGORIES:Food & Drink & Fun
ATTACH;FMTTYPE=image/jpeg:https://create.vegas/wp-content/uploads/2025/07/3c7765f1d41bbad0db8502340aff7db3.jpg
END:VEVENT
BEGIN:VEVENT
DTSTART;TZID=America/Los_Angeles:20251206T100000
DTEND;TZID=America/Los_Angeles:20251206T170000
DTSTAMP:20260425T054229
CREATED:20250723T001942Z
LAST-MODIFIED:20251107T025356Z
UID:10029089-1765015200-1765040400@create.vegas
SUMMARY:Saturday Brunch in Las Vegas at 18bin – $25 Bottomless Mimosas + Live DJs
DESCRIPTION:Sip $25 bottomless mimosas and vibe with live DJs every Saturday at 18bin in Downtown Las Vegas. Brunch from 10AM–5PM!
URL:https://create.vegas/event/saturday-brunch-in-las-vegas-at-18bin-25-bottomless-mimosas-live-djs-20/
LOCATION:18Bin Bar & Restaurant\, 107 East Charleston Boulevard\, #Suite 150\, Las Vegas\, NV\, 89104\, United States
CATEGORIES:Food & Drink & Fun
ATTACH;FMTTYPE=image/jpeg:https://create.vegas/wp-content/uploads/2025/07/3c7765f1d41bbad0db8502340aff7db3.jpg
END:VEVENT
BEGIN:VEVENT
DTSTART;TZID=America/Los_Angeles:20251129T100000
DTEND;TZID=America/Los_Angeles:20251129T170000
DTSTAMP:20260425T054229
CREATED:20250723T001942Z
LAST-MODIFIED:20251107T025356Z
UID:10029088-1764410400-1764435600@create.vegas
SUMMARY:Saturday Brunch in Las Vegas at 18bin – $25 Bottomless Mimosas + Live DJs
DESCRIPTION:Sip $25 bottomless mimosas and vibe with live DJs every Saturday at 18bin in Downtown Las Vegas. Brunch from 10AM–5PM!
URL:https://create.vegas/event/saturday-brunch-in-las-vegas-at-18bin-25-bottomless-mimosas-live-djs-19/
LOCATION:18Bin Bar & Restaurant\, 107 East Charleston Boulevard\, #Suite 150\, Las Vegas\, NV\, 89104\, United States
CATEGORIES:Food & Drink & Fun
ATTACH;FMTTYPE=image/jpeg:https://create.vegas/wp-content/uploads/2025/07/3c7765f1d41bbad0db8502340aff7db3.jpg
END:VEVENT
BEGIN:VEVENT
DTSTART;TZID=America/Los_Angeles:20251122T100000
DTEND;TZID=America/Los_Angeles:20251122T170000
DTSTAMP:20260425T054229
CREATED:20250723T001941Z
LAST-MODIFIED:20251107T025356Z
UID:10029087-1763805600-1763830800@create.vegas
SUMMARY:Saturday Brunch in Las Vegas at 18bin – $25 Bottomless Mimosas + Live DJs
DESCRIPTION:Sip $25 bottomless mimosas and vibe with live DJs every Saturday at 18bin in Downtown Las Vegas. Brunch from 10AM–5PM!
URL:https://create.vegas/event/saturday-brunch-in-las-vegas-at-18bin-25-bottomless-mimosas-live-djs-18/
LOCATION:18Bin Bar & Restaurant\, 107 East Charleston Boulevard\, #Suite 150\, Las Vegas\, NV\, 89104\, United States
CATEGORIES:Food & Drink & Fun
ATTACH;FMTTYPE=image/jpeg:https://create.vegas/wp-content/uploads/2025/07/3c7765f1d41bbad0db8502340aff7db3.jpg
END:VEVENT
BEGIN:VEVENT
DTSTART;TZID=America/Los_Angeles:20251115T100000
DTEND;TZID=America/Los_Angeles:20251115T170000
DTSTAMP:20260425T054229
CREATED:20250723T001941Z
LAST-MODIFIED:20251107T025355Z
UID:10029086-1763200800-1763226000@create.vegas
SUMMARY:Saturday Brunch in Las Vegas at 18bin – $25 Bottomless Mimosas + Live DJs
DESCRIPTION:Sip $25 bottomless mimosas and vibe with live DJs every Saturday at 18bin in Downtown Las Vegas. Brunch from 10AM–5PM!
URL:https://create.vegas/event/saturday-brunch-in-las-vegas-at-18bin-25-bottomless-mimosas-live-djs-17/
LOCATION:18Bin Bar & Restaurant\, 107 East Charleston Boulevard\, #Suite 150\, Las Vegas\, NV\, 89104\, United States
CATEGORIES:Food & Drink & Fun
ATTACH;FMTTYPE=image/jpeg:https://create.vegas/wp-content/uploads/2025/07/3c7765f1d41bbad0db8502340aff7db3.jpg
END:VEVENT
BEGIN:VEVENT
DTSTART;TZID=America/Los_Angeles:20251108T100000
DTEND;TZID=America/Los_Angeles:20251108T170000
DTSTAMP:20260425T054229
CREATED:20250723T001941Z
LAST-MODIFIED:20251107T025355Z
UID:10029085-1762596000-1762621200@create.vegas
SUMMARY:Saturday Brunch in Las Vegas at 18bin – $25 Bottomless Mimosas + Live DJs
DESCRIPTION:Sip $25 bottomless mimosas and vibe with live DJs every Saturday at 18bin in Downtown Las Vegas. Brunch from 10AM–5PM!
URL:https://create.vegas/event/saturday-brunch-in-las-vegas-at-18bin-25-bottomless-mimosas-live-djs-16/
LOCATION:18Bin Bar & Restaurant\, 107 East Charleston Boulevard\, #Suite 150\, Las Vegas\, NV\, 89104\, United States
CATEGORIES:Food & Drink & Fun
ATTACH;FMTTYPE=image/jpeg:https://create.vegas/wp-content/uploads/2025/07/3c7765f1d41bbad0db8502340aff7db3.jpg
END:VEVENT
BEGIN:VEVENT
DTSTART;TZID=America/Los_Angeles:20251101T100000
DTEND;TZID=America/Los_Angeles:20251101T170000
DTSTAMP:20260425T054229
CREATED:20250723T001941Z
LAST-MODIFIED:20250921T003405Z
UID:10029084-1761991200-1762016400@create.vegas
SUMMARY:Saturday Brunch in Las Vegas at 18bin – $25 Bottomless Mimosas + Live DJs
DESCRIPTION:Sip $25 bottomless mimosas and vibe with live DJs every Saturday at 18bin in Downtown Las Vegas. Brunch from 10AM–5PM!
URL:https://create.vegas/event/saturday-brunch-in-las-vegas-at-18bin-25-bottomless-mimosas-live-djs-15/
LOCATION:18Bin Bar & Restaurant\, 107 East Charleston Boulevard\, #Suite 150\, Las Vegas\, NV\, 89104\, United States
CATEGORIES:Food & Drink & Fun
ATTACH;FMTTYPE=image/jpeg:https://create.vegas/wp-content/uploads/2025/07/3c7765f1d41bbad0db8502340aff7db3.jpg
END:VEVENT
BEGIN:VEVENT
DTSTART;TZID=America/Los_Angeles:20251025T100000
DTEND;TZID=America/Los_Angeles:20251025T170000
DTSTAMP:20260425T054229
CREATED:20250723T001940Z
LAST-MODIFIED:20250921T003405Z
UID:10029083-1761386400-1761411600@create.vegas
SUMMARY:Saturday Brunch in Las Vegas at 18bin – $25 Bottomless Mimosas + Live DJs
DESCRIPTION:Sip $25 bottomless mimosas and vibe with live DJs every Saturday at 18bin in Downtown Las Vegas. Brunch from 10AM–5PM!
URL:https://create.vegas/event/saturday-brunch-in-las-vegas-at-18bin-25-bottomless-mimosas-live-djs-14/
LOCATION:18Bin Bar & Restaurant\, 107 East Charleston Boulevard\, #Suite 150\, Las Vegas\, NV\, 89104\, United States
CATEGORIES:Food & Drink & Fun
ATTACH;FMTTYPE=image/jpeg:https://create.vegas/wp-content/uploads/2025/07/3c7765f1d41bbad0db8502340aff7db3.jpg
END:VEVENT
BEGIN:VEVENT
DTSTART;TZID=America/Los_Angeles:20251018T100000
DTEND;TZID=America/Los_Angeles:20251018T170000
DTSTAMP:20260425T054229
CREATED:20250723T001940Z
LAST-MODIFIED:20250921T003404Z
UID:10029082-1760781600-1760806800@create.vegas
SUMMARY:Saturday Brunch in Las Vegas at 18bin – $25 Bottomless Mimosas + Live DJs
DESCRIPTION:Sip $25 bottomless mimosas and vibe with live DJs every Saturday at 18bin in Downtown Las Vegas. Brunch from 10AM–5PM!
URL:https://create.vegas/event/saturday-brunch-in-las-vegas-at-18bin-25-bottomless-mimosas-live-djs-13/
LOCATION:18Bin Bar & Restaurant\, 107 East Charleston Boulevard\, #Suite 150\, Las Vegas\, NV\, 89104\, United States
CATEGORIES:Food & Drink & Fun
ATTACH;FMTTYPE=image/jpeg:https://create.vegas/wp-content/uploads/2025/07/3c7765f1d41bbad0db8502340aff7db3.jpg
END:VEVENT
BEGIN:VEVENT
DTSTART;TZID=America/Los_Angeles:20251011T100000
DTEND;TZID=America/Los_Angeles:20251011T170000
DTSTAMP:20260425T054229
CREATED:20250723T001940Z
LAST-MODIFIED:20250921T003404Z
UID:10029081-1760176800-1760202000@create.vegas
SUMMARY:Saturday Brunch in Las Vegas at 18bin – $25 Bottomless Mimosas + Live DJs
DESCRIPTION:Sip $25 bottomless mimosas and vibe with live DJs every Saturday at 18bin in Downtown Las Vegas. Brunch from 10AM–5PM!
URL:https://create.vegas/event/saturday-brunch-in-las-vegas-at-18bin-25-bottomless-mimosas-live-djs-12/
LOCATION:18Bin Bar & Restaurant\, 107 East Charleston Boulevard\, #Suite 150\, Las Vegas\, NV\, 89104\, United States
CATEGORIES:Food & Drink & Fun
ATTACH;FMTTYPE=image/jpeg:https://create.vegas/wp-content/uploads/2025/07/3c7765f1d41bbad0db8502340aff7db3.jpg
END:VEVENT
BEGIN:VEVENT
DTSTART;TZID=America/Los_Angeles:20251004T100000
DTEND;TZID=America/Los_Angeles:20251004T170000
DTSTAMP:20260425T054229
CREATED:20250723T001940Z
LAST-MODIFIED:20250921T003404Z
UID:10029080-1759572000-1759597200@create.vegas
SUMMARY:Saturday Brunch in Las Vegas at 18bin – $25 Bottomless Mimosas + Live DJs
DESCRIPTION:Sip $25 bottomless mimosas and vibe with live DJs every Saturday at 18bin in Downtown Las Vegas. Brunch from 10AM–5PM!
URL:https://create.vegas/event/saturday-brunch-in-las-vegas-at-18bin-25-bottomless-mimosas-live-djs-11/
LOCATION:18Bin Bar & Restaurant\, 107 East Charleston Boulevard\, #Suite 150\, Las Vegas\, NV\, 89104\, United States
CATEGORIES:Food & Drink & Fun
ATTACH;FMTTYPE=image/jpeg:https://create.vegas/wp-content/uploads/2025/07/3c7765f1d41bbad0db8502340aff7db3.jpg
END:VEVENT
END:VCALENDAR