BEGIN:VCALENDAR
VERSION:2.0
PRODID:-//Create.Vegas - ECPv6.15.20//NONSGML v1.0//EN
CALSCALE:GREGORIAN
METHOD:PUBLISH
X-ORIGINAL-URL:https://create.vegas
X-WR-CALDESC:Events for Create.Vegas
REFRESH-INTERVAL;VALUE=DURATION:PT1H
X-Robots-Tag:noindex
X-PUBLISHED-TTL:PT1H
BEGIN:VTIMEZONE
TZID:America/Los_Angeles
BEGIN:DAYLIGHT
TZOFFSETFROM:-0800
TZOFFSETTO:-0700
TZNAME:PDT
DTSTART:20240310T100000
END:DAYLIGHT
BEGIN:STANDARD
TZOFFSETFROM:-0700
TZOFFSETTO:-0800
TZNAME:PST
DTSTART:20241103T090000
END:STANDARD
BEGIN:DAYLIGHT
TZOFFSETFROM:-0800
TZOFFSETTO:-0700
TZNAME:PDT
DTSTART:20250309T100000
END:DAYLIGHT
BEGIN:STANDARD
TZOFFSETFROM:-0700
TZOFFSETTO:-0800
TZNAME:PST
DTSTART:20251102T090000
END:STANDARD
BEGIN:DAYLIGHT
TZOFFSETFROM:-0800
TZOFFSETTO:-0700
TZNAME:PDT
DTSTART:20260308T100000
END:DAYLIGHT
BEGIN:STANDARD
TZOFFSETFROM:-0700
TZOFFSETTO:-0800
TZNAME:PST
DTSTART:20261101T090000
END:STANDARD
END:VTIMEZONE
BEGIN:VEVENT
DTSTART;TZID=America/Los_Angeles:20251130T170000
DTEND;TZID=America/Los_Angeles:20251130T183000
DTSTAMP:20260425T041605
CREATED:20251126T222512Z
LAST-MODIFIED:20251126T222512Z
UID:10031553-1764522000-1764527400@create.vegas
SUMMARY:The Fourth Wall Project Presents “Breaking the 4th Wall”
DESCRIPTION:Join us for a compelling evening of creativity\, dialogue\, and artistic exploration as we invite bold storytellers and visionary artists to take center stage in Breaking the 4th Wall: Artist Presentation & Discussion. \nThis unique event shines a spotlight on the artists who dare to dissolve the barrier between performer and audience—those who challenge convention\, provoke thought\, and transform passive spectators into active participants. \nMeet us at Studio 305\, North Las Vegas at 5-6:30 p.m. for cocktails and mingling and an artistic experience that you will never forget. Seats are limited so get your tickets now! \nNov. 30 – Dance
URL:https://create.vegas/event/the-fourth-wall-project-presents-breaking-the-4th-wall/
LOCATION:Studio 305\, Home of the Rolle Project\, 3251 W. Craig Road\, #150\, Las Vegas\, NV\, 89032\, United States
CATEGORIES:Performing,Performing Arts,Workshops and Webinars
ATTACH;FMTTYPE=image/jpeg:https://create.vegas/wp-content/uploads/2025/11/IMG_4767-iZddIe.jpg
END:VEVENT
END:VCALENDAR