BEGIN:VCALENDAR
VERSION:2.0
PRODID:-//Create.Vegas - ECPv6.15.20//NONSGML v1.0//EN
CALSCALE:GREGORIAN
METHOD:PUBLISH
X-WR-CALNAME:Create.Vegas
X-ORIGINAL-URL:https://create.vegas
X-WR-CALDESC:Events for Create.Vegas
REFRESH-INTERVAL;VALUE=DURATION:PT1H
X-Robots-Tag:noindex
X-PUBLISHED-TTL:PT1H
BEGIN:VTIMEZONE
TZID:America/Los_Angeles
BEGIN:DAYLIGHT
TZOFFSETFROM:-0800
TZOFFSETTO:-0700
TZNAME:PDT
DTSTART:20240310T100000
END:DAYLIGHT
BEGIN:STANDARD
TZOFFSETFROM:-0700
TZOFFSETTO:-0800
TZNAME:PST
DTSTART:20241103T090000
END:STANDARD
BEGIN:DAYLIGHT
TZOFFSETFROM:-0800
TZOFFSETTO:-0700
TZNAME:PDT
DTSTART:20250309T100000
END:DAYLIGHT
BEGIN:STANDARD
TZOFFSETFROM:-0700
TZOFFSETTO:-0800
TZNAME:PST
DTSTART:20251102T090000
END:STANDARD
BEGIN:DAYLIGHT
TZOFFSETFROM:-0800
TZOFFSETTO:-0700
TZNAME:PDT
DTSTART:20260308T100000
END:DAYLIGHT
BEGIN:STANDARD
TZOFFSETFROM:-0700
TZOFFSETTO:-0800
TZNAME:PST
DTSTART:20261101T090000
END:STANDARD
BEGIN:DAYLIGHT
TZOFFSETFROM:-0800
TZOFFSETTO:-0700
TZNAME:PDT
DTSTART:20270314T100000
END:DAYLIGHT
BEGIN:STANDARD
TZOFFSETFROM:-0700
TZOFFSETTO:-0800
TZNAME:PST
DTSTART:20271107T090000
END:STANDARD
END:VTIMEZONE
BEGIN:VEVENT
DTSTART;TZID=America/Los_Angeles:20260128T180000
DTEND;TZID=America/Los_Angeles:20260128T203000
DTSTAMP:20260423T023748
CREATED:20260107T172629Z
LAST-MODIFIED:20260107T172629Z
UID:10032522-1769623200-1769632200@create.vegas
SUMMARY:Popstar U Grand Opening Party
DESCRIPTION:Join us for a fun-filled party celebrating the grand opening of Popstar U  – you won’t want to miss it!\n\n\nWelcome to the Popstar U Grand Opening Party! 🎉\n\nJoin us at 6620 S Tenaya Way\, Suite 200 on January 28\, 2026 at 6:00 PM (Pacific Time) for a night of music and nonstop fun. Get ready to celebrate the launch. \n\nStudio Tour\nLight Bites\nSoft Drinks\nGIVEAWAYS!\n\nDon’t miss out on this exciting event! \nDress Code: Popstar Chic \n \nABOUT POPSTAR U\nLearn more : www.popstaru.com \nTake Your Career To The Next Level! \nAt Popstar U\, we take pride in delivering a full suite of music services tailored to enhance your skills and realize your creative vision. \nBacked by extensive experience in the music industry\, our team consists of veteran professionals who have collaborated with celebrated artists and brands. Our proficiency covers production\, radio promo\, songwriting\, social media management\, lessons\, and PR/marketing\, guaranteeing exceptional quality and industry-standard outcomes. \nOur goal is to identify\, mentor\, and nurture exceptionally gifted singers\, bands\, and songwriters\, equipping them for sustained success in the music industry. Popstar U collaborates closely with Grammy winning and Billboard #1 charting producers\, writers and engineers. Maintaining an arms distance relationship with Labels\, Publishers\, Sync agents and Music supervisors\, giving our projects the best chance for national and global success.
URL:https://create.vegas/event/popstar-u-grand-opening-party/
LOCATION:6620 S Tenaya Way suite 200\, 6620 South Tenaya Way\, #suite 200\, Las Vegas\, NV\, 89113\, United States
CATEGORIES:Community Event
ATTACH;FMTTYPE=image/jpeg:https://create.vegas/wp-content/uploads/2026/01/27ead0f07f02594ee3447d49ad315865.jpg
END:VEVENT
BEGIN:VEVENT
DTSTART;TZID=America/Los_Angeles:20251205T180000
DTEND;TZID=America/Los_Angeles:20251205T210000
DTSTAMP:20260423T023748
CREATED:20251107T023055Z
LAST-MODIFIED:20251107T023055Z
UID:10030995-1764957600-1764968400@create.vegas
SUMMARY:HOLIDAY SOIREE - In Collaboration With Smith Plastic Surgery
DESCRIPTION:Celebrate the holidays with MYVEGAS + Smith Plastic Surgery!\n\n\nWelcome to the HOLIDAY SOIREE!\n\nLIQUOR BAR\nLIVE MUSIC\nRAFFLE PRIZES\nAND SO MUCH FUN!! \n\nTOYS FOR TOTS TOY DRIVE: Please bring a toy for our Toys For Tots Drive! \n \nCome join us at Smith Plastic Surgery for a festive evening on December 5\, 2025 at 6:00 PM Pacific Time. Get ready for a night of celebration and glamour! \nEnjoy delicious treats\, refreshing drinks\, and mingle with fellow guests. It’s the perfect opportunity to unwind and have a great time. \nDon’t miss out on this special event! Mark your calendars and get ready to have a blast!
URL:https://create.vegas/event/holiday-soiree-in-collaboration-with-smith-plastic-surgery/
LOCATION:Smith Plastic Surgery\, 7650 West Sahara Avenue\, Las Vegas\, NV\, 89117\, United States
ATTACH;FMTTYPE=image/jpeg:https://create.vegas/wp-content/uploads/2025/11/f6662efb2618c48833df3ea40bd13a01.jpg
END:VEVENT
BEGIN:VEVENT
DTSTART;TZID=America/Los_Angeles:20251112T110000
DTEND;TZID=America/Los_Angeles:20251112T133000
DTSTAMP:20260423T023748
CREATED:20251107T023053Z
LAST-MODIFIED:20251107T023053Z
UID:10030994-1762945200-1762954200@create.vegas
SUMMARY:MYVEGAS + LOREN LAHAV | Empowering Women Network Mixer + Lunch
DESCRIPTION:Join us for another AMAZING Loren Lahav lunch: Empowering Women Lunch + GIVING IS LIVING\n\n\nMYVEGAS + LOREN LAHAV | Empowering Women Network Mixer + Lunch \nCome join us at the Canyon Gate Country Club on November 12\, 2025 at 11:00 AM  for a fabulous event! Network with inspiring women\, enjoy a delicious lunch\, and empower each other to greatness. Don’t miss out on this opportunity to connect\, learn\, and grow together. Let’s lift each other up and make meaningful connections that last a lifetime. See you there!
URL:https://create.vegas/event/myvegas-loren-lahav-empowering-women-network-mixer-lunch/
LOCATION:Canyon Gate Country Club\, 2001 Canyon Gate Dr\, Las Vegas\, NV\, 89117\, United States
ATTACH;FMTTYPE=image/jpeg:https://create.vegas/wp-content/uploads/2025/11/c469c694b9ca09632e73d01767e55e01.jpg
END:VEVENT
END:VCALENDAR