BEGIN:VCALENDAR
VERSION:2.0
PRODID:-//Create.Vegas - ECPv6.15.20//NONSGML v1.0//EN
CALSCALE:GREGORIAN
METHOD:PUBLISH
X-WR-CALNAME:Create.Vegas
X-ORIGINAL-URL:https://create.vegas
X-WR-CALDESC:Events for Create.Vegas
REFRESH-INTERVAL;VALUE=DURATION:PT1H
X-Robots-Tag:noindex
X-PUBLISHED-TTL:PT1H
BEGIN:VTIMEZONE
TZID:America/Los_Angeles
BEGIN:DAYLIGHT
TZOFFSETFROM:-0800
TZOFFSETTO:-0700
TZNAME:PDT
DTSTART:20250309T100000
END:DAYLIGHT
BEGIN:STANDARD
TZOFFSETFROM:-0700
TZOFFSETTO:-0800
TZNAME:PST
DTSTART:20251102T090000
END:STANDARD
BEGIN:DAYLIGHT
TZOFFSETFROM:-0800
TZOFFSETTO:-0700
TZNAME:PDT
DTSTART:20260308T100000
END:DAYLIGHT
BEGIN:STANDARD
TZOFFSETFROM:-0700
TZOFFSETTO:-0800
TZNAME:PST
DTSTART:20261101T090000
END:STANDARD
BEGIN:DAYLIGHT
TZOFFSETFROM:-0800
TZOFFSETTO:-0700
TZNAME:PDT
DTSTART:20270314T100000
END:DAYLIGHT
BEGIN:STANDARD
TZOFFSETFROM:-0700
TZOFFSETTO:-0800
TZNAME:PST
DTSTART:20271107T090000
END:STANDARD
END:VTIMEZONE
BEGIN:VEVENT
DTSTART;TZID=America/Los_Angeles:20260326T213000
DTEND;TZID=America/Los_Angeles:20260327T040000
DTSTAMP:20260421T174451
CREATED:20260116T033653Z
LAST-MODIFIED:20260327T060651Z
UID:10032615-1774560600-1774584000@create.vegas
SUMMARY:Spring Break Las Vegas Club Crawl
DESCRIPTION:Party at the best clubs in Vegas for Spring Break 2026!
URL:https://create.vegas/event/spring-break-las-vegas-club-crawl-66/
LOCATION:Las Vegas Strip  (check our website for starting location)\, Las Vegas Strip\, Las Vegas\, NV\, 89109\, United States
CATEGORIES:Food & Drink & Fun
ATTACH;FMTTYPE=image/jpeg:https://create.vegas/wp-content/uploads/2026/01/8754bc031d9b3a99ce837da12cb8e781.jpg
END:VEVENT
BEGIN:VEVENT
DTSTART;TZID=America/Los_Angeles:20260326T213000
DTEND;TZID=America/Los_Angeles:20260327T010000
DTSTAMP:20260421T174451
CREATED:20260123T035123Z
LAST-MODIFIED:20260327T060632Z
UID:10032644-1774560600-1774573200@create.vegas
SUMMARY:Las Vegas Club Crawl with Party Bus
DESCRIPTION:Party like a VIP at the best clubs in Vegas: Free entry\, and a party bus with free drinks!
URL:https://create.vegas/event/las-vegas-club-crawl-with-party-bus-365/
LOCATION:LA Epic Club Crawls\, Please check our website for starting location\, Las Vegas\, NV\, 89109\, United States
CATEGORIES:Food & Drink & Fun
ATTACH;FMTTYPE=image/jpeg:https://create.vegas/wp-content/uploads/2025/09/54339c18a39f77272fdd2fdb8168bc42.jpg
END:VEVENT
BEGIN:VEVENT
DTSTART;TZID=America/Los_Angeles:20260326T210000
DTEND;TZID=America/Los_Angeles:20260327T010000
DTSTAMP:20260421T174451
CREATED:20260227T050802Z
LAST-MODIFIED:20260327T060649Z
UID:10033551-1774558800-1774573200@create.vegas
SUMMARY:Las Vegas Strip Club Crawl
DESCRIPTION:Free entry & VIP transportation to the best Strip Clubs in Vegas!
URL:https://create.vegas/event/las-vegas-strip-club-crawl-21/
LOCATION:Caesars Palace\, 3570 South Las Vegas Boulevard\, Paradise\, NV\, 89109\, United States
CATEGORIES:Food & Drink & Fun
ATTACH;FMTTYPE=image/jpeg:https://create.vegas/wp-content/uploads/2026/02/a6afa8ce28b26988a3427189f0ff8ae4.jpg
END:VEVENT
BEGIN:VEVENT
DTSTART;TZID=America/Los_Angeles:20260325T213000
DTEND;TZID=America/Los_Angeles:20260326T010000
DTSTAMP:20260421T174451
CREATED:20260123T035123Z
LAST-MODIFIED:20260320T055150Z
UID:10032643-1774474200-1774486800@create.vegas
SUMMARY:Las Vegas Club Crawl with Party Bus
DESCRIPTION:Party like a VIP at the best clubs in Vegas: Free entry\, and a party bus with free drinks!
URL:https://create.vegas/event/las-vegas-club-crawl-with-party-bus-364/
LOCATION:LA Epic Club Crawls\, Please check our website for starting location\, Las Vegas\, NV\, 89109\, United States
CATEGORIES:Food & Drink & Fun
ATTACH;FMTTYPE=image/jpeg:https://create.vegas/wp-content/uploads/2025/09/54339c18a39f77272fdd2fdb8168bc42.jpg
END:VEVENT
BEGIN:VEVENT
DTSTART;TZID=America/Los_Angeles:20260325T210000
DTEND;TZID=America/Los_Angeles:20260326T010000
DTSTAMP:20260421T174451
CREATED:20260227T050801Z
LAST-MODIFIED:20260320T055247Z
UID:10033550-1774472400-1774486800@create.vegas
SUMMARY:Las Vegas Strip Club Crawl
DESCRIPTION:Free entry & VIP transportation to the best Strip Clubs in Vegas!
URL:https://create.vegas/event/las-vegas-strip-club-crawl-20/
LOCATION:Caesars Palace\, 3570 South Las Vegas Boulevard\, Paradise\, NV\, 89109\, United States
CATEGORIES:Food & Drink & Fun
ATTACH;FMTTYPE=image/jpeg:https://create.vegas/wp-content/uploads/2026/02/a6afa8ce28b26988a3427189f0ff8ae4.jpg
END:VEVENT
BEGIN:VEVENT
DTSTART;TZID=America/Los_Angeles:20260324T213000
DTEND;TZID=America/Los_Angeles:20260325T040000
DTSTAMP:20260421T174451
CREATED:20260116T033653Z
LAST-MODIFIED:20260320T055305Z
UID:10032614-1774387800-1774411200@create.vegas
SUMMARY:Spring Break Las Vegas Club Crawl
DESCRIPTION:Party at the best clubs in Vegas for Spring Break 2026!
URL:https://create.vegas/event/spring-break-las-vegas-club-crawl-65/
LOCATION:Las Vegas Strip  (check our website for starting location)\, Las Vegas Strip\, Las Vegas\, NV\, 89109\, United States
CATEGORIES:Food & Drink & Fun
ATTACH;FMTTYPE=image/jpeg:https://create.vegas/wp-content/uploads/2026/01/8754bc031d9b3a99ce837da12cb8e781.jpg
END:VEVENT
BEGIN:VEVENT
DTSTART;TZID=America/Los_Angeles:20260324T213000
DTEND;TZID=America/Los_Angeles:20260325T010000
DTSTAMP:20260421T174451
CREATED:20260116T033550Z
LAST-MODIFIED:20260320T055150Z
UID:10032586-1774387800-1774400400@create.vegas
SUMMARY:Las Vegas Club Crawl with Party Bus
DESCRIPTION:Party like a VIP at the best clubs in Vegas: Free entry\, and a party bus with free drinks!
URL:https://create.vegas/event/las-vegas-club-crawl-with-party-bus-363/
LOCATION:LA Epic Club Crawls\, Please check our website for starting location\, Las Vegas\, NV\, 89109\, United States
CATEGORIES:Food & Drink & Fun
ATTACH;FMTTYPE=image/jpeg:https://create.vegas/wp-content/uploads/2025/09/54339c18a39f77272fdd2fdb8168bc42.jpg
END:VEVENT
BEGIN:VEVENT
DTSTART;TZID=America/Los_Angeles:20260322T213000
DTEND;TZID=America/Los_Angeles:20260323T040000
DTSTAMP:20260421T174451
CREATED:20260116T033652Z
LAST-MODIFIED:20260320T055305Z
UID:10032613-1774215000-1774238400@create.vegas
SUMMARY:Spring Break Las Vegas Club Crawl
DESCRIPTION:Party at the best clubs in Vegas for Spring Break 2026!
URL:https://create.vegas/event/spring-break-las-vegas-club-crawl-41/
LOCATION:Las Vegas Strip  (check our website for starting location)\, Las Vegas Strip\, Las Vegas\, NV\, 89109\, United States
CATEGORIES:Food & Drink & Fun
ATTACH;FMTTYPE=image/jpeg:https://create.vegas/wp-content/uploads/2026/01/8754bc031d9b3a99ce837da12cb8e781.jpg
END:VEVENT
BEGIN:VEVENT
DTSTART;TZID=America/Los_Angeles:20260322T213000
DTEND;TZID=America/Los_Angeles:20260323T010000
DTSTAMP:20260421T174451
CREATED:20260116T033550Z
LAST-MODIFIED:20260320T055150Z
UID:10032585-1774215000-1774227600@create.vegas
SUMMARY:Las Vegas Club Crawl with Party Bus
DESCRIPTION:Party like a VIP at the best clubs in Vegas: Free entry\, and a party bus with free drinks!
URL:https://create.vegas/event/las-vegas-club-crawl-with-party-bus-362/
LOCATION:LA Epic Club Crawls\, Please check our website for starting location\, Las Vegas\, NV\, 89109\, United States
CATEGORIES:Food & Drink & Fun
ATTACH;FMTTYPE=image/jpeg:https://create.vegas/wp-content/uploads/2025/09/54339c18a39f77272fdd2fdb8168bc42.jpg
END:VEVENT
BEGIN:VEVENT
DTSTART;TZID=America/Los_Angeles:20260322T210000
DTEND;TZID=America/Los_Angeles:20260323T010000
DTSTAMP:20260421T174451
CREATED:20260227T050801Z
LAST-MODIFIED:20260320T055247Z
UID:10033549-1774213200-1774227600@create.vegas
SUMMARY:Las Vegas Strip Club Crawl
DESCRIPTION:Free entry & VIP transportation to the best Strip Clubs in Vegas!
URL:https://create.vegas/event/las-vegas-strip-club-crawl-19/
LOCATION:Caesars Palace\, 3570 South Las Vegas Boulevard\, Paradise\, NV\, 89109\, United States
CATEGORIES:Food & Drink & Fun
ATTACH;FMTTYPE=image/jpeg:https://create.vegas/wp-content/uploads/2026/02/a6afa8ce28b26988a3427189f0ff8ae4.jpg
END:VEVENT
BEGIN:VEVENT
DTSTART;TZID=America/Los_Angeles:20260322T203000
DTEND;TZID=America/Los_Angeles:20260323T003000
DTSTAMP:20260421T174451
CREATED:20251219T025023Z
LAST-MODIFIED:20260320T055202Z
UID:10032153-1774211400-1774225800@create.vegas
SUMMARY:Fremont Street Bar Crawl
DESCRIPTION:Fremont Street Bar Crawl gets you exclusive perks at the best bars in Old Vegas.
URL:https://create.vegas/event/fremont-street-bar-crawl-334/
LOCATION:Meeting Venue TBA – Check website for details\, Fremont St\, Las Vegas\, NV\, 89101\, United States
CATEGORIES:Food & Drink & Fun
ATTACH;FMTTYPE=image/jpeg:https://create.vegas/wp-content/uploads/2025/12/6209811cb488331552d7bc6caf142c54.jpg
END:VEVENT
BEGIN:VEVENT
DTSTART;TZID=America/Los_Angeles:20260322T113000
DTEND;TZID=America/Los_Angeles:20260322T170000
DTSTAMP:20260421T174451
CREATED:20260116T033646Z
LAST-MODIFIED:20260320T055312Z
UID:10032594-1774179000-1774198800@create.vegas
SUMMARY:SPRING BREAK LAS VEGAS POOL CRAWL
DESCRIPTION:Party at the best pool parties in Las Vegas this Spring Break 2026!
URL:https://create.vegas/event/spring-break-las-vegas-pool-crawl-46/
LOCATION:Las Vegas Strip\, TBA\, Las Vegas\, NV\, 89109\, United States
CATEGORIES:Food & Drink & Fun
ATTACH;FMTTYPE=image/jpeg:https://create.vegas/wp-content/uploads/2026/01/523256e84d248766d4a1cdeb6eee99af.jpg
END:VEVENT
BEGIN:VEVENT
DTSTART;TZID=America/Los_Angeles:20260321T213000
DTEND;TZID=America/Los_Angeles:20260322T040000
DTSTAMP:20260421T174451
CREATED:20260116T033652Z
LAST-MODIFIED:20260320T055304Z
UID:10032612-1774128600-1774152000@create.vegas
SUMMARY:Spring Break Las Vegas Club Crawl
DESCRIPTION:Party at the best clubs in Vegas for Spring Break 2026!
URL:https://create.vegas/event/spring-break-las-vegas-club-crawl-39/
LOCATION:Las Vegas Strip  (check our website for starting location)\, Las Vegas Strip\, Las Vegas\, NV\, 89109\, United States
CATEGORIES:Food & Drink & Fun
ATTACH;FMTTYPE=image/jpeg:https://create.vegas/wp-content/uploads/2026/01/8754bc031d9b3a99ce837da12cb8e781.jpg
END:VEVENT
BEGIN:VEVENT
DTSTART;TZID=America/Los_Angeles:20260321T213000
DTEND;TZID=America/Los_Angeles:20260322T010000
DTSTAMP:20260421T174451
CREATED:20260116T033550Z
LAST-MODIFIED:20260320T055149Z
UID:10032584-1774128600-1774141200@create.vegas
SUMMARY:Las Vegas Club Crawl with Party Bus
DESCRIPTION:Party like a VIP at the best clubs in Vegas: Free entry\, and a party bus with free drinks!
URL:https://create.vegas/event/las-vegas-club-crawl-with-party-bus-361/
LOCATION:LA Epic Club Crawls\, Please check our website for starting location\, Las Vegas\, NV\, 89109\, United States
CATEGORIES:Food & Drink & Fun
ATTACH;FMTTYPE=image/jpeg:https://create.vegas/wp-content/uploads/2025/09/54339c18a39f77272fdd2fdb8168bc42.jpg
END:VEVENT
BEGIN:VEVENT
DTSTART;TZID=America/Los_Angeles:20260321T210000
DTEND;TZID=America/Los_Angeles:20260322T010000
DTSTAMP:20260421T174451
CREATED:20260227T050801Z
LAST-MODIFIED:20260320T055247Z
UID:10033548-1774126800-1774141200@create.vegas
SUMMARY:Las Vegas Strip Club Crawl
DESCRIPTION:Free entry & VIP transportation to the best Strip Clubs in Vegas!
URL:https://create.vegas/event/las-vegas-strip-club-crawl-18/
LOCATION:Caesars Palace\, 3570 South Las Vegas Boulevard\, Paradise\, NV\, 89109\, United States
CATEGORIES:Food & Drink & Fun
ATTACH;FMTTYPE=image/jpeg:https://create.vegas/wp-content/uploads/2026/02/a6afa8ce28b26988a3427189f0ff8ae4.jpg
END:VEVENT
BEGIN:VEVENT
DTSTART;TZID=America/Los_Angeles:20260321T203000
DTEND;TZID=America/Los_Angeles:20260322T003000
DTSTAMP:20260421T174451
CREATED:20251219T025023Z
LAST-MODIFIED:20260320T055202Z
UID:10032152-1774125000-1774139400@create.vegas
SUMMARY:Fremont Street Bar Crawl
DESCRIPTION:Fremont Street Bar Crawl gets you exclusive perks at the best bars in Old Vegas.
URL:https://create.vegas/event/fremont-street-bar-crawl-333/
LOCATION:Meeting Venue TBA – Check website for details\, Fremont St\, Las Vegas\, NV\, 89101\, United States
CATEGORIES:Food & Drink & Fun
ATTACH;FMTTYPE=image/jpeg:https://create.vegas/wp-content/uploads/2025/12/6209811cb488331552d7bc6caf142c54.jpg
END:VEVENT
BEGIN:VEVENT
DTSTART;TZID=America/Los_Angeles:20260321T140000
DTEND;TZID=America/Los_Angeles:20260321T190000
DTSTAMP:20260421T174451
CREATED:20260102T032211Z
LAST-MODIFIED:20260320T055215Z
UID:10032478-1774101600-1774119600@create.vegas
SUMMARY:Las Vegas Dispensary Tour
DESCRIPTION:Learning about the thriving green industry in Las Vegas\, when we take you to some of the best dispensaries in Vegas!
URL:https://create.vegas/event/las-vegas-dispensary-tour-the-1-green-tour-142/
LOCATION:Las Vegas Strip – Check website for check-in location\, Las Vegas Strip\, Las Vegas\, NV\, 89109\, United States
CATEGORIES:Food & Drink & Fun
ATTACH;FMTTYPE=image/jpeg:https://create.vegas/wp-content/uploads/2023/09/51e0ee772a209d886bb616508a11de8e.jpg
END:VEVENT
BEGIN:VEVENT
DTSTART;TZID=America/Los_Angeles:20260321T113000
DTEND;TZID=America/Los_Angeles:20260321T170000
DTSTAMP:20260421T174451
CREATED:20260116T033645Z
LAST-MODIFIED:20260320T055312Z
UID:10032593-1774092600-1774112400@create.vegas
SUMMARY:SPRING BREAK LAS VEGAS POOL CRAWL
DESCRIPTION:Party at the best pool parties in Las Vegas this Spring Break 2026!
URL:https://create.vegas/event/spring-break-las-vegas-pool-crawl-45/
LOCATION:Las Vegas Strip\, TBA\, Las Vegas\, NV\, 89109\, United States
CATEGORIES:Food & Drink & Fun
ATTACH;FMTTYPE=image/jpeg:https://create.vegas/wp-content/uploads/2026/01/523256e84d248766d4a1cdeb6eee99af.jpg
END:VEVENT
BEGIN:VEVENT
DTSTART;TZID=America/Los_Angeles:20260321T113000
DTEND;TZID=America/Los_Angeles:20260321T163000
DTSTAMP:20260421T174451
CREATED:20260306T052207Z
LAST-MODIFIED:20260320T055226Z
UID:10033670-1774092600-1774110600@create.vegas
SUMMARY:Las Vegas Pool Crawl
DESCRIPTION:Party at the best pool parties in Las Vegas this summer!
URL:https://create.vegas/event/las-vegas-pool-crawl-239/
LOCATION:Las Vegas Strip\, TBA\, Las Vegas\, NV\, 89109\, United States
CATEGORIES:Food & Drink & Fun
ATTACH;FMTTYPE=image/jpeg:https://create.vegas/wp-content/uploads/2025/09/e51a000afcf0608166fb2e5b19d6d060.jpg
END:VEVENT
BEGIN:VEVENT
DTSTART;TZID=America/Los_Angeles:20260320T213000
DTEND;TZID=America/Los_Angeles:20260321T040000
DTSTAMP:20260421T174451
CREATED:20260116T033652Z
LAST-MODIFIED:20260320T055304Z
UID:10032611-1774042200-1774065600@create.vegas
SUMMARY:Spring Break Las Vegas Club Crawl
DESCRIPTION:Party at the best clubs in Vegas for Spring Break 2026!
URL:https://create.vegas/event/spring-break-las-vegas-club-crawl-38/
LOCATION:Las Vegas Strip  (check our website for starting location)\, Las Vegas Strip\, Las Vegas\, NV\, 89109\, United States
CATEGORIES:Food & Drink & Fun
ATTACH;FMTTYPE=image/jpeg:https://create.vegas/wp-content/uploads/2026/01/8754bc031d9b3a99ce837da12cb8e781.jpg
END:VEVENT
BEGIN:VEVENT
DTSTART;TZID=America/Los_Angeles:20260320T213000
DTEND;TZID=America/Los_Angeles:20260321T010000
DTSTAMP:20260421T174451
CREATED:20260116T033549Z
LAST-MODIFIED:20260320T055149Z
UID:10032583-1774042200-1774054800@create.vegas
SUMMARY:Las Vegas Club Crawl with Party Bus
DESCRIPTION:Party like a VIP at the best clubs in Vegas: Free entry\, and a party bus with free drinks!
URL:https://create.vegas/event/las-vegas-club-crawl-with-party-bus-360/
LOCATION:LA Epic Club Crawls\, Please check our website for starting location\, Las Vegas\, NV\, 89109\, United States
CATEGORIES:Food & Drink & Fun
ATTACH;FMTTYPE=image/jpeg:https://create.vegas/wp-content/uploads/2025/09/54339c18a39f77272fdd2fdb8168bc42.jpg
END:VEVENT
BEGIN:VEVENT
DTSTART;TZID=America/Los_Angeles:20260320T210000
DTEND;TZID=America/Los_Angeles:20260321T010000
DTSTAMP:20260421T174451
CREATED:20260227T050800Z
LAST-MODIFIED:20260320T055246Z
UID:10033547-1774040400-1774054800@create.vegas
SUMMARY:Las Vegas Strip Club Crawl
DESCRIPTION:Free entry & VIP transportation to the best Strip Clubs in Vegas!
URL:https://create.vegas/event/las-vegas-strip-club-crawl-17/
LOCATION:Caesars Palace\, 3570 South Las Vegas Boulevard\, Paradise\, NV\, 89109\, United States
CATEGORIES:Food & Drink & Fun
ATTACH;FMTTYPE=image/jpeg:https://create.vegas/wp-content/uploads/2026/02/a6afa8ce28b26988a3427189f0ff8ae4.jpg
END:VEVENT
BEGIN:VEVENT
DTSTART;TZID=America/Los_Angeles:20260320T203000
DTEND;TZID=America/Los_Angeles:20260321T003000
DTSTAMP:20260421T174451
CREATED:20251219T025022Z
LAST-MODIFIED:20260320T055201Z
UID:10032151-1774038600-1774053000@create.vegas
SUMMARY:Fremont Street Bar Crawl
DESCRIPTION:Fremont Street Bar Crawl gets you exclusive perks at the best bars in Old Vegas.
URL:https://create.vegas/event/fremont-street-bar-crawl-332/
LOCATION:Meeting Venue TBA – Check website for details\, Fremont St\, Las Vegas\, NV\, 89101\, United States
CATEGORIES:Food & Drink & Fun
ATTACH;FMTTYPE=image/jpeg:https://create.vegas/wp-content/uploads/2025/12/6209811cb488331552d7bc6caf142c54.jpg
END:VEVENT
BEGIN:VEVENT
DTSTART;TZID=America/Los_Angeles:20260320T113000
DTEND;TZID=America/Los_Angeles:20260320T170000
DTSTAMP:20260421T174451
CREATED:20260320T055201Z
LAST-MODIFIED:20260320T055201Z
UID:10033816-1774006200-1774026000@create.vegas
SUMMARY:Las Vegas Pool Crawl
DESCRIPTION:Party at the best pool parties in Las Vegas this summer!
URL:https://create.vegas/event/las-vegas-pool-crawl-240/
LOCATION:Las Vegas Strip\, TBA\, Las Vegas\, NV\, 89109\, United States
CATEGORIES:Food & Drink & Fun
ATTACH;FMTTYPE=image/jpeg:https://create.vegas/wp-content/uploads/2025/09/e51a000afcf0608166fb2e5b19d6d060.jpg
END:VEVENT
BEGIN:VEVENT
DTSTART;TZID=America/Los_Angeles:20260320T113000
DTEND;TZID=America/Los_Angeles:20260320T163000
DTSTAMP:20260421T174451
CREATED:20260220T045203Z
LAST-MODIFIED:20260320T055217Z
UID:10033188-1774006200-1774024200@create.vegas
SUMMARY:SPRING BREAK LAS VEGAS POOL CRAWL
DESCRIPTION:Party at the best pool parties in Las Vegas this Spring Break 2026!
URL:https://create.vegas/event/spring-break-las-vegas-pool-crawl-62/
LOCATION:Las Vegas Strip\, TBA\, Las Vegas\, NV\, 89109\, United States
CATEGORIES:Food & Drink & Fun
ATTACH;FMTTYPE=image/jpeg:https://create.vegas/wp-content/uploads/2026/01/523256e84d248766d4a1cdeb6eee99af.jpg
END:VEVENT
BEGIN:VEVENT
DTSTART;TZID=America/Los_Angeles:20260319T213000
DTEND;TZID=America/Los_Angeles:20260320T040000
DTSTAMP:20260421T174451
CREATED:20260116T033651Z
LAST-MODIFIED:20260320T055216Z
UID:10032610-1773955800-1773979200@create.vegas
SUMMARY:Spring Break Las Vegas Club Crawl
DESCRIPTION:Party at the best clubs in Vegas for Spring Break 2026!
URL:https://create.vegas/event/spring-break-las-vegas-club-crawl-29/
LOCATION:Las Vegas Strip  (check our website for starting location)\, Las Vegas Strip\, Las Vegas\, NV\, 89109\, United States
CATEGORIES:Food & Drink & Fun
ATTACH;FMTTYPE=image/jpeg:https://create.vegas/wp-content/uploads/2026/01/8754bc031d9b3a99ce837da12cb8e781.jpg
END:VEVENT
BEGIN:VEVENT
DTSTART;TZID=America/Los_Angeles:20260319T213000
DTEND;TZID=America/Los_Angeles:20260320T010000
DTSTAMP:20260421T174451
CREATED:20260109T033552Z
LAST-MODIFIED:20260320T055149Z
UID:10032539-1773955800-1773968400@create.vegas
SUMMARY:Las Vegas Club Crawl with Party Bus
DESCRIPTION:Party like a VIP at the best clubs in Vegas: Free entry\, and a party bus with free drinks!
URL:https://create.vegas/event/las-vegas-club-crawl-with-party-bus-359/
LOCATION:LA Epic Club Crawls\, Please check our website for starting location\, Las Vegas\, NV\, 89109\, United States
CATEGORIES:Food & Drink & Fun
ATTACH;FMTTYPE=image/jpeg:https://create.vegas/wp-content/uploads/2025/09/54339c18a39f77272fdd2fdb8168bc42.jpg
END:VEVENT
BEGIN:VEVENT
DTSTART;TZID=America/Los_Angeles:20260319T210000
DTEND;TZID=America/Los_Angeles:20260320T010000
DTSTAMP:20260421T174451
CREATED:20260227T050800Z
LAST-MODIFIED:20260320T055216Z
UID:10033546-1773954000-1773968400@create.vegas
SUMMARY:Las Vegas Strip Club Crawl
DESCRIPTION:Free entry & VIP transportation to the best Strip Clubs in Vegas!
URL:https://create.vegas/event/las-vegas-strip-club-crawl-16/
LOCATION:Caesars Palace\, 3570 South Las Vegas Boulevard\, Paradise\, NV\, 89109\, United States
CATEGORIES:Food & Drink & Fun
ATTACH;FMTTYPE=image/jpeg:https://create.vegas/wp-content/uploads/2026/02/a6afa8ce28b26988a3427189f0ff8ae4.jpg
END:VEVENT
BEGIN:VEVENT
DTSTART;TZID=America/Los_Angeles:20260318T213000
DTEND;TZID=America/Los_Angeles:20260319T010000
DTSTAMP:20260421T174451
CREATED:20260109T033552Z
LAST-MODIFIED:20260313T053600Z
UID:10032538-1773869400-1773882000@create.vegas
SUMMARY:Las Vegas Club Crawl with Party Bus
DESCRIPTION:Party like a VIP at the best clubs in Vegas: Free entry\, and a party bus with free drinks!
URL:https://create.vegas/event/las-vegas-club-crawl-with-party-bus-358/
LOCATION:LA Epic Club Crawls\, Please check our website for starting location\, Las Vegas\, NV\, 89109\, United States
CATEGORIES:Food & Drink & Fun
ATTACH;FMTTYPE=image/jpeg:https://create.vegas/wp-content/uploads/2025/09/54339c18a39f77272fdd2fdb8168bc42.jpg
END:VEVENT
BEGIN:VEVENT
DTSTART;TZID=America/Los_Angeles:20260318T210000
DTEND;TZID=America/Los_Angeles:20260319T010000
DTSTAMP:20260421T174451
CREATED:20260227T050759Z
LAST-MODIFIED:20260313T053706Z
UID:10033545-1773867600-1773882000@create.vegas
SUMMARY:Las Vegas Strip Club Crawl
DESCRIPTION:Free entry & VIP transportation to the best Strip Clubs in Vegas!
URL:https://create.vegas/event/las-vegas-strip-club-crawl-15/
LOCATION:Caesars Palace\, 3570 South Las Vegas Boulevard\, Paradise\, NV\, 89109\, United States
CATEGORIES:Food & Drink & Fun
ATTACH;FMTTYPE=image/jpeg:https://create.vegas/wp-content/uploads/2026/02/a6afa8ce28b26988a3427189f0ff8ae4.jpg
END:VEVENT
END:VCALENDAR