BEGIN:VCALENDAR
VERSION:2.0
PRODID:-//Create.Vegas - ECPv6.15.20//NONSGML v1.0//EN
CALSCALE:GREGORIAN
METHOD:PUBLISH
X-WR-CALNAME:Create.Vegas
X-ORIGINAL-URL:https://create.vegas
X-WR-CALDESC:Events for Create.Vegas
REFRESH-INTERVAL;VALUE=DURATION:PT1H
X-Robots-Tag:noindex
X-PUBLISHED-TTL:PT1H
BEGIN:VTIMEZONE
TZID:America/Los_Angeles
BEGIN:DAYLIGHT
TZOFFSETFROM:-0800
TZOFFSETTO:-0700
TZNAME:PDT
DTSTART:20250309T100000
END:DAYLIGHT
BEGIN:STANDARD
TZOFFSETFROM:-0700
TZOFFSETTO:-0800
TZNAME:PST
DTSTART:20251102T090000
END:STANDARD
BEGIN:DAYLIGHT
TZOFFSETFROM:-0800
TZOFFSETTO:-0700
TZNAME:PDT
DTSTART:20260308T100000
END:DAYLIGHT
BEGIN:STANDARD
TZOFFSETFROM:-0700
TZOFFSETTO:-0800
TZNAME:PST
DTSTART:20261101T090000
END:STANDARD
BEGIN:DAYLIGHT
TZOFFSETFROM:-0800
TZOFFSETTO:-0700
TZNAME:PDT
DTSTART:20270314T100000
END:DAYLIGHT
BEGIN:STANDARD
TZOFFSETFROM:-0700
TZOFFSETTO:-0800
TZNAME:PST
DTSTART:20271107T090000
END:STANDARD
END:VTIMEZONE
BEGIN:VEVENT
DTSTART;TZID=America/Los_Angeles:20260517T203000
DTEND;TZID=America/Los_Angeles:20260518T003000
DTSTAMP:20260421T141508
CREATED:20260116T033605Z
LAST-MODIFIED:20260417T065037Z
UID:10032588-1779049800-1779064200@create.vegas
SUMMARY:Fremont Street Bar Crawl
DESCRIPTION:Fremont Street Bar Crawl gets you exclusive perks at the best bars in Old Vegas.
URL:https://create.vegas/event/fremont-street-bar-crawl-358/
LOCATION:Meeting Venue TBA – Check website for details\, Fremont St\, Las Vegas\, NV\, 89101\, United States
CATEGORIES:Food & Drink & Fun
ATTACH;FMTTYPE=image/jpeg:https://create.vegas/wp-content/uploads/2025/12/6209811cb488331552d7bc6caf142c54.jpg
END:VEVENT
BEGIN:VEVENT
DTSTART;TZID=America/Los_Angeles:20260517T210000
DTEND;TZID=America/Los_Angeles:20260518T010000
DTSTAMP:20260421T141508
CREATED:20260320T055303Z
LAST-MODIFIED:20260417T065109Z
UID:10033823-1779051600-1779066000@create.vegas
SUMMARY:Las Vegas Strip Club Crawl
DESCRIPTION:Free entry & VIP transportation to the best Strip Clubs in Vegas!
URL:https://create.vegas/event/las-vegas-strip-club-crawl-62/
LOCATION:Caesars Palace\, 3570 South Las Vegas Boulevard\, Paradise\, NV\, 89109\, United States
CATEGORIES:Food & Drink & Fun
ATTACH;FMTTYPE=image/jpeg:https://create.vegas/wp-content/uploads/2026/02/a6afa8ce28b26988a3427189f0ff8ae4.jpg
END:VEVENT
BEGIN:VEVENT
DTSTART;TZID=America/Los_Angeles:20260517T213000
DTEND;TZID=America/Los_Angeles:20260518T010000
DTSTAMP:20260421T141508
CREATED:20260327T060639Z
LAST-MODIFIED:20260417T065031Z
UID:10034203-1779053400-1779066000@create.vegas
SUMMARY:Las Vegas Club Crawl with Party Bus
DESCRIPTION:Party like a VIP at the best clubs in Vegas: Free entry\, and a party bus with free drinks!
URL:https://create.vegas/event/las-vegas-club-crawl-with-party-bus-410/
LOCATION:LA Epic Club Crawls\, Please check our website for starting location\, Las Vegas\, NV\, 89109\, United States
CATEGORIES:Food & Drink & Fun
ATTACH;FMTTYPE=image/jpeg:https://create.vegas/wp-content/uploads/2025/09/54339c18a39f77272fdd2fdb8168bc42.jpg
END:VEVENT
BEGIN:VEVENT
DTSTART;TZID=America/Los_Angeles:20260519T213000
DTEND;TZID=America/Los_Angeles:20260520T010000
DTSTAMP:20260421T141508
CREATED:20260327T060640Z
LAST-MODIFIED:20260417T065031Z
UID:10034204-1779226200-1779238800@create.vegas
SUMMARY:Las Vegas Club Crawl with Party Bus
DESCRIPTION:Party like a VIP at the best clubs in Vegas: Free entry\, and a party bus with free drinks!
URL:https://create.vegas/event/las-vegas-club-crawl-with-party-bus-411/
LOCATION:LA Epic Club Crawls\, Please check our website for starting location\, Las Vegas\, NV\, 89109\, United States
CATEGORIES:Food & Drink & Fun
ATTACH;FMTTYPE=image/jpeg:https://create.vegas/wp-content/uploads/2025/09/54339c18a39f77272fdd2fdb8168bc42.jpg
END:VEVENT
BEGIN:VEVENT
DTSTART;TZID=America/Los_Angeles:20260520T210000
DTEND;TZID=America/Los_Angeles:20260521T010000
DTSTAMP:20260421T141508
CREATED:20260320T055303Z
LAST-MODIFIED:20260417T065109Z
UID:10033824-1779310800-1779325200@create.vegas
SUMMARY:Las Vegas Strip Club Crawl
DESCRIPTION:Free entry & VIP transportation to the best Strip Clubs in Vegas!
URL:https://create.vegas/event/las-vegas-strip-club-crawl-63/
LOCATION:Caesars Palace\, 3570 South Las Vegas Boulevard\, Paradise\, NV\, 89109\, United States
CATEGORIES:Food & Drink & Fun
ATTACH;FMTTYPE=image/jpeg:https://create.vegas/wp-content/uploads/2026/02/a6afa8ce28b26988a3427189f0ff8ae4.jpg
END:VEVENT
BEGIN:VEVENT
DTSTART;TZID=America/Los_Angeles:20260520T213000
DTEND;TZID=America/Los_Angeles:20260521T010000
DTSTAMP:20260421T141508
CREATED:20260327T060640Z
LAST-MODIFIED:20260417T065031Z
UID:10034205-1779312600-1779325200@create.vegas
SUMMARY:Las Vegas Club Crawl with Party Bus
DESCRIPTION:Party like a VIP at the best clubs in Vegas: Free entry\, and a party bus with free drinks!
URL:https://create.vegas/event/las-vegas-club-crawl-with-party-bus-412/
LOCATION:LA Epic Club Crawls\, Please check our website for starting location\, Las Vegas\, NV\, 89109\, United States
CATEGORIES:Food & Drink & Fun
ATTACH;FMTTYPE=image/jpeg:https://create.vegas/wp-content/uploads/2025/09/54339c18a39f77272fdd2fdb8168bc42.jpg
END:VEVENT
BEGIN:VEVENT
DTSTART;TZID=America/Los_Angeles:20260521T210000
DTEND;TZID=America/Los_Angeles:20260522T010000
DTSTAMP:20260421T141508
CREATED:20260320T055303Z
LAST-MODIFIED:20260417T065110Z
UID:10033825-1779397200-1779411600@create.vegas
SUMMARY:Las Vegas Strip Club Crawl
DESCRIPTION:Free entry & VIP transportation to the best Strip Clubs in Vegas!
URL:https://create.vegas/event/las-vegas-strip-club-crawl-64/
LOCATION:Caesars Palace\, 3570 South Las Vegas Boulevard\, Paradise\, NV\, 89109\, United States
CATEGORIES:Food & Drink & Fun
ATTACH;FMTTYPE=image/jpeg:https://create.vegas/wp-content/uploads/2026/02/a6afa8ce28b26988a3427189f0ff8ae4.jpg
END:VEVENT
BEGIN:VEVENT
DTSTART;TZID=America/Los_Angeles:20260521T213000
DTEND;TZID=America/Los_Angeles:20260522T010000
DTSTAMP:20260421T141508
CREATED:20260327T060640Z
LAST-MODIFIED:20260417T065031Z
UID:10034206-1779399000-1779411600@create.vegas
SUMMARY:Las Vegas Club Crawl with Party Bus
DESCRIPTION:Party like a VIP at the best clubs in Vegas: Free entry\, and a party bus with free drinks!
URL:https://create.vegas/event/las-vegas-club-crawl-with-party-bus-413/
LOCATION:LA Epic Club Crawls\, Please check our website for starting location\, Las Vegas\, NV\, 89109\, United States
CATEGORIES:Food & Drink & Fun
ATTACH;FMTTYPE=image/jpeg:https://create.vegas/wp-content/uploads/2025/09/54339c18a39f77272fdd2fdb8168bc42.jpg
END:VEVENT
BEGIN:VEVENT
DTSTART;TZID=America/Los_Angeles:20260522T113000
DTEND;TZID=America/Los_Angeles:20260522T170000
DTSTAMP:20260421T141508
CREATED:20251107T024746Z
LAST-MODIFIED:20260417T065054Z
UID:10031067-1779449400-1779469200@create.vegas
SUMMARY:Las Vegas Pool Crawl
DESCRIPTION:Party at the best pool parties in Las Vegas this summer!
URL:https://create.vegas/event/las-vegas-pool-crawl-210/
LOCATION:Las Vegas Strip\, TBA\, Las Vegas\, NV\, 89109\, United States
CATEGORIES:Food & Drink & Fun
ATTACH;FMTTYPE=image/jpeg:https://create.vegas/wp-content/uploads/2025/09/e51a000afcf0608166fb2e5b19d6d060.jpg
END:VEVENT
BEGIN:VEVENT
DTSTART;TZID=America/Los_Angeles:20260522T113000
DTEND;TZID=America/Los_Angeles:20260522T170000
DTSTAMP:20260421T141508
CREATED:20251212T025010Z
LAST-MODIFIED:20260417T065045Z
UID:10031970-1779449400-1779469200@create.vegas
SUMMARY:Memorial Day Weekend Las Vegas Pool Crawl
DESCRIPTION:Kick off your summer with the hottest Las Vegas Memorial Day Weekend pool parties!
URL:https://create.vegas/event/memorial-day-weekend-las-vegas-pool-crawl-11/
CATEGORIES:Food & Drink & Fun
ATTACH;FMTTYPE=image/jpeg:https://create.vegas/wp-content/uploads/2025/12/59ddee3a247c5e676fab59c6a0877f5b.jpg
END:VEVENT
BEGIN:VEVENT
DTSTART;TZID=America/Los_Angeles:20260522T203000
DTEND;TZID=America/Los_Angeles:20260523T003000
DTSTAMP:20260421T141508
CREATED:20251128T023516Z
LAST-MODIFIED:20260417T065045Z
UID:10031790-1779481800-1779496200@create.vegas
SUMMARY:Memorial Day Weekend Las Vegas Bar Crawl
DESCRIPTION:Party at the best bars on Fremont Street this Memorial Day Weekend in Vegas!
URL:https://create.vegas/event/memorial-day-weekend-las-vegas-bar-crawl/
CATEGORIES:Food & Drink & Fun
ATTACH;FMTTYPE=image/jpeg:https://create.vegas/wp-content/uploads/2025/12/f061abfdefc2f4bfe4c4470ad84eff68.jpg
END:VEVENT
BEGIN:VEVENT
DTSTART;TZID=America/Los_Angeles:20260522T203000
DTEND;TZID=America/Los_Angeles:20260523T003000
DTSTAMP:20260421T141508
CREATED:20260123T035150Z
LAST-MODIFIED:20260417T065037Z
UID:10032647-1779481800-1779496200@create.vegas
SUMMARY:Fremont Street Bar Crawl
DESCRIPTION:Fremont Street Bar Crawl gets you exclusive perks at the best bars in Old Vegas.
URL:https://create.vegas/event/fremont-street-bar-crawl-359/
LOCATION:Meeting Venue TBA – Check website for details\, Fremont St\, Las Vegas\, NV\, 89101\, United States
CATEGORIES:Food & Drink & Fun
ATTACH;FMTTYPE=image/jpeg:https://create.vegas/wp-content/uploads/2025/12/6209811cb488331552d7bc6caf142c54.jpg
END:VEVENT
BEGIN:VEVENT
DTSTART;TZID=America/Los_Angeles:20260522T210000
DTEND;TZID=America/Los_Angeles:20260523T010000
DTSTAMP:20260421T141508
CREATED:20260320T055304Z
LAST-MODIFIED:20260417T065110Z
UID:10033826-1779483600-1779498000@create.vegas
SUMMARY:Las Vegas Strip Club Crawl
DESCRIPTION:Free entry & VIP transportation to the best Strip Clubs in Vegas!
URL:https://create.vegas/event/las-vegas-strip-club-crawl-65/
LOCATION:Caesars Palace\, 3570 South Las Vegas Boulevard\, Paradise\, NV\, 89109\, United States
CATEGORIES:Food & Drink & Fun
ATTACH;FMTTYPE=image/jpeg:https://create.vegas/wp-content/uploads/2026/02/a6afa8ce28b26988a3427189f0ff8ae4.jpg
END:VEVENT
BEGIN:VEVENT
DTSTART;TZID=America/Los_Angeles:20260522T213000
DTEND;TZID=America/Los_Angeles:20260523T010000
DTSTAMP:20260421T141508
CREATED:20251212T025013Z
LAST-MODIFIED:20260417T065046Z
UID:10031974-1779485400-1779498000@create.vegas
SUMMARY:Memorial Day Weekend Las Vegas Club Crawl
DESCRIPTION:Party at the best bars on Fremont Street this Memorial Day Weekend in Vegas!
URL:https://create.vegas/event/memorial-day-weekend-las-vegas-club-crawl-11/
CATEGORIES:Food & Drink & Fun
ATTACH;FMTTYPE=image/jpeg:https://create.vegas/wp-content/uploads/2025/12/985a74afe31fb4cf281163a0b3b88b97.jpg
END:VEVENT
BEGIN:VEVENT
DTSTART;TZID=America/Los_Angeles:20260522T213000
DTEND;TZID=America/Los_Angeles:20260523T010000
DTSTAMP:20260421T141508
CREATED:20260327T060640Z
LAST-MODIFIED:20260417T065031Z
UID:10034207-1779485400-1779498000@create.vegas
SUMMARY:Las Vegas Club Crawl with Party Bus
DESCRIPTION:Party like a VIP at the best clubs in Vegas: Free entry\, and a party bus with free drinks!
URL:https://create.vegas/event/las-vegas-club-crawl-with-party-bus-414/
LOCATION:LA Epic Club Crawls\, Please check our website for starting location\, Las Vegas\, NV\, 89109\, United States
CATEGORIES:Food & Drink & Fun
ATTACH;FMTTYPE=image/jpeg:https://create.vegas/wp-content/uploads/2025/09/54339c18a39f77272fdd2fdb8168bc42.jpg
END:VEVENT
BEGIN:VEVENT
DTSTART;TZID=America/Los_Angeles:20260523T113000
DTEND;TZID=America/Los_Angeles:20260523T170000
DTSTAMP:20260421T141508
CREATED:20251107T024746Z
LAST-MODIFIED:20260417T065054Z
UID:10031068-1779535800-1779555600@create.vegas
SUMMARY:Las Vegas Pool Crawl
DESCRIPTION:Party at the best pool parties in Las Vegas this summer!
URL:https://create.vegas/event/las-vegas-pool-crawl-211/
LOCATION:Las Vegas Strip\, TBA\, Las Vegas\, NV\, 89109\, United States
CATEGORIES:Food & Drink & Fun
ATTACH;FMTTYPE=image/jpeg:https://create.vegas/wp-content/uploads/2025/09/e51a000afcf0608166fb2e5b19d6d060.jpg
END:VEVENT
BEGIN:VEVENT
DTSTART;TZID=America/Los_Angeles:20260523T113000
DTEND;TZID=America/Los_Angeles:20260523T170000
DTSTAMP:20260421T141508
CREATED:20251212T025011Z
LAST-MODIFIED:20260417T065045Z
UID:10031971-1779535800-1779555600@create.vegas
SUMMARY:Memorial Day Weekend Las Vegas Pool Crawl
DESCRIPTION:Kick off your summer with the hottest Las Vegas Memorial Day Weekend pool parties!
URL:https://create.vegas/event/memorial-day-weekend-las-vegas-pool-crawl-12/
CATEGORIES:Food & Drink & Fun
ATTACH;FMTTYPE=image/jpeg:https://create.vegas/wp-content/uploads/2025/12/59ddee3a247c5e676fab59c6a0877f5b.jpg
END:VEVENT
BEGIN:VEVENT
DTSTART;TZID=America/Los_Angeles:20260523T140000
DTEND;TZID=America/Los_Angeles:20260523T190000
DTSTAMP:20260421T141508
CREATED:20260102T032216Z
LAST-MODIFIED:20260417T065041Z
UID:10032487-1779544800-1779562800@create.vegas
SUMMARY:Las Vegas Dispensary Tour
DESCRIPTION:Learning about the thriving green industry in Las Vegas\, when we take you to some of the best dispensaries in Vegas!
URL:https://create.vegas/event/las-vegas-dispensary-tour-the-1-green-tour-151/
LOCATION:Las Vegas Strip – Check website for check-in location\, Las Vegas Strip\, Las Vegas\, NV\, 89109\, United States
CATEGORIES:Food & Drink & Fun
ATTACH;FMTTYPE=image/jpeg:https://create.vegas/wp-content/uploads/2023/09/51e0ee772a209d886bb616508a11de8e.jpg
END:VEVENT
BEGIN:VEVENT
DTSTART;TZID=America/Los_Angeles:20260523T203000
DTEND;TZID=America/Los_Angeles:20260524T003000
DTSTAMP:20260421T141508
CREATED:20251128T023517Z
LAST-MODIFIED:20260417T065045Z
UID:10031791-1779568200-1779582600@create.vegas
SUMMARY:Memorial Day Weekend Las Vegas Bar Crawl
DESCRIPTION:Party at the best bars on Fremont Street this Memorial Day Weekend in Vegas!
URL:https://create.vegas/event/memorial-day-weekend-las-vegas-bar-crawl-2/
CATEGORIES:Food & Drink & Fun
ATTACH;FMTTYPE=image/jpeg:https://create.vegas/wp-content/uploads/2025/12/f061abfdefc2f4bfe4c4470ad84eff68.jpg
END:VEVENT
BEGIN:VEVENT
DTSTART;TZID=America/Los_Angeles:20260523T203000
DTEND;TZID=America/Los_Angeles:20260524T003000
DTSTAMP:20260421T141508
CREATED:20260123T035150Z
LAST-MODIFIED:20260417T065037Z
UID:10032648-1779568200-1779582600@create.vegas
SUMMARY:Fremont Street Bar Crawl
DESCRIPTION:Fremont Street Bar Crawl gets you exclusive perks at the best bars in Old Vegas.
URL:https://create.vegas/event/fremont-street-bar-crawl-360/
LOCATION:Meeting Venue TBA – Check website for details\, Fremont St\, Las Vegas\, NV\, 89101\, United States
CATEGORIES:Food & Drink & Fun
ATTACH;FMTTYPE=image/jpeg:https://create.vegas/wp-content/uploads/2025/12/6209811cb488331552d7bc6caf142c54.jpg
END:VEVENT
BEGIN:VEVENT
DTSTART;TZID=America/Los_Angeles:20260523T210000
DTEND;TZID=America/Los_Angeles:20260524T010000
DTSTAMP:20260421T141508
CREATED:20260327T060725Z
LAST-MODIFIED:20260417T065110Z
UID:10034211-1779570000-1779584400@create.vegas
SUMMARY:Las Vegas Strip Club Crawl
DESCRIPTION:Free entry & VIP transportation to the best Strip Clubs in Vegas!
URL:https://create.vegas/event/las-vegas-strip-club-crawl-66/
LOCATION:Caesars Palace\, 3570 South Las Vegas Boulevard\, Paradise\, NV\, 89109\, United States
CATEGORIES:Food & Drink & Fun
ATTACH;FMTTYPE=image/jpeg:https://create.vegas/wp-content/uploads/2026/02/a6afa8ce28b26988a3427189f0ff8ae4.jpg
END:VEVENT
BEGIN:VEVENT
DTSTART;TZID=America/Los_Angeles:20260523T213000
DTEND;TZID=America/Los_Angeles:20260524T010000
DTSTAMP:20260421T141508
CREATED:20251212T025014Z
LAST-MODIFIED:20260417T065046Z
UID:10031975-1779571800-1779584400@create.vegas
SUMMARY:Memorial Day Weekend Las Vegas Club Crawl
DESCRIPTION:Party at the best bars on Fremont Street this Memorial Day Weekend in Vegas!
URL:https://create.vegas/event/memorial-day-weekend-las-vegas-club-crawl-12/
CATEGORIES:Food & Drink & Fun
ATTACH;FMTTYPE=image/jpeg:https://create.vegas/wp-content/uploads/2025/12/985a74afe31fb4cf281163a0b3b88b97.jpg
END:VEVENT
BEGIN:VEVENT
DTSTART;TZID=America/Los_Angeles:20260523T213000
DTEND;TZID=America/Los_Angeles:20260524T010000
DTSTAMP:20260421T141508
CREATED:20260403T062127Z
LAST-MODIFIED:20260417T065031Z
UID:10034273-1779571800-1779584400@create.vegas
SUMMARY:Las Vegas Club Crawl with Party Bus
DESCRIPTION:Party like a VIP at the best clubs in Vegas: Free entry\, and a party bus with free drinks!
URL:https://create.vegas/event/las-vegas-club-crawl-with-party-bus-415/
LOCATION:LA Epic Club Crawls\, Please check our website for starting location\, Las Vegas\, NV\, 89109\, United States
CATEGORIES:Food & Drink & Fun
ATTACH;FMTTYPE=image/jpeg:https://create.vegas/wp-content/uploads/2025/09/54339c18a39f77272fdd2fdb8168bc42.jpg
END:VEVENT
BEGIN:VEVENT
DTSTART;TZID=America/Los_Angeles:20260524T113000
DTEND;TZID=America/Los_Angeles:20260524T170000
DTSTAMP:20260421T141508
CREATED:20251107T024746Z
LAST-MODIFIED:20260417T065054Z
UID:10031069-1779622200-1779642000@create.vegas
SUMMARY:Las Vegas Pool Crawl
DESCRIPTION:Party at the best pool parties in Las Vegas this summer!
URL:https://create.vegas/event/las-vegas-pool-crawl-212/
LOCATION:Las Vegas Strip\, TBA\, Las Vegas\, NV\, 89109\, United States
CATEGORIES:Food & Drink & Fun
ATTACH;FMTTYPE=image/jpeg:https://create.vegas/wp-content/uploads/2025/09/e51a000afcf0608166fb2e5b19d6d060.jpg
END:VEVENT
BEGIN:VEVENT
DTSTART;TZID=America/Los_Angeles:20260524T113000
DTEND;TZID=America/Los_Angeles:20260524T170000
DTSTAMP:20260421T141508
CREATED:20251212T025011Z
LAST-MODIFIED:20260417T065045Z
UID:10031972-1779622200-1779642000@create.vegas
SUMMARY:Memorial Day Weekend Las Vegas Pool Crawl
DESCRIPTION:Kick off your summer with the hottest Las Vegas Memorial Day Weekend pool parties!
URL:https://create.vegas/event/memorial-day-weekend-las-vegas-pool-crawl-13/
CATEGORIES:Food & Drink & Fun
ATTACH;FMTTYPE=image/jpeg:https://create.vegas/wp-content/uploads/2025/12/59ddee3a247c5e676fab59c6a0877f5b.jpg
END:VEVENT
BEGIN:VEVENT
DTSTART;TZID=America/Los_Angeles:20260524T203000
DTEND;TZID=America/Los_Angeles:20260525T003000
DTSTAMP:20260421T141508
CREATED:20251128T023517Z
LAST-MODIFIED:20260417T065045Z
UID:10031792-1779654600-1779669000@create.vegas
SUMMARY:Memorial Day Weekend Las Vegas Bar Crawl
DESCRIPTION:Party at the best bars on Fremont Street this Memorial Day Weekend in Vegas!
URL:https://create.vegas/event/memorial-day-weekend-las-vegas-bar-crawl-3/
CATEGORIES:Food & Drink & Fun
ATTACH;FMTTYPE=image/jpeg:https://create.vegas/wp-content/uploads/2025/12/f061abfdefc2f4bfe4c4470ad84eff68.jpg
END:VEVENT
BEGIN:VEVENT
DTSTART;TZID=America/Los_Angeles:20260524T203000
DTEND;TZID=America/Los_Angeles:20260525T003000
DTSTAMP:20260421T141508
CREATED:20260130T040719Z
LAST-MODIFIED:20260417T065037Z
UID:10032975-1779654600-1779669000@create.vegas
SUMMARY:Fremont Street Bar Crawl
DESCRIPTION:Fremont Street Bar Crawl gets you exclusive perks at the best bars in Old Vegas.
URL:https://create.vegas/event/fremont-street-bar-crawl-361/
LOCATION:Meeting Venue TBA – Check website for details\, Fremont St\, Las Vegas\, NV\, 89101\, United States
CATEGORIES:Food & Drink & Fun
ATTACH;FMTTYPE=image/jpeg:https://create.vegas/wp-content/uploads/2025/12/6209811cb488331552d7bc6caf142c54.jpg
END:VEVENT
BEGIN:VEVENT
DTSTART;TZID=America/Los_Angeles:20260524T210000
DTEND;TZID=America/Los_Angeles:20260525T010000
DTSTAMP:20260421T141508
CREATED:20260327T060725Z
LAST-MODIFIED:20260417T065110Z
UID:10034212-1779656400-1779670800@create.vegas
SUMMARY:Las Vegas Strip Club Crawl
DESCRIPTION:Free entry & VIP transportation to the best Strip Clubs in Vegas!
URL:https://create.vegas/event/las-vegas-strip-club-crawl-67/
LOCATION:Caesars Palace\, 3570 South Las Vegas Boulevard\, Paradise\, NV\, 89109\, United States
CATEGORIES:Food & Drink & Fun
ATTACH;FMTTYPE=image/jpeg:https://create.vegas/wp-content/uploads/2026/02/a6afa8ce28b26988a3427189f0ff8ae4.jpg
END:VEVENT
BEGIN:VEVENT
DTSTART;TZID=America/Los_Angeles:20260524T213000
DTEND;TZID=America/Los_Angeles:20260525T010000
DTSTAMP:20260421T141508
CREATED:20251212T025014Z
LAST-MODIFIED:20260417T065046Z
UID:10031976-1779658200-1779670800@create.vegas
SUMMARY:Memorial Day Weekend Las Vegas Club Crawl
DESCRIPTION:Party at the best bars on Fremont Street this Memorial Day Weekend in Vegas!
URL:https://create.vegas/event/memorial-day-weekend-las-vegas-club-crawl-13/
CATEGORIES:Food & Drink & Fun
ATTACH;FMTTYPE=image/jpeg:https://create.vegas/wp-content/uploads/2025/12/985a74afe31fb4cf281163a0b3b88b97.jpg
END:VEVENT
BEGIN:VEVENT
DTSTART;TZID=America/Los_Angeles:20260524T213000
DTEND;TZID=America/Los_Angeles:20260525T010000
DTSTAMP:20260421T141508
CREATED:20260403T062127Z
LAST-MODIFIED:20260417T065031Z
UID:10034274-1779658200-1779670800@create.vegas
SUMMARY:Las Vegas Club Crawl with Party Bus
DESCRIPTION:Party like a VIP at the best clubs in Vegas: Free entry\, and a party bus with free drinks!
URL:https://create.vegas/event/las-vegas-club-crawl-with-party-bus-416/
LOCATION:LA Epic Club Crawls\, Please check our website for starting location\, Las Vegas\, NV\, 89109\, United States
CATEGORIES:Food & Drink & Fun
ATTACH;FMTTYPE=image/jpeg:https://create.vegas/wp-content/uploads/2025/09/54339c18a39f77272fdd2fdb8168bc42.jpg
END:VEVENT
END:VCALENDAR