BEGIN:VCALENDAR
VERSION:2.0
PRODID:-//Create.Vegas - ECPv6.15.20//NONSGML v1.0//EN
CALSCALE:GREGORIAN
METHOD:PUBLISH
X-ORIGINAL-URL:https://create.vegas
X-WR-CALDESC:Events for Create.Vegas
REFRESH-INTERVAL;VALUE=DURATION:PT1H
X-Robots-Tag:noindex
X-PUBLISHED-TTL:PT1H
BEGIN:VTIMEZONE
TZID:America/Los_Angeles
BEGIN:DAYLIGHT
TZOFFSETFROM:-0800
TZOFFSETTO:-0700
TZNAME:PDT
DTSTART:20240310T100000
END:DAYLIGHT
BEGIN:STANDARD
TZOFFSETFROM:-0700
TZOFFSETTO:-0800
TZNAME:PST
DTSTART:20241103T090000
END:STANDARD
BEGIN:DAYLIGHT
TZOFFSETFROM:-0800
TZOFFSETTO:-0700
TZNAME:PDT
DTSTART:20250309T100000
END:DAYLIGHT
BEGIN:STANDARD
TZOFFSETFROM:-0700
TZOFFSETTO:-0800
TZNAME:PST
DTSTART:20251102T090000
END:STANDARD
BEGIN:DAYLIGHT
TZOFFSETFROM:-0800
TZOFFSETTO:-0700
TZNAME:PDT
DTSTART:20260308T100000
END:DAYLIGHT
BEGIN:STANDARD
TZOFFSETFROM:-0700
TZOFFSETTO:-0800
TZNAME:PST
DTSTART:20261101T090000
END:STANDARD
END:VTIMEZONE
BEGIN:VEVENT
DTSTART;TZID=America/Los_Angeles:20251204T120000
DTEND;TZID=America/Los_Angeles:20251205T180000
DTSTAMP:20260422T125049
CREATED:20251113T221644Z
LAST-MODIFIED:20260412T224800Z
UID:10031190-1764849600-1764957600@create.vegas
SUMMARY:"GainesCon Action Film Festival."
DESCRIPTION:We’re a nonprofit organization that showcases\, educates and produces the work of aspring indie filmmakers through our annual film festival.\n\n\n\nALL PROCEEDS GO TOWARD FUNDING FREE LOCAL WORKSHOPS. \nJoin us from 12 pm- 6 pm as we celebrate another year of independent action filmmakers from December 4th and 5th at the famous Brenden Theatre in Las Vegas at the Palms Casino and Resort! \nGainesCon Film Festival is a certified 501(c)(3) nonprofit organization dedicated in showcasing\, educating\, and producing the work of aspiring filmmakers and fellow creatives within UNDERSERVED COMMUNITIES & BEYOND\, whose content lies within the realm of ACTION\, SCI-FI\, FANTASY\, and HORROR. \nA crucial component of our cause is strongly emphasizing the cultural representation of various ethnic and underrepresented groups within these genres. \nThis two day event will be shown simultaneously IN-PERSON & VIRTUAL. \nOur event will include a Special Presentation of Tom Welling’s (Smallville) new movie “MAFIA WARS”\, directed by well-known action director\, Mr. Scott Windhauser. \nAlso\, we’ll have one of Hollywoods top stuntman\, Mr. Rustic Bodomov\, who has been in movies such as “Wakanda Forever” to discuss the road on becoming a working stunt performer. \nAnd\, we are fortunate to have the mult-awarding winning film composer\, Mr. Michael Vignola\, who will discuss the various aspect on creating the correct tone for a scene. \nHaving all this amazing content under one event won’t be fitting unless there was a way to award those with exceptional material. So we have created “THE DRAGON AWARDS” on the last day of the festival! This beautiful trophy was designed by an amazing illustrator\, David Jennings from Ireland\, with each hand painted by our renowned makeup artist Mrs. Faith Rios\, which makes each Dragon unique. It represents the FORTITUDE\, VISION and the INTERNAL FLAME needed to complete any project. \nSo\, join us as we begin a new and exciting space for action\, sci-fi\, fantasy and horror creators!! \nVENDOR SPACES ARE AVAILABLE. INQUIRE AT INFO@GAINESENTERTAINMENT.COM
URL:https://create.vegas/event/gainescon-action-film-festival/
LOCATION:Brenden Theatres\, 4321 West Flamingo Road\, Las Vegas\, NV\, 89103\, United States
CATEGORIES:Literary & Film
ATTACH;FMTTYPE=image/jpeg:https://create.vegas/wp-content/uploads/2025/11/0cd38c122f3472fba7dbb2124d061b72.jpg
END:VEVENT
END:VCALENDAR