BEGIN:VCALENDAR
VERSION:2.0
PRODID:-//Create.Vegas - ECPv6.15.20//NONSGML v1.0//EN
CALSCALE:GREGORIAN
METHOD:PUBLISH
X-ORIGINAL-URL:https://create.vegas
X-WR-CALDESC:Events for Create.Vegas
REFRESH-INTERVAL;VALUE=DURATION:PT1H
X-Robots-Tag:noindex
X-PUBLISHED-TTL:PT1H
BEGIN:VTIMEZONE
TZID:America/Los_Angeles
BEGIN:DAYLIGHT
TZOFFSETFROM:-0800
TZOFFSETTO:-0700
TZNAME:PDT
DTSTART:20240310T100000
END:DAYLIGHT
BEGIN:STANDARD
TZOFFSETFROM:-0700
TZOFFSETTO:-0800
TZNAME:PST
DTSTART:20241103T090000
END:STANDARD
BEGIN:DAYLIGHT
TZOFFSETFROM:-0800
TZOFFSETTO:-0700
TZNAME:PDT
DTSTART:20250309T100000
END:DAYLIGHT
BEGIN:STANDARD
TZOFFSETFROM:-0700
TZOFFSETTO:-0800
TZNAME:PST
DTSTART:20251102T090000
END:STANDARD
BEGIN:DAYLIGHT
TZOFFSETFROM:-0800
TZOFFSETTO:-0700
TZNAME:PDT
DTSTART:20260308T100000
END:DAYLIGHT
BEGIN:STANDARD
TZOFFSETFROM:-0700
TZOFFSETTO:-0800
TZNAME:PST
DTSTART:20261101T090000
END:STANDARD
BEGIN:DAYLIGHT
TZOFFSETFROM:-0800
TZOFFSETTO:-0700
TZNAME:PDT
DTSTART:20270314T100000
END:DAYLIGHT
BEGIN:STANDARD
TZOFFSETFROM:-0700
TZOFFSETTO:-0800
TZNAME:PST
DTSTART:20271107T090000
END:STANDARD
END:VTIMEZONE
BEGIN:VEVENT
DTSTART;TZID=America/Los_Angeles:20260412T140000
DTEND;TZID=America/Los_Angeles:20260413T160000
DTSTAMP:20260423T020433
CREATED:20260326T230402Z
LAST-MODIFIED:20260326T230402Z
UID:10034047-1776002400-1776096000@create.vegas
SUMMARY:A.V.A. Ballet Theatre and the Reno Phil’s Swan Lake
DESCRIPTION:Reno\, Nevada – A.V.A. Ballet Theatre presents the classic Swan Lake on April 11 and 12 at the Pioneer Center for the Performing Arts. The Reno Philharmonic Orchestra will perform the haunting score to this wonderful ballet with Laura Jackson conducting. Re-staged and re-choreographed by Alexander Van Alstyne\, Swan Lake is the story of Odette who was turned into a swan by the evil sorcerer Von Rothbart. She tells the handsome Prince Siegfried that the only way the spell can be broken is if a man\, pure in heart\, pledges his love to her. Von Rothbart tries to keep the two apart but in the end they ascend to the heavens above Swan Lake. \nProfessional dancers from Ballet West will star in the lead roles. The large cast includes many talented dancers from four different ballet studios in the Reno area. \nThe Saturday April 11 performance will be held at 7 p.m. and the Sunday\, April 12 performance will be at 2 p.m. Ticket prices are from $32 to $62 with discounts for seniors and children. For tickets call the Pioneer Center at 775-434-1050 or online at pioneercenter.com. Box office hours are Monday through Friday 10 a.m. to 4 p.m. \nA.V.A. Ballet Theatre is the resident ballet company of the Pioneer Center for the Performing Arts. They are northern Nevada’s largest company under the instruction of a professional faculty with years of performing experience in renowned metropolitan ballet and production companies across the United States and Europe.
URL:https://create.vegas/event/a-v-a-ballet-theatre-and-the-reno-phils-swan-lake-2/
LOCATION:Pioneer Center for the Performing Arts\, 100 South Virginia Street\, Reno\, 89501\, United States
CATEGORIES:Performing,Performing Arts
ATTACH;FMTTYPE=image/jpeg:https://create.vegas/wp-content/uploads/2026/03/Swan-Lake-Four-Swans-Nice-4r8TWV.jpg
ORGANIZER;CN="A.V.A. Ballet Theatre":MAILTO:info@avaballet.com
END:VEVENT
BEGIN:VEVENT
DTSTART;TZID=America/Los_Angeles:20260411T190000
DTEND;TZID=America/Los_Angeles:20260411T210000
DTSTAMP:20260423T020433
CREATED:20260326T230401Z
LAST-MODIFIED:20260326T230401Z
UID:10034040-1775934000-1775941200@create.vegas
SUMMARY:A.V.A. Ballet Theatre and the Reno Phil’s Swan Lake
DESCRIPTION:Reno\, Nevada – A.V.A. Ballet Theatre presents the classic Swan Lake on April 11 and 12 at the Pioneer Center for the Performing Arts. The Reno Philharmonic Orchestra will perform the haunting score to this wonderful ballet with Laura Jackson conducting. Re-staged and re-choreographed by Alexander Van Alstyne\, Swan Lake is the story of Odette who was turned into a swan by the evil sorcerer Von Rothbart. She tells the handsome Prince Siegfried that the only way the spell can be broken is if a man\, pure in heart\, pledges his love to her. Von Rothbart tries to keep the two apart but in the end they ascend to the heavens above Swan Lake. \nProfessional dancers from Ballet West will star in the lead roles. The large cast includes many talented dancers from four different ballet studios in the Reno area. \nThe Saturday April 11 performance will be held at 7 p.m. and the Sunday\, April 12 performance will be at 2 p.m. Ticket prices are from $32 to $62 with discounts for seniors and children. For tickets call the Pioneer Center at 775-434-1050 or online at pioneercenter.com. Box office hours are Monday through Friday 10 a.m. to 4 p.m. \nA.V.A. Ballet Theatre is the resident ballet company of the Pioneer Center for the Performing Arts. They are northern Nevada’s largest company under the instruction of a professional faculty with years of performing experience in renowned metropolitan ballet and production companies across the United States and Europe.
URL:https://create.vegas/event/a-v-a-ballet-theatre-and-the-reno-phils-swan-lake/
LOCATION:Pioneer Center for the Performing Arts\, 100 South Virginia Street\, Reno\, 89501\, United States
CATEGORIES:Performing,Performing Arts
ATTACH;FMTTYPE=image/jpeg:https://create.vegas/wp-content/uploads/2026/03/Swan-Lake-Four-Swans-Nice-4r8TWV.jpg
ORGANIZER;CN="A.V.A. Ballet Theatre":MAILTO:info@avaballet.com
END:VEVENT
BEGIN:VEVENT
DTSTART;TZID=America/Los_Angeles:20251221T190000
DTEND;TZID=America/Los_Angeles:20251221T210000
DTSTAMP:20260423T020433
CREATED:20251126T222713Z
LAST-MODIFIED:20251126T222713Z
UID:10031775-1766343600-1766350800@create.vegas
SUMMARY:A.V.A. Ballet Theatre and the Reno Phil’s The Nutcracker
DESCRIPTION:Reno\, Nevada – The stage at the Pioneer Center for the Performing Arts will be alive with a sugar plum fairy and dancing mice as A.V.A. Ballet Theatre presents the annual Nutcracker Ballet on Dec. 19\, Dec. 20\, and Dec. 21\, 2025. Artistic director Alexander Van Alstyne has choreographed an exciting rendition of the popular holiday ballet and the Reno Philharmonic Orchestra will perform Tchaikovsky’s moving score. Laura Jackson will be conducting the orchestra. \nPrincipal dancers who have performed with professional ballet companies such as Ballet West\, Kansas City Ballet and the Diablo Ballet will perform the leading roles along side a large cast of local talent. \nNutcracker performances will be held Friday\, Dec. 19 at 8 p.m.\, Saturday\, Dec. 20 at 1 p.m. and 7 p.m. and Sunday\, Dec. 21 at 1 p.m. and 7 p.m. at the Pioneer Center for the Performing Arts in downtown Reno. Ticket prices are $33 to $72 with discounts for seniors and children. \nA special Sugar Plum party will be held after the Saturday and Sunday afternoon performances where children can meet the Nutcracker characters. \nA.V.A. Ballet Theatre is the resident ballet company of the Pioneer Center for the Performing Arts. They are northern Nevada’s largest company under the instruction of a professional faculty with years of performing experience in renowned metropolitan ballet and production companies across the United States and Europe. \nMark your calendars now for this spectacular holiday tradition. For tickets call the Pioneer Center box office at 775-434-1050 or online at pioneercenter.com. Box office hours are Monday through Friday 10 a.m. to 4 p.m. \nFor more information call A.V.A. Ballet Theatre at 775-762-5165 or online at avaballet.com or call the Pioneer Center for the Performing Arts at 775-686-6600.
URL:https://create.vegas/event/a-v-a-ballet-theatre-and-the-reno-phils-the-nutcracker-5/
LOCATION:Pioneer Center for the Performing Arts\, 100 South Virginia Street\, Reno\, 89501\, United States
CATEGORIES:Performing,Performing Arts
ATTACH;FMTTYPE=image/jpeg:https://create.vegas/wp-content/uploads/2025/11/Nutcracker-Soldiers-2016-RfRpJ9.jpg
ORGANIZER;CN="A.V.A. Ballet Theatre":MAILTO:info@avaballet.com
END:VEVENT
BEGIN:VEVENT
DTSTART;TZID=America/Los_Angeles:20251221T130000
DTEND;TZID=America/Los_Angeles:20251221T150000
DTSTAMP:20260423T020433
CREATED:20251126T222713Z
LAST-MODIFIED:20251126T222713Z
UID:10031774-1766322000-1766329200@create.vegas
SUMMARY:A.V.A. Ballet Theatre and the Reno Phil’s The Nutcracker
DESCRIPTION:Reno\, Nevada – The stage at the Pioneer Center for the Performing Arts will be alive with a sugar plum fairy and dancing mice as A.V.A. Ballet Theatre presents the annual Nutcracker Ballet on Dec. 19\, Dec. 20\, and Dec. 21\, 2025. Artistic director Alexander Van Alstyne has choreographed an exciting rendition of the popular holiday ballet and the Reno Philharmonic Orchestra will perform Tchaikovsky’s moving score. Laura Jackson will be conducting the orchestra. \nPrincipal dancers who have performed with professional ballet companies such as Ballet West\, Kansas City Ballet and the Diablo Ballet will perform the leading roles along side a large cast of local talent. \nNutcracker performances will be held Friday\, Dec. 19 at 8 p.m.\, Saturday\, Dec. 20 at 1 p.m. and 7 p.m. and Sunday\, Dec. 21 at 1 p.m. and 7 p.m. at the Pioneer Center for the Performing Arts in downtown Reno. Ticket prices are $33 to $72 with discounts for seniors and children. \nA special Sugar Plum party will be held after the Saturday and Sunday afternoon performances where children can meet the Nutcracker characters. \nA.V.A. Ballet Theatre is the resident ballet company of the Pioneer Center for the Performing Arts. They are northern Nevada’s largest company under the instruction of a professional faculty with years of performing experience in renowned metropolitan ballet and production companies across the United States and Europe. \nMark your calendars now for this spectacular holiday tradition. For tickets call the Pioneer Center box office at 775-434-1050 or online at pioneercenter.com. Box office hours are Monday through Friday 10 a.m. to 4 p.m. \nFor more information call A.V.A. Ballet Theatre at 775-762-5165 or online at avaballet.com or call the Pioneer Center for the Performing Arts at 775-686-6600.
URL:https://create.vegas/event/a-v-a-ballet-theatre-and-the-reno-phils-the-nutcracker-4/
LOCATION:Pioneer Center for the Performing Arts\, 100 South Virginia Street\, Reno\, 89501\, United States
CATEGORIES:Performing,Performing Arts
ATTACH;FMTTYPE=image/jpeg:https://create.vegas/wp-content/uploads/2025/11/Nutcracker-Soldiers-2016-RfRpJ9.jpg
ORGANIZER;CN="A.V.A. Ballet Theatre":MAILTO:info@avaballet.com
END:VEVENT
BEGIN:VEVENT
DTSTART;TZID=America/Los_Angeles:20251220T190000
DTEND;TZID=America/Los_Angeles:20251220T210000
DTSTAMP:20260423T020433
CREATED:20251126T222713Z
LAST-MODIFIED:20251126T222713Z
UID:10031773-1766257200-1766264400@create.vegas
SUMMARY:A.V.A. Ballet Theatre and the Reno Phil’s The Nutcracker
DESCRIPTION:Reno\, Nevada – The stage at the Pioneer Center for the Performing Arts will be alive with a sugar plum fairy and dancing mice as A.V.A. Ballet Theatre presents the annual Nutcracker Ballet on Dec. 19\, Dec. 20\, and Dec. 21\, 2025. Artistic director Alexander Van Alstyne has choreographed an exciting rendition of the popular holiday ballet and the Reno Philharmonic Orchestra will perform Tchaikovsky’s moving score. Laura Jackson will be conducting the orchestra. \nPrincipal dancers who have performed with professional ballet companies such as Ballet West\, Kansas City Ballet and the Diablo Ballet will perform the leading roles along side a large cast of local talent. \nNutcracker performances will be held Friday\, Dec. 19 at 8 p.m.\, Saturday\, Dec. 20 at 1 p.m. and 7 p.m. and Sunday\, Dec. 21 at 1 p.m. and 7 p.m. at the Pioneer Center for the Performing Arts in downtown Reno. Ticket prices are $33 to $72 with discounts for seniors and children. \nA special Sugar Plum party will be held after the Saturday and Sunday afternoon performances where children can meet the Nutcracker characters. \nA.V.A. Ballet Theatre is the resident ballet company of the Pioneer Center for the Performing Arts. They are northern Nevada’s largest company under the instruction of a professional faculty with years of performing experience in renowned metropolitan ballet and production companies across the United States and Europe. \nMark your calendars now for this spectacular holiday tradition. For tickets call the Pioneer Center box office at 775-434-1050 or online at pioneercenter.com. Box office hours are Monday through Friday 10 a.m. to 4 p.m. \nFor more information call A.V.A. Ballet Theatre at 775-762-5165 or online at avaballet.com or call the Pioneer Center for the Performing Arts at 775-686-6600.
URL:https://create.vegas/event/a-v-a-ballet-theatre-and-the-reno-phils-the-nutcracker-3/
LOCATION:Pioneer Center for the Performing Arts\, 100 South Virginia Street\, Reno\, 89501\, United States
CATEGORIES:Performing,Performing Arts
ATTACH;FMTTYPE=image/jpeg:https://create.vegas/wp-content/uploads/2025/11/Nutcracker-Soldiers-2016-RfRpJ9.jpg
ORGANIZER;CN="A.V.A. Ballet Theatre":MAILTO:info@avaballet.com
END:VEVENT
BEGIN:VEVENT
DTSTART;TZID=America/Los_Angeles:20251220T130000
DTEND;TZID=America/Los_Angeles:20251220T150000
DTSTAMP:20260423T020433
CREATED:20251126T222712Z
LAST-MODIFIED:20251126T222712Z
UID:10031772-1766235600-1766242800@create.vegas
SUMMARY:A.V.A. Ballet Theatre and the Reno Phil’s The Nutcracker
DESCRIPTION:Reno\, Nevada – The stage at the Pioneer Center for the Performing Arts will be alive with a sugar plum fairy and dancing mice as A.V.A. Ballet Theatre presents the annual Nutcracker Ballet on Dec. 19\, Dec. 20\, and Dec. 21\, 2025. Artistic director Alexander Van Alstyne has choreographed an exciting rendition of the popular holiday ballet and the Reno Philharmonic Orchestra will perform Tchaikovsky’s moving score. Laura Jackson will be conducting the orchestra. \nPrincipal dancers who have performed with professional ballet companies such as Ballet West\, Kansas City Ballet and the Diablo Ballet will perform the leading roles along side a large cast of local talent. \nNutcracker performances will be held Friday\, Dec. 19 at 8 p.m.\, Saturday\, Dec. 20 at 1 p.m. and 7 p.m. and Sunday\, Dec. 21 at 1 p.m. and 7 p.m. at the Pioneer Center for the Performing Arts in downtown Reno. Ticket prices are $33 to $72 with discounts for seniors and children. \nA special Sugar Plum party will be held after the Saturday and Sunday afternoon performances where children can meet the Nutcracker characters. \nA.V.A. Ballet Theatre is the resident ballet company of the Pioneer Center for the Performing Arts. They are northern Nevada’s largest company under the instruction of a professional faculty with years of performing experience in renowned metropolitan ballet and production companies across the United States and Europe. \nMark your calendars now for this spectacular holiday tradition. For tickets call the Pioneer Center box office at 775-434-1050 or online at pioneercenter.com. Box office hours are Monday through Friday 10 a.m. to 4 p.m. \nFor more information call A.V.A. Ballet Theatre at 775-762-5165 or online at avaballet.com or call the Pioneer Center for the Performing Arts at 775-686-6600.
URL:https://create.vegas/event/a-v-a-ballet-theatre-and-the-reno-phils-the-nutcracker-2/
LOCATION:Pioneer Center for the Performing Arts\, 100 South Virginia Street\, Reno\, 89501\, United States
CATEGORIES:Performing,Performing Arts
ATTACH;FMTTYPE=image/jpeg:https://create.vegas/wp-content/uploads/2025/11/Nutcracker-Soldiers-2016-RfRpJ9.jpg
ORGANIZER;CN="A.V.A. Ballet Theatre":MAILTO:info@avaballet.com
END:VEVENT
BEGIN:VEVENT
DTSTART;TZID=America/Los_Angeles:20251219T200000
DTEND;TZID=America/Los_Angeles:20251219T220000
DTSTAMP:20260423T020433
CREATED:20251126T222635Z
LAST-MODIFIED:20251126T222635Z
UID:10031698-1766174400-1766181600@create.vegas
SUMMARY:A.V.A. Ballet Theatre and the Reno Phil’s The Nutcracker
DESCRIPTION:Reno\, Nevada – The stage at the Pioneer Center for the Performing Arts will be alive with a sugar plum fairy and dancing mice as A.V.A. Ballet Theatre presents the annual Nutcracker Ballet on Dec. 19\, Dec. 20\, and Dec. 21\, 2025. Artistic director Alexander Van Alstyne has choreographed an exciting rendition of the popular holiday ballet and the Reno Philharmonic Orchestra will perform Tchaikovsky’s moving score. Laura Jackson will be conducting the orchestra. \nPrincipal dancers who have performed with professional ballet companies such as Ballet West\, Kansas City Ballet and the Diablo Ballet will perform the leading roles along side a large cast of local talent. \nNutcracker performances will be held Friday\, Dec. 19 at 8 p.m.\, Saturday\, Dec. 20 at 1 p.m. and 7 p.m. and Sunday\, Dec. 21 at 1 p.m. and 7 p.m. at the Pioneer Center for the Performing Arts in downtown Reno. Ticket prices are $33 to $72 with discounts for seniors and children. \nA special Sugar Plum party will be held after the Saturday and Sunday afternoon performances where children can meet the Nutcracker characters. \nA.V.A. Ballet Theatre is the resident ballet company of the Pioneer Center for the Performing Arts. They are northern Nevada’s largest company under the instruction of a professional faculty with years of performing experience in renowned metropolitan ballet and production companies across the United States and Europe. \nMark your calendars now for this spectacular holiday tradition. For tickets call the Pioneer Center box office at 775-434-1050 or online at pioneercenter.com. Box office hours are Monday through Friday 10 a.m. to 4 p.m. \nFor more information call A.V.A. Ballet Theatre at 775-762-5165 or online at avaballet.com or call the Pioneer Center for the Performing Arts at 775-686-6600.
URL:https://create.vegas/event/a-v-a-ballet-theatre-and-the-reno-phils-the-nutcracker/
LOCATION:Pioneer Center for the Performing Arts\, 100 South Virginia Street\, Reno\, 89501\, United States
CATEGORIES:Performing,Performing Arts
ATTACH;FMTTYPE=image/jpeg:https://create.vegas/wp-content/uploads/2025/11/Nutcracker-Soldiers-2016-RfRpJ9.jpg
ORGANIZER;CN="A.V.A. Ballet Theatre":MAILTO:info@avaballet.com
END:VEVENT
END:VCALENDAR