BEGIN:VCALENDAR
VERSION:2.0
PRODID:-//Create.Vegas - ECPv6.15.20//NONSGML v1.0//EN
CALSCALE:GREGORIAN
METHOD:PUBLISH
X-ORIGINAL-URL:https://create.vegas
X-WR-CALDESC:Events for Create.Vegas
REFRESH-INTERVAL;VALUE=DURATION:PT1H
X-Robots-Tag:noindex
X-PUBLISHED-TTL:PT1H
BEGIN:VTIMEZONE
TZID:America/Los_Angeles
BEGIN:DAYLIGHT
TZOFFSETFROM:-0800
TZOFFSETTO:-0700
TZNAME:PDT
DTSTART:20250309T100000
END:DAYLIGHT
BEGIN:STANDARD
TZOFFSETFROM:-0700
TZOFFSETTO:-0800
TZNAME:PST
DTSTART:20251102T090000
END:STANDARD
BEGIN:DAYLIGHT
TZOFFSETFROM:-0800
TZOFFSETTO:-0700
TZNAME:PDT
DTSTART:20260308T100000
END:DAYLIGHT
BEGIN:STANDARD
TZOFFSETFROM:-0700
TZOFFSETTO:-0800
TZNAME:PST
DTSTART:20261101T090000
END:STANDARD
BEGIN:DAYLIGHT
TZOFFSETFROM:-0800
TZOFFSETTO:-0700
TZNAME:PDT
DTSTART:20270314T100000
END:DAYLIGHT
BEGIN:STANDARD
TZOFFSETFROM:-0700
TZOFFSETTO:-0800
TZNAME:PST
DTSTART:20271107T090000
END:STANDARD
END:VTIMEZONE
BEGIN:VEVENT
DTSTART;TZID=America/Los_Angeles:20260529T150000
DTEND;TZID=America/Los_Angeles:20260531T230000
DTSTAMP:20260421T140557
CREATED:20260205T024755Z
LAST-MODIFIED:20260406T030304Z
UID:10033009-1780066800-1780268400@create.vegas
SUMMARY:626 Night Market - Costa Mesa | May 29-31\, 2026
DESCRIPTION:Experience 626 Night Market\, the original Asian night market in the U.S.\, with iconic street food\, handcrafted merch\, and live performances.\n\n\n626 Night Market is founded in 2012 and named after Southern California’s 626 area code. The 626 Night Market is more than just a food festival\, it’s a celebration of Asian-inspired culture and rich tapestry of Asian food\, creativity\, and community. \n\n\n \nEvent Hours \nFriday – 3PM – 11PM \nSaturday – 3 PM – 11PM \nSunday – 3PM – 11PM \n\n\n \nEvent Details: \n\nLocation: OC Fairgrounds (88 Fair Dr\, Costa Mesa\, CA 92626)\nAdmission: Tickets are available online only. Children 5 & under are admitted for free.\nParking: $12 per car. Accessible parking is available.\nPets: Service animals only.\nVisit our website for more info: Click Here\nFollow us on Instagram: Click Here\n\n\n\n \nNote: \n\nGuests may stay as long as they like once inside; there is no time limit for the day. No re-entry.\nUtilizing public transportation and carpooling is highly recommended.
URL:https://create.vegas/event/626-night-market-costa-mesa-may-29-31-2026/
LOCATION:OC Fair & Event Center\, 88 Fair Drive\, Costa Mesa\, CA\, 92626\, United States
ATTACH;FMTTYPE=image/jpeg:https://create.vegas/wp-content/uploads/2026/02/c47061eaf38c94f2bd015790a7210da7.jpg
END:VEVENT
BEGIN:VEVENT
DTSTART;TZID=America/Los_Angeles:20260619T150000
DTEND;TZID=America/Los_Angeles:20260621T230000
DTSTAMP:20260421T140557
CREATED:20260205T024756Z
LAST-MODIFIED:20260406T030304Z
UID:10033010-1781881200-1782082800@create.vegas
SUMMARY:626 Night Market - Arcadia | June 19-21\, 2026
DESCRIPTION:Experience 626 Night Market\, the original Asian night market in the U.S.\, with iconic street food\, handcrafted merch\, and live performances.\n\n\n626 Night Market was founded in 2012 and named after Southern California’s 626 area code. The 626 Night Market is more than just a food festival\, it’s a celebration of Asian-inspired culture and rich tapestry of Asian food\, creativity\, and community. \n\n\n \nEvent Hours \nFriday – 3PM – 11PM \nSaturday – 3 PM – 11PM \nSunday – 3PM – 11PM \n\n\n \nEvent Details: \n\nLocation: Santa Anita Park (285 W Huntington Dr.\, Arcadia\, CA 91007)\nAdmission: Tickets are available online only. Children 5 & under are admitted for free.\nParking: Free. Accessible parking is available.\nPets: Service animals only.\nVisit our website for more info: Click Here\nFollow us on Instagram: Click Here\n\n\n\n \nNote: \n\nGuests may stay as long as they like once inside; there is no time limit for the day. No re-entry.\nUtilizing public transportation and carpooling is highly recommended.
URL:https://create.vegas/event/626-night-market-arcadia-june-19-21-2026/
LOCATION:Santa Anita Park\, 285 West Huntington Drive\, Arcadia\, CA\, 91007\, United States
ATTACH;FMTTYPE=image/jpeg:https://create.vegas/wp-content/uploads/2026/02/42cd9850984a418c3467278aa46afcbb.jpg
END:VEVENT
BEGIN:VEVENT
DTSTART;TZID=America/Los_Angeles:20260814T150000
DTEND;TZID=America/Los_Angeles:20260816T230000
DTSTAMP:20260421T140557
CREATED:20260205T024758Z
LAST-MODIFIED:20260406T030304Z
UID:10033011-1786719600-1786921200@create.vegas
SUMMARY:626 Night Market - Arcadia | August 14-16\, 2026
DESCRIPTION:Experience 626 Night Market\, the original Asian night market in the U.S.\, with iconic street food\, handcrafted merch\, and live performances.\n\n\n626 Night Market was founded in 2012 and named after Southern California’s 626 area code. The 626 Night Market is more than just a food festival\, it’s a celebration of Asian-inspired culture and rich tapestry of Asian food\, creativity\, and community. \n\n\n \nEvent Hours \nFriday – 3PM – 11PM \nSaturday – 3 PM – 11PM \nSunday – 3PM – 11PM \n\n\n \nEvent Details: \n\nLocation: Santa Anita Park (285 W Huntington Dr.\, Arcadia\, CA 91007)\nAdmission: Tickets are available online only. Children 5 & under are admitted for free.\nParking: Free. Accessible parking is available.\nPets: Service animals only.\nVisit our website for more info: Click Here\nFollow us on Instagram: Click Here\n\n\n\n \nNote: \n\nGuests may stay as long as they like once inside; there is no time limit for the day. No re-entry.\nUtilizing public transportation and carpooling is highly recommended.
URL:https://create.vegas/event/626-night-market-arcadia-august-14-16-2026/
LOCATION:Santa Anita Park\, 285 West Huntington Drive\, Arcadia\, CA\, 91007\, United States
ATTACH;FMTTYPE=image/jpeg:https://create.vegas/wp-content/uploads/2026/02/c71d5ed0278ae143f7087ddcaba37f43.jpg
END:VEVENT
BEGIN:VEVENT
DTSTART;TZID=America/Los_Angeles:20261009T150000
DTEND;TZID=America/Los_Angeles:20261011T230000
DTSTAMP:20260421T140557
CREATED:20260205T024759Z
LAST-MODIFIED:20260406T030304Z
UID:10033012-1791558000-1791759600@create.vegas
SUMMARY:626 Night Market - Pleasanton | October 9-11\, 2026
DESCRIPTION:Experience 626 Night Market\, the original Asian night market in the U.S.\, with iconic street food\, handcrafted merch\, and live performances.\n\n\n626 Night Market was founded in 2012 and named after Southern California’s 626 area code. The 626 Night Market is more than just a food festival\, it’s a celebration of Asian-inspired culture and rich tapestry of Asian food\, creativity\, and community. \n\n\n \nEvent Hours \nFriday – 3PM – 11PM \nSaturday – 3 PM – 11PM \nSunday – 3PM – 11PM \n\n\n \nEvent Details: \n\nLocation: Alameda County Fairgrounds (2005 Valley Ave #Gate 8\, Pleasanton\, CA 94566)\nAdmission: Tickets are available online only. Children 5 & under are admitted for free.\nParking: To be determined. Accessible parking is available.\nPets: Service animals only.\nVisit our website for more info: Click Here\nFollow us on Instagram: Click Here\n\n\n\n \nNote: \n\nGuests may stay as long as they like once inside; there is no time limit for the day. No re-entry.\nUtilizing public transportation and carpooling is highly recommended.
URL:https://create.vegas/event/626-night-market-pleasanton-october-9-11-2026/
LOCATION:Alameda County Fairgrounds\, 2005 Valley Avenue\, #Gate 8\, Pleasanton\, CA\, 94566\, United States
ATTACH;FMTTYPE=image/jpeg:https://create.vegas/wp-content/uploads/2026/02/8a61d0c3adf89017d52b92901d48bca2.jpg
END:VEVENT
END:VCALENDAR