BEGIN:VCALENDAR
VERSION:2.0
PRODID:-//Create.Vegas - ECPv6.15.20//NONSGML v1.0//EN
CALSCALE:GREGORIAN
METHOD:PUBLISH
X-ORIGINAL-URL:https://create.vegas
X-WR-CALDESC:Events for Create.Vegas
REFRESH-INTERVAL;VALUE=DURATION:PT1H
X-Robots-Tag:noindex
X-PUBLISHED-TTL:PT1H
BEGIN:VTIMEZONE
TZID:America/Los_Angeles
BEGIN:DAYLIGHT
TZOFFSETFROM:-0800
TZOFFSETTO:-0700
TZNAME:PDT
DTSTART:20250309T100000
END:DAYLIGHT
BEGIN:STANDARD
TZOFFSETFROM:-0700
TZOFFSETTO:-0800
TZNAME:PST
DTSTART:20251102T090000
END:STANDARD
BEGIN:DAYLIGHT
TZOFFSETFROM:-0800
TZOFFSETTO:-0700
TZNAME:PDT
DTSTART:20260308T100000
END:DAYLIGHT
BEGIN:STANDARD
TZOFFSETFROM:-0700
TZOFFSETTO:-0800
TZNAME:PST
DTSTART:20261101T090000
END:STANDARD
BEGIN:DAYLIGHT
TZOFFSETFROM:-0800
TZOFFSETTO:-0700
TZNAME:PDT
DTSTART:20270314T100000
END:DAYLIGHT
BEGIN:STANDARD
TZOFFSETFROM:-0700
TZOFFSETTO:-0800
TZNAME:PST
DTSTART:20271107T090000
END:STANDARD
END:VTIMEZONE
BEGIN:VEVENT
DTSTART;TZID=America/Los_Angeles:20260327T090000
DTEND;TZID=America/Los_Angeles:20260327T120000
DTSTAMP:20260421T215852
CREATED:20260326T230323Z
LAST-MODIFIED:20260326T230323Z
UID:10033887-1774602000-1774612800@create.vegas
SUMMARY:Artist In Action: Tricia Poulos Leonard
DESCRIPTION:Stop by Darkshot Coffee\, grab a hot or cold beverage\, check out local art\, and meet the Artist In Action: Tricia Poulos Leonard \nThursday\, March 27\, 2026\, from 9 a.m.-noon \nLocated at:\nDarkshot Coffee\nIn the lobby\, 300 E. 2nd St.\, #101\nReno\, NV 89501 \nAbout The Artist: \nAs a painter\, I find inspiration in the world around me. I employ a personal vocabulary of marks and colors that reflects the natural world. My work varies from representational to abstract\, and I am continually moving between the two styles. I tend to work in series\, either with the materials I use or the exploration of imagery. Every painting is an experiment to me. My materials\, techniques\, and interests all direct me to a place that craves a connection to the world we live in. \n#abstractartist #artistinaction #darkshotcoffee
URL:https://create.vegas/event/artist-in-action-tricia-poulos-leonard-2/
LOCATION:Darkshot Coffee\, 300 E. Second St.\, Reno\, NV\, 89501\, United States
CATEGORIES:Family Friendly,Performing Arts,Visual
ATTACH;FMTTYPE=image/jpeg:https://create.vegas/wp-content/uploads/2026/03/IMG_0342-002-qZiKUw.jpg
END:VEVENT
BEGIN:VEVENT
DTSTART;TZID=America/Los_Angeles:20260327T140000
DTEND;TZID=America/Los_Angeles:20260327T160000
DTSTAMP:20260421T215852
CREATED:20260326T230324Z
LAST-MODIFIED:20260326T230324Z
UID:10033893-1774620000-1774627200@create.vegas
SUMMARY:Watercolor Nature Journaling Drop-in Sessions
DESCRIPTION:Enjoy an art session in the surrounding beauty of Corn Creek. Nature journaling is a meaningful way to connect to a place and to record our surroundings with data and creativity. \nOur Artist in Resident\, Jess Moore will share basic nature journaling skills and share prompts to guide your work. Everyone is an artist with nature journaling. Artists of all ages are invited to participate. \nCome for a drop-in watercolor nature journaling session. All materials provided. Please come prepared for casual exploration outdoors on the Corn Creek trails.
URL:https://create.vegas/event/watercolor-nature-journaling-drop-in-sessions/
LOCATION:Corn Creek Visitor Center\, 16001 Corn Creek Rd\,\, NV\, Las Vegas\, 89124\, United States
CATEGORIES:Class,Exhibit,Performing Arts,Visual,Workshops and Webinars
ATTACH;FMTTYPE=image/jpeg:https://create.vegas/wp-content/uploads/2026/03/Workshops-web-pEWcuV.jpg
END:VEVENT
BEGIN:VEVENT
DTSTART;TZID=America/Los_Angeles:20260327T140000
DTEND;TZID=America/Los_Angeles:20260327T160000
DTSTAMP:20260421T215852
CREATED:20260326T230324Z
LAST-MODIFIED:20260326T230324Z
UID:10033894-1774620000-1774627200@create.vegas
SUMMARY:Watercolor Nature Journaling Drop-in Sessions
DESCRIPTION:Meet under the patio of the Corn Creek Visitor Center for a drop-in watercolor nature journaling session – all materials provided! Our Artist in Residence\, Jess Moore\, will share basic nature journaling skills and prompts to guide your work.\n\nNature journaling is a meaningful way to connect to a place and record our surroundings with data and creativity. Everyone is an artist with nature journaling\, and all artists are invited to participate!\n\nJess Moore\, MFA\, creates work that bridges analog and digital with laser wood creations and photo embroidery. She teaches art foundations and graphic design.
URL:https://create.vegas/event/watercolor-nature-journaling-drop-in-sessions-2/
LOCATION:Corn Creek Visitor Center\, 16001 Corn Creek Rd\,\, NV\, Las Vegas\, 89124\, United States
CATEGORIES:Class,Performing Arts,Visual,Workshops and Webinars
ATTACH;FMTTYPE=image/jpeg:https://create.vegas/wp-content/uploads/2026/03/Workshops-web-1-UuNNrI.jpg
END:VEVENT
END:VCALENDAR