BEGIN:VCALENDAR
VERSION:2.0
PRODID:-//Create.Vegas - ECPv6.15.20//NONSGML v1.0//EN
CALSCALE:GREGORIAN
METHOD:PUBLISH
X-ORIGINAL-URL:https://create.vegas
X-WR-CALDESC:Events for Create.Vegas
REFRESH-INTERVAL;VALUE=DURATION:PT1H
X-Robots-Tag:noindex
X-PUBLISHED-TTL:PT1H
BEGIN:VTIMEZONE
TZID:America/Los_Angeles
BEGIN:DAYLIGHT
TZOFFSETFROM:-0800
TZOFFSETTO:-0700
TZNAME:PDT
DTSTART:20250309T100000
END:DAYLIGHT
BEGIN:STANDARD
TZOFFSETFROM:-0700
TZOFFSETTO:-0800
TZNAME:PST
DTSTART:20251102T090000
END:STANDARD
BEGIN:DAYLIGHT
TZOFFSETFROM:-0800
TZOFFSETTO:-0700
TZNAME:PDT
DTSTART:20260308T100000
END:DAYLIGHT
BEGIN:STANDARD
TZOFFSETFROM:-0700
TZOFFSETTO:-0800
TZNAME:PST
DTSTART:20261101T090000
END:STANDARD
BEGIN:DAYLIGHT
TZOFFSETFROM:-0800
TZOFFSETTO:-0700
TZNAME:PDT
DTSTART:20270314T100000
END:DAYLIGHT
BEGIN:STANDARD
TZOFFSETFROM:-0700
TZOFFSETTO:-0800
TZNAME:PST
DTSTART:20271107T090000
END:STANDARD
END:VTIMEZONE
BEGIN:VEVENT
DTSTART;TZID=America/Los_Angeles:20260116T110000
DTEND;TZID=America/Los_Angeles:20260116T160000
DTSTAMP:20260422T153928
CREATED:20251226T223351Z
LAST-MODIFIED:20251226T223351Z
UID:10032376-1768561200-1768579200@create.vegas
SUMMARY:3rd Annual “Emerging Artists” Exhibit
DESCRIPTION:Join us at the Artists Co-op Gallery of Reno for:\n\n3rd Annual “Emerging Artists” Exhibit\n\nJan. 2-31\, 2026\n\nGuest Artist: John McCarthy\n\nReception: Sunday\, Jan 4\, from noon-4 p.m.627 Mill St.\, Reno\, NV 89502\n\nThis Year’s Artists:Kaylee Smith\, Tanja Hester\, Camille Stegman\, Audrey George\, and Shelby Rodriguez.\nFor the third year\, we at the Artists Co-op Gallery of Reno are introducing five new\, emerging artists to the Reno community!This is an opportunity to be among the first to experience for yourself the extraordinary work of these gifted artists.\n\nWe are open seven days a week from 11 a.m.-4 p.m.
URL:https://create.vegas/event/3rd-annual-emerging-artists-exhibit-15/
LOCATION:Artist Co-op Gallery of Reno\, 627 Mill St.\, Reno\, NV\, 89505\, United States
CATEGORIES:Exhibit,Family Friendly,Performing Arts,Reception,Visual
ATTACH;FMTTYPE=image/jpeg:https://create.vegas/wp-content/uploads/2025/12/Emerging-Artists-Card-2026-for-web-002-SmKV2t.jpg
END:VEVENT
END:VCALENDAR