BEGIN:VCALENDAR
VERSION:2.0
PRODID:-//Create.Vegas - ECPv6.15.20//NONSGML v1.0//EN
CALSCALE:GREGORIAN
METHOD:PUBLISH
X-WR-CALNAME:Create.Vegas
X-ORIGINAL-URL:https://create.vegas
X-WR-CALDESC:Events for Create.Vegas
REFRESH-INTERVAL;VALUE=DURATION:PT1H
X-Robots-Tag:noindex
X-PUBLISHED-TTL:PT1H
BEGIN:VTIMEZONE
TZID:America/Los_Angeles
BEGIN:DAYLIGHT
TZOFFSETFROM:-0800
TZOFFSETTO:-0700
TZNAME:PDT
DTSTART:20240310T100000
END:DAYLIGHT
BEGIN:STANDARD
TZOFFSETFROM:-0700
TZOFFSETTO:-0800
TZNAME:PST
DTSTART:20241103T090000
END:STANDARD
BEGIN:DAYLIGHT
TZOFFSETFROM:-0800
TZOFFSETTO:-0700
TZNAME:PDT
DTSTART:20250309T100000
END:DAYLIGHT
BEGIN:STANDARD
TZOFFSETFROM:-0700
TZOFFSETTO:-0800
TZNAME:PST
DTSTART:20251102T090000
END:STANDARD
BEGIN:DAYLIGHT
TZOFFSETFROM:-0800
TZOFFSETTO:-0700
TZNAME:PDT
DTSTART:20260308T100000
END:DAYLIGHT
BEGIN:STANDARD
TZOFFSETFROM:-0700
TZOFFSETTO:-0800
TZNAME:PST
DTSTART:20261101T090000
END:STANDARD
END:VTIMEZONE
BEGIN:VEVENT
DTSTART;TZID=America/Los_Angeles:20251208T173000
DTEND;TZID=America/Los_Angeles:20251208T183000
DTSTAMP:20260422T135349
CREATED:20251126T222702Z
LAST-MODIFIED:20251126T222702Z
UID:10031755-1765215000-1765218600@create.vegas
SUMMARY:FY27 Grants Road Show – Fallon
DESCRIPTION:Bringing the Arts and Visitors to Nevada: Funding Opportunities for Your Community \nAre you a local artist or part of a small group like a nonprofit\, school\, library\, tribe\, or town office\, looking to bring more art and visitors to your community? The Nevada Arts Council and Travel Nevada offer grants that can help make that possible. \nPlease register to attend one of our in-person grants information session. Registration is encouraged.
URL:https://create.vegas/event/fy27-grants-road-show-fallon/
LOCATION:Oats Park Art Center\, 151 E. Park St.\, Fallon\, NV\, 89406\, United States
CATEGORIES:Performing Arts,Workshops and Webinars
ATTACH;FMTTYPE=image/jpeg:https://create.vegas/wp-content/uploads/2025/11/Car-Forest-2-91QAGA.jpg
END:VEVENT
END:VCALENDAR