BEGIN:VCALENDAR
VERSION:2.0
PRODID:-//Create.Vegas - ECPv6.15.20//NONSGML v1.0//EN
CALSCALE:GREGORIAN
METHOD:PUBLISH
X-ORIGINAL-URL:https://create.vegas
X-WR-CALDESC:Events for Create.Vegas
REFRESH-INTERVAL;VALUE=DURATION:PT1H
X-Robots-Tag:noindex
X-PUBLISHED-TTL:PT1H
BEGIN:VTIMEZONE
TZID:America/Los_Angeles
BEGIN:DAYLIGHT
TZOFFSETFROM:-0800
TZOFFSETTO:-0700
TZNAME:PDT
DTSTART:20250309T100000
END:DAYLIGHT
BEGIN:STANDARD
TZOFFSETFROM:-0700
TZOFFSETTO:-0800
TZNAME:PST
DTSTART:20251102T090000
END:STANDARD
BEGIN:DAYLIGHT
TZOFFSETFROM:-0800
TZOFFSETTO:-0700
TZNAME:PDT
DTSTART:20260308T100000
END:DAYLIGHT
BEGIN:STANDARD
TZOFFSETFROM:-0700
TZOFFSETTO:-0800
TZNAME:PST
DTSTART:20261101T090000
END:STANDARD
BEGIN:DAYLIGHT
TZOFFSETFROM:-0800
TZOFFSETTO:-0700
TZNAME:PDT
DTSTART:20270314T100000
END:DAYLIGHT
BEGIN:STANDARD
TZOFFSETFROM:-0700
TZOFFSETTO:-0800
TZNAME:PST
DTSTART:20271107T090000
END:STANDARD
END:VTIMEZONE
BEGIN:VEVENT
DTSTART;TZID=America/Los_Angeles:20260421T120000
DTEND;TZID=America/Los_Angeles:20260421T160000
DTSTAMP:20260421T191115
CREATED:20260326T230425Z
LAST-MODIFIED:20260326T230425Z
UID:10034145-1776772800-1776787200@create.vegas
SUMMARY:Abstractly Thinking
DESCRIPTION:Join us at the Artists Co-op for “Abstractly Thinking”\n\nApril 1-30\, 2026\n\nGuest Artist: Trina Craig\n\nArtist of the Month: Michaele Tristram\n\nConsignment Artist of the Month: Sharon Randall\n\nReception: Sunday\, April 12\, from noon-4 p.m.\n\nFind out what our abstract artists are thinking and doing. There will be images you have never seen before by our talented community of creative artists. Come enjoy the art\, the company\, the food\, and the wine.
URL:https://create.vegas/event/abstractly-thinking-10/
LOCATION:Artist Co-op Gallery of Reno\, 627 Mill St.\, Reno\, NV\, 89505\, United States
CATEGORIES:Exhibit,Family Friendly,Performing Arts,Reception,Visual
ATTACH;FMTTYPE=image/jpeg:https://create.vegas/wp-content/uploads/2026/03/Abstractly-Thinking-2026-Square-for-Web-004-IAvaXZ.jpg
END:VEVENT
END:VCALENDAR