BEGIN:VCALENDAR
VERSION:2.0
PRODID:-//Create.Vegas - ECPv6.15.20//NONSGML v1.0//EN
CALSCALE:GREGORIAN
METHOD:PUBLISH
X-WR-CALNAME:Create.Vegas
X-ORIGINAL-URL:https://create.vegas
X-WR-CALDESC:Events for Create.Vegas
REFRESH-INTERVAL;VALUE=DURATION:PT1H
X-Robots-Tag:noindex
X-PUBLISHED-TTL:PT1H
BEGIN:VTIMEZONE
TZID:America/Los_Angeles
BEGIN:DAYLIGHT
TZOFFSETFROM:-0800
TZOFFSETTO:-0700
TZNAME:PDT
DTSTART:20250309T100000
END:DAYLIGHT
BEGIN:STANDARD
TZOFFSETFROM:-0700
TZOFFSETTO:-0800
TZNAME:PST
DTSTART:20251102T090000
END:STANDARD
BEGIN:DAYLIGHT
TZOFFSETFROM:-0800
TZOFFSETTO:-0700
TZNAME:PDT
DTSTART:20260308T100000
END:DAYLIGHT
BEGIN:STANDARD
TZOFFSETFROM:-0700
TZOFFSETTO:-0800
TZNAME:PST
DTSTART:20261101T090000
END:STANDARD
BEGIN:DAYLIGHT
TZOFFSETFROM:-0800
TZOFFSETTO:-0700
TZNAME:PDT
DTSTART:20270314T100000
END:DAYLIGHT
BEGIN:STANDARD
TZOFFSETFROM:-0700
TZOFFSETTO:-0800
TZNAME:PST
DTSTART:20271107T090000
END:STANDARD
END:VTIMEZONE
BEGIN:VEVENT
DTSTART;TZID=America/Los_Angeles:20260327T173000
DTEND;TZID=America/Los_Angeles:20260327T213000
DTSTAMP:20260422T164446
CREATED:20260326T230325Z
LAST-MODIFIED:20260326T230325Z
UID:10033895-1774632600-1774647000@create.vegas
SUMMARY:Battle of the Bands 2026 – Water Street Plaza
DESCRIPTION:Join us for the sixth annual event celebrating local talent of all ages! Battle of the Bands is back with two categories\, cash prizes and a chance for future band bookings at City of Henderson events. All types of music are welcome\, and any bands of two or more can participate. It’s one of the best band contests celebrating grass roots artistry. Come and cheer on aspiring musicians at the final battles. \n Final Battle Dates:  \n\nFriday\, March 27 (category 1)\n\nBands have at least one member 20 years old or younger\n\n\nSaturday\, March 28 (category 2)\n\nAll band members are age 21 or older
URL:https://create.vegas/event/battle-of-the-bands-2026-water-street-plaza/
LOCATION:Water Street Plaza Amphitheater\, 240 S. Water St.\, Henderson\, NV\, 89015\, United States
CATEGORIES:Family Friendly,Performing,Performing Arts
ATTACH;FMTTYPE=image/jpeg:https://create.vegas/wp-content/uploads/2026/03/638681495992170000-1-Loqozr.jpg
ORGANIZER;CN="City of Henderson":MAILTO:arthenderson@cityofhenderson.com
END:VEVENT
END:VCALENDAR