BEGIN:VCALENDAR
VERSION:2.0
PRODID:-//Create.Vegas - ECPv6.15.20//NONSGML v1.0//EN
CALSCALE:GREGORIAN
METHOD:PUBLISH
X-WR-CALNAME:Create.Vegas
X-ORIGINAL-URL:https://create.vegas
X-WR-CALDESC:Events for Create.Vegas
REFRESH-INTERVAL;VALUE=DURATION:PT1H
X-Robots-Tag:noindex
X-PUBLISHED-TTL:PT1H
BEGIN:VTIMEZONE
TZID:America/Los_Angeles
BEGIN:DAYLIGHT
TZOFFSETFROM:-0800
TZOFFSETTO:-0700
TZNAME:PDT
DTSTART:20250309T100000
END:DAYLIGHT
BEGIN:STANDARD
TZOFFSETFROM:-0700
TZOFFSETTO:-0800
TZNAME:PST
DTSTART:20251102T090000
END:STANDARD
BEGIN:DAYLIGHT
TZOFFSETFROM:-0800
TZOFFSETTO:-0700
TZNAME:PDT
DTSTART:20260308T100000
END:DAYLIGHT
BEGIN:STANDARD
TZOFFSETFROM:-0700
TZOFFSETTO:-0800
TZNAME:PST
DTSTART:20261101T090000
END:STANDARD
BEGIN:DAYLIGHT
TZOFFSETFROM:-0800
TZOFFSETTO:-0700
TZNAME:PDT
DTSTART:20270314T100000
END:DAYLIGHT
BEGIN:STANDARD
TZOFFSETFROM:-0700
TZOFFSETTO:-0800
TZNAME:PST
DTSTART:20271107T090000
END:STANDARD
END:VTIMEZONE
BEGIN:VEVENT
DTSTART;TZID=America/Los_Angeles:20260328T193000
DTEND;TZID=America/Los_Angeles:20260328T223000
DTSTAMP:20260424T004134
CREATED:20260305T182042Z
LAST-MODIFIED:20260305T182043Z
UID:10033638-1774726200-1774737000@create.vegas
SUMMARY:Sin City Kings vs Mansfield Barracudas
DESCRIPTION:The Sin City Kings return to the ice for an exciting weekend series against the Mansfield Barracudas on March 27 and March 28. Join us for fast-paced\, hard-hitting hockey as the Kings defend home ice and bring the energy that Vegas hockey fans love. Whether you’re a longtime hockey fan or just looking for a fun night out\, Kings games offer an electric atmosphere with live action\, food & drinks\, great entertainment\, and a passionate local crowd.\n\n \n\nTickets available HERE!\n\nUse code “CREATE” for 25% off your purchase!
URL:https://create.vegas/event/sin-city-kings-vs-mansfield-barracudas/
LOCATION:Hylo Park Arena\, 2400 N Rancho Dr\, Las Vegas\, 89130
CATEGORIES:Family Friendly
ATTACH;FMTTYPE=image/jpeg:https://create.vegas/wp-content/uploads/2026/03/SCK-vs-MB-NTDLV-1.jpg
END:VEVENT
END:VCALENDAR