BEGIN:VCALENDAR
VERSION:2.0
PRODID:-//Create.Vegas - ECPv6.15.20//NONSGML v1.0//EN
CALSCALE:GREGORIAN
METHOD:PUBLISH
X-WR-CALNAME:Create.Vegas
X-ORIGINAL-URL:https://create.vegas
X-WR-CALDESC:Events for Create.Vegas
REFRESH-INTERVAL;VALUE=DURATION:PT1H
X-Robots-Tag:noindex
X-PUBLISHED-TTL:PT1H
BEGIN:VTIMEZONE
TZID:America/Los_Angeles
BEGIN:DAYLIGHT
TZOFFSETFROM:-0800
TZOFFSETTO:-0700
TZNAME:PDT
DTSTART:20250309T100000
END:DAYLIGHT
BEGIN:STANDARD
TZOFFSETFROM:-0700
TZOFFSETTO:-0800
TZNAME:PST
DTSTART:20251102T090000
END:STANDARD
BEGIN:DAYLIGHT
TZOFFSETFROM:-0800
TZOFFSETTO:-0700
TZNAME:PDT
DTSTART:20260308T100000
END:DAYLIGHT
BEGIN:STANDARD
TZOFFSETFROM:-0700
TZOFFSETTO:-0800
TZNAME:PST
DTSTART:20261101T090000
END:STANDARD
BEGIN:DAYLIGHT
TZOFFSETFROM:-0800
TZOFFSETTO:-0700
TZNAME:PDT
DTSTART:20270314T100000
END:DAYLIGHT
BEGIN:STANDARD
TZOFFSETFROM:-0700
TZOFFSETTO:-0800
TZNAME:PST
DTSTART:20271107T090000
END:STANDARD
END:VTIMEZONE
BEGIN:VEVENT
DTSTART;TZID=America/Los_Angeles:20260411T100000
DTEND;TZID=America/Los_Angeles:20260411T130000
DTSTAMP:20260422T091156
CREATED:20260324T163515Z
LAST-MODIFIED:20260324T163517Z
UID:10033835-1775901600-1775912400@create.vegas
SUMMARY:Funny Bunny Kids Market
DESCRIPTION:The Kids Market is teaming up with Friends of Parkinson’s for the Funny Bunny Race—a joyful springtime celebration that mixes fitness\, fun\, and community spirit\, all to support those living with Parkinson’s disease! This family-friendly event features a special Kids Market where young entrepreneurs (kids vendors) can set up their own booths to sell handmade goods\, crafts\, or whatever their creative hearts desire. It’s the perfect opportunity for children to gain real-world business skills\, build confidence\, earn some money\, and give back to a meaningful cause in a fun\, high-energy environment surrounded by the race’s festivities.\n\nBooth space is available for kid vendors—sign up your young entrepreneur today! Or come out to shop\, support the little business owners\, cheer on the racers\, and enjoy the whole bunny-hopping vibe. For booth registration\, visit kidsmarkets.com
URL:https://create.vegas/event/funny-bunny-kids-market/
LOCATION:Wayne Bunker Park\, 7351 West Alexander Road\, LV\, 89129
CATEGORIES:Family Friendly,Fun
ATTACH;FMTTYPE=image/png:https://create.vegas/wp-content/uploads/2026/03/Funny-Bunny-Race-2026-Market-Flyer-1.png
END:VEVENT
END:VCALENDAR