BEGIN:VCALENDAR
VERSION:2.0
PRODID:-//Create.Vegas - ECPv6.15.20//NONSGML v1.0//EN
CALSCALE:GREGORIAN
METHOD:PUBLISH
X-WR-CALNAME:Create.Vegas
X-ORIGINAL-URL:https://create.vegas
X-WR-CALDESC:Events for Create.Vegas
REFRESH-INTERVAL;VALUE=DURATION:PT1H
X-Robots-Tag:noindex
X-PUBLISHED-TTL:PT1H
BEGIN:VTIMEZONE
TZID:America/Los_Angeles
BEGIN:DAYLIGHT
TZOFFSETFROM:-0800
TZOFFSETTO:-0700
TZNAME:PDT
DTSTART:20250309T100000
END:DAYLIGHT
BEGIN:STANDARD
TZOFFSETFROM:-0700
TZOFFSETTO:-0800
TZNAME:PST
DTSTART:20251102T090000
END:STANDARD
BEGIN:DAYLIGHT
TZOFFSETFROM:-0800
TZOFFSETTO:-0700
TZNAME:PDT
DTSTART:20260308T100000
END:DAYLIGHT
BEGIN:STANDARD
TZOFFSETFROM:-0700
TZOFFSETTO:-0800
TZNAME:PST
DTSTART:20261101T090000
END:STANDARD
BEGIN:DAYLIGHT
TZOFFSETFROM:-0800
TZOFFSETTO:-0700
TZNAME:PDT
DTSTART:20270314T100000
END:DAYLIGHT
BEGIN:STANDARD
TZOFFSETFROM:-0700
TZOFFSETTO:-0800
TZNAME:PST
DTSTART:20271107T090000
END:STANDARD
END:VTIMEZONE
BEGIN:VEVENT
DTSTART;TZID=America/Los_Angeles:20260422T090000
DTEND;TZID=America/Los_Angeles:20260422T170000
DTSTAMP:20260422T104457
CREATED:20260326T230427Z
LAST-MODIFIED:20260326T230427Z
UID:10034150-1776848400-1776877200@create.vegas
SUMMARY:Always back to Nevada: Craig Sheppard and art at the University of Nevada\, Reno
DESCRIPTION:The John and Geraldine Lilley Museum of Art at the University of Nevada\, Reno proudly announces its exhibition\, “Always back to Nevada” Craig Sheppard and art at the University of Nevada\, Reno”\, a curatorial project opening Dec. 9\, 2025\, through April 26\, 2026 at the Northeastern Nevada Museum. Curated by executive director and chief curator Stephanie Gibson\, “Always back to Nevada” showcases the constant oscillation of styles and experimental Nevada-centric works of the university’s Sheppard Gallery founding collector\, Craig Sheppard. \nImage: Craig Sheppard\, The Couriers\, oil on canvas\, n.d.\, collection of the John and Geraldine Lilley Museum of Art
URL:https://create.vegas/event/always-back-to-nevada-craig-sheppard-and-art-at-the-university-of-nevada-reno-116/
LOCATION:Northeastern Nevada Museum\, 1515 Idaho St.\, Elko\, NV\, 89801\, United States
CATEGORIES:Exhibit,Performing Arts
ATTACH;FMTTYPE=image/jpeg:https://create.vegas/wp-content/uploads/2025/11/CS_479_crop-scaled-m8tKmb.jpg
ORGANIZER;CN="John and Geraldine Lilley Museum of Art":MAILTO:thelilley@unr.edu
END:VEVENT
BEGIN:VEVENT
DTSTART;TZID=America/Los_Angeles:20260423T090000
DTEND;TZID=America/Los_Angeles:20260423T170000
DTSTAMP:20260422T104457
CREATED:20260326T230429Z
LAST-MODIFIED:20260326T230429Z
UID:10034163-1776934800-1776963600@create.vegas
SUMMARY:Always back to Nevada: Craig Sheppard and art at the University of Nevada\, Reno
DESCRIPTION:The John and Geraldine Lilley Museum of Art at the University of Nevada\, Reno proudly announces its exhibition\, “Always back to Nevada” Craig Sheppard and art at the University of Nevada\, Reno”\, a curatorial project opening Dec. 9\, 2025\, through April 26\, 2026 at the Northeastern Nevada Museum. Curated by executive director and chief curator Stephanie Gibson\, “Always back to Nevada” showcases the constant oscillation of styles and experimental Nevada-centric works of the university’s Sheppard Gallery founding collector\, Craig Sheppard. \nImage: Craig Sheppard\, The Couriers\, oil on canvas\, n.d.\, collection of the John and Geraldine Lilley Museum of Art
URL:https://create.vegas/event/always-back-to-nevada-craig-sheppard-and-art-at-the-university-of-nevada-reno-117/
LOCATION:Northeastern Nevada Museum\, 1515 Idaho St.\, Elko\, NV\, 89801\, United States
CATEGORIES:Exhibit,Performing Arts
ATTACH;FMTTYPE=image/jpeg:https://create.vegas/wp-content/uploads/2025/11/CS_479_crop-scaled-m8tKmb.jpg
ORGANIZER;CN="John and Geraldine Lilley Museum of Art":MAILTO:thelilley@unr.edu
END:VEVENT
BEGIN:VEVENT
DTSTART;TZID=America/Los_Angeles:20260424T090000
DTEND;TZID=America/Los_Angeles:20260424T170000
DTSTAMP:20260422T104457
CREATED:20260326T230432Z
LAST-MODIFIED:20260326T230432Z
UID:10034175-1777021200-1777050000@create.vegas
SUMMARY:Always back to Nevada: Craig Sheppard and art at the University of Nevada\, Reno
DESCRIPTION:The John and Geraldine Lilley Museum of Art at the University of Nevada\, Reno proudly announces its exhibition\, “Always back to Nevada” Craig Sheppard and art at the University of Nevada\, Reno”\, a curatorial project opening Dec. 9\, 2025\, through April 26\, 2026 at the Northeastern Nevada Museum. Curated by executive director and chief curator Stephanie Gibson\, “Always back to Nevada” showcases the constant oscillation of styles and experimental Nevada-centric works of the university’s Sheppard Gallery founding collector\, Craig Sheppard. \nImage: Craig Sheppard\, The Couriers\, oil on canvas\, n.d.\, collection of the John and Geraldine Lilley Museum of Art
URL:https://create.vegas/event/always-back-to-nevada-craig-sheppard-and-art-at-the-university-of-nevada-reno-118/
LOCATION:Northeastern Nevada Museum\, 1515 Idaho St.\, Elko\, NV\, 89801\, United States
CATEGORIES:Exhibit,Performing Arts
ATTACH;FMTTYPE=image/jpeg:https://create.vegas/wp-content/uploads/2025/11/CS_479_crop-scaled-m8tKmb.jpg
ORGANIZER;CN="John and Geraldine Lilley Museum of Art":MAILTO:thelilley@unr.edu
END:VEVENT
BEGIN:VEVENT
DTSTART;TZID=America/Los_Angeles:20260425T090000
DTEND;TZID=America/Los_Angeles:20260425T170000
DTSTAMP:20260422T104457
CREATED:20260326T230433Z
LAST-MODIFIED:20260326T230433Z
UID:10034182-1777107600-1777136400@create.vegas
SUMMARY:Always back to Nevada: Craig Sheppard and art at the University of Nevada\, Reno
DESCRIPTION:The John and Geraldine Lilley Museum of Art at the University of Nevada\, Reno proudly announces its exhibition\, “Always back to Nevada” Craig Sheppard and art at the University of Nevada\, Reno”\, a curatorial project opening Dec. 9\, 2025\, through April 26\, 2026 at the Northeastern Nevada Museum. Curated by executive director and chief curator Stephanie Gibson\, “Always back to Nevada” showcases the constant oscillation of styles and experimental Nevada-centric works of the university’s Sheppard Gallery founding collector\, Craig Sheppard. \nImage: Craig Sheppard\, The Couriers\, oil on canvas\, n.d.\, collection of the John and Geraldine Lilley Museum of Art
URL:https://create.vegas/event/always-back-to-nevada-craig-sheppard-and-art-at-the-university-of-nevada-reno-119/
LOCATION:Northeastern Nevada Museum\, 1515 Idaho St.\, Elko\, NV\, 89801\, United States
CATEGORIES:Exhibit,Performing Arts
ATTACH;FMTTYPE=image/jpeg:https://create.vegas/wp-content/uploads/2025/11/CS_479_crop-scaled-m8tKmb.jpg
ORGANIZER;CN="John and Geraldine Lilley Museum of Art":MAILTO:thelilley@unr.edu
END:VEVENT
BEGIN:VEVENT
DTSTART;TZID=America/Los_Angeles:20260425T130000
DTEND;TZID=America/Los_Angeles:20260425T170000
DTSTAMP:20260422T104457
CREATED:20260326T230434Z
LAST-MODIFIED:20260326T230434Z
UID:10034189-1777122000-1777136400@create.vegas
SUMMARY:Always back to Nevada: Craig Sheppard and art at the University of Nevada\, Reno
DESCRIPTION:The John and Geraldine Lilley Museum of Art at the University of Nevada\, Reno proudly announces its exhibition\, “Always back to Nevada” Craig Sheppard and art at the University of Nevada\, Reno”\, a curatorial project opening Dec. 9\, 2025\, through April 26\, 2026 at the Northeastern Nevada Museum. Curated by executive director and chief curator Stephanie Gibson\, “Always back to Nevada” showcases the constant oscillation of styles and experimental Nevada-centric works of the university’s Sheppard Gallery founding collector\, Craig Sheppard. \nImage: Craig Sheppard\, The Couriers\, oil on canvas\, n.d.\, collection of the John and Geraldine Lilley Museum of Art
URL:https://create.vegas/event/always-back-to-nevada-craig-sheppard-and-art-at-the-university-of-nevada-reno-120/
LOCATION:Northeastern Nevada Museum\, 1515 Idaho St.\, Elko\, NV\, 89801\, United States
CATEGORIES:Exhibit,Performing Arts
ATTACH;FMTTYPE=image/jpeg:https://create.vegas/wp-content/uploads/2025/11/CS_479_crop-scaled-m8tKmb.jpg
ORGANIZER;CN="John and Geraldine Lilley Museum of Art":MAILTO:thelilley@unr.edu
END:VEVENT
END:VCALENDAR