BEGIN:VCALENDAR
VERSION:2.0
PRODID:-//Create.Vegas - ECPv6.15.20//NONSGML v1.0//EN
CALSCALE:GREGORIAN
METHOD:PUBLISH
X-ORIGINAL-URL:https://create.vegas
X-WR-CALDESC:Events for Create.Vegas
REFRESH-INTERVAL;VALUE=DURATION:PT1H
X-Robots-Tag:noindex
X-PUBLISHED-TTL:PT1H
BEGIN:VTIMEZONE
TZID:America/Los_Angeles
BEGIN:DAYLIGHT
TZOFFSETFROM:-0800
TZOFFSETTO:-0700
TZNAME:PDT
DTSTART:20250309T100000
END:DAYLIGHT
BEGIN:STANDARD
TZOFFSETFROM:-0700
TZOFFSETTO:-0800
TZNAME:PST
DTSTART:20251102T090000
END:STANDARD
BEGIN:DAYLIGHT
TZOFFSETFROM:-0800
TZOFFSETTO:-0700
TZNAME:PDT
DTSTART:20260308T100000
END:DAYLIGHT
BEGIN:STANDARD
TZOFFSETFROM:-0700
TZOFFSETTO:-0800
TZNAME:PST
DTSTART:20261101T090000
END:STANDARD
BEGIN:DAYLIGHT
TZOFFSETFROM:-0800
TZOFFSETTO:-0700
TZNAME:PDT
DTSTART:20270314T100000
END:DAYLIGHT
BEGIN:STANDARD
TZOFFSETFROM:-0700
TZOFFSETTO:-0800
TZNAME:PST
DTSTART:20271107T090000
END:STANDARD
END:VTIMEZONE
BEGIN:VEVENT
DTSTART;TZID=America/Los_Angeles:20260404T120000
DTEND;TZID=America/Los_Angeles:20260404T160000
DTSTAMP:20260422T084104
CREATED:20260326T230436Z
LAST-MODIFIED:20260326T230436Z
UID:10034197-1775304000-1775318400@create.vegas
SUMMARY:Live Arts Institute presents Beyond the Neon Dance Festival
DESCRIPTION:Experience vibrant artistry this spring! In collaboration with Live Arts Collective and a dynamic consortium of dance artists and organizations\, these evening concerts will feature some of the city’s most innovative and respected creatives. Enhance your experience and explore a rich variety of movement styles in a master class series\, April 4\, noon-4 p.m. Witness a vision Beyond the Neon unfold as we unite to celebrate the beautiful expression of dance.
URL:https://create.vegas/event/live-arts-institute-presents-beyond-the-neon-dance-festival-2/
LOCATION:West Las Vegas Arts Center\, 947 West Lake Mead Boulevard\, Las Vegas\, NV\, 89106\, United States
CATEGORIES:Festival,Performing,Performing Arts
ATTACH;FMTTYPE=image/jpeg:https://create.vegas/wp-content/uploads/2026/03/Live-Arts-Dance-Fest-2026_800x500-juquae.jpg
END:VEVENT
BEGIN:VEVENT
DTSTART;TZID=America/Los_Angeles:20260404T193000
DTEND;TZID=America/Los_Angeles:20260404T213000
DTSTAMP:20260422T084104
CREATED:20260326T230436Z
LAST-MODIFIED:20260326T230436Z
UID:10034198-1775331000-1775338200@create.vegas
SUMMARY:Live Arts Institute presents Beyond the Neon Dance Festival
DESCRIPTION:Experience vibrant artistry this spring! In collaboration with Live Arts Collective and a dynamic consortium of dance artists and organizations\, these evening concerts will feature some of the city’s most innovative and respected creatives. Enhance your experience and explore a rich variety of movement styles in a master class series\, April 4\, noon-4 p.m. Witness a vision Beyond the Neon unfold as we unite to celebrate the beautiful expression of dance.
URL:https://create.vegas/event/live-arts-institute-presents-beyond-the-neon-dance-festival-3/
LOCATION:West Las Vegas Arts Center\, 947 West Lake Mead Boulevard\, Las Vegas\, NV\, 89106\, United States
CATEGORIES:Festival,Performing,Performing Arts
ATTACH;FMTTYPE=image/jpeg:https://create.vegas/wp-content/uploads/2026/03/Live-Arts-Dance-Fest-2026_800x500-juquae.jpg
END:VEVENT
END:VCALENDAR