BEGIN:VCALENDAR
VERSION:2.0
PRODID:-//Create.Vegas - ECPv6.15.20//NONSGML v1.0//EN
CALSCALE:GREGORIAN
METHOD:PUBLISH
X-WR-CALNAME:Create.Vegas
X-ORIGINAL-URL:https://create.vegas
X-WR-CALDESC:Events for Create.Vegas
REFRESH-INTERVAL;VALUE=DURATION:PT1H
X-Robots-Tag:noindex
X-PUBLISHED-TTL:PT1H
BEGIN:VTIMEZONE
TZID:America/Los_Angeles
BEGIN:DAYLIGHT
TZOFFSETFROM:-0800
TZOFFSETTO:-0700
TZNAME:PDT
DTSTART:20250309T100000
END:DAYLIGHT
BEGIN:STANDARD
TZOFFSETFROM:-0700
TZOFFSETTO:-0800
TZNAME:PST
DTSTART:20251102T090000
END:STANDARD
BEGIN:DAYLIGHT
TZOFFSETFROM:-0800
TZOFFSETTO:-0700
TZNAME:PDT
DTSTART:20260308T100000
END:DAYLIGHT
BEGIN:STANDARD
TZOFFSETFROM:-0700
TZOFFSETTO:-0800
TZNAME:PST
DTSTART:20261101T090000
END:STANDARD
BEGIN:DAYLIGHT
TZOFFSETFROM:-0800
TZOFFSETTO:-0700
TZNAME:PDT
DTSTART:20270314T100000
END:DAYLIGHT
BEGIN:STANDARD
TZOFFSETFROM:-0700
TZOFFSETTO:-0800
TZNAME:PST
DTSTART:20271107T090000
END:STANDARD
END:VTIMEZONE
BEGIN:VEVENT
DTSTART;TZID=America/Los_Angeles:20260403T100000
DTEND;TZID=America/Los_Angeles:20260403T160000
DTSTAMP:20260422T020710
CREATED:20260326T230345Z
LAST-MODIFIED:20260326T230345Z
UID:10033964-1775210400-1775232000@create.vegas
SUMMARY:International Women’s Month Sierra Arts\, Reno “We Are Our Words”
DESCRIPTION:Sierra Arts & Calligrapher/Photographer Carol Foldvary-Anderson Honoring International Women’s Month \nInspiring quotes written in calligraphy and beautifully photographed. Words on navigating life from the wisdom of exceptional women. Truth seekers from different cultures and eras. Their words and actions defined their life trials\, viewpoints and existence. Their life and words have inspired women to achieve greatness themselves. \nShowing March 9-April 6\, 2026. \nMeet the Artist/Calligrapher/Photographer Foldvary-Anderson on Saturday\, March 28 1-3 p.m.  The original project was honored with generous grant funding in 2024 through the Nevada Arts Council and the National Endowment for the Arts.
URL:https://create.vegas/event/international-womens-month-sierra-arts-reno-we-are-our-words-7/
LOCATION:Sierra Arts Foundation\, 17 S. Virginia St. #120\, Reno\, NV\, 89501\, United States
CATEGORIES:Exhibit,Family Friendly,Literary,Performing Arts,Reception,Visual
ATTACH;FMTTYPE=image/png:https://create.vegas/wp-content/uploads/2026/03/2026-We-Are-Our-Words-SAF-5PdonK.png
ORGANIZER;CN="Sierra Arts Foundation":MAILTO:val@sierraarts.org
END:VEVENT
BEGIN:VEVENT
DTSTART;TZID=America/Los_Angeles:20260403T120000
DTEND;TZID=America/Los_Angeles:20260403T180000
DTSTAMP:20260422T020710
CREATED:20260326T230347Z
LAST-MODIFIED:20260326T230347Z
UID:10033969-1775217600-1775239200@create.vegas
SUMMARY:Yari Ostovany – Paintings | Savage Mystic Gallery\, Reno | April 2–25\, 2026
DESCRIPTION:Savage Mystic Gallery in Reno\, Nevada\, is pleased to present “Yari Ostovany: Paintings\,” a solo exhibition of works by abstract painter Yari Ostovany\, on view April 2 through April 25\, 2026. \nOstovany’s paintings explore the expressive possibilities of abstraction through layered color\, gestural mark-making\, and luminous surfaces. Drawing on influences ranging from the spiritual traditions of Persian art and poetry to the legacy of Western abstraction\, his work creates contemplative visual spaces where intuition\, memory\, and presence converge. \nWorking primarily in oil on canvas\, Ostovany builds his paintings through successive layers of color and texture. Forms emerge\, dissolve\, and reappear across the surface\, suggesting shifting fields of energy\, atmosphere\, and light. \nOstovany studied art as an undergraduate at the University of Nevada\, Reno\, and received his Master of Fine Arts from the San Francisco Art Institute in 1995. His work has been exhibited widely in the United States and internationally\, including exhibitions in Paris\, London\, Cologne\, New York\, Los Angeles\, and Tehran. \nThe exhibition will conclude with an artist reception on April 25 from 6–9 p.m. Visitors will have an opportunity to meet the artist and view the exhibition on its final day. \nExhibition Details: \nYari Ostovany: Paintings\nSavage Mystic Gallery\n836 E Second Street\nReno\, NV 89502 \nApril 2 through April 25\, 2026\nArtist Reception: April 25\, 6–9 p.m. \nsavagemysticart.com\n775-444-4605
URL:https://create.vegas/event/yari-ostovany-paintings-savage-mystic-gallery-reno-april-2-25-2026-2/
LOCATION:Savage Mystic Gallery\, 836 E. Second St.\, Reno\, NV\, 89502\, United States
CATEGORIES:Exhibit,Performing Arts
ATTACH;FMTTYPE=image/png:https://create.vegas/wp-content/uploads/2026/03/Yari-Ostovany-@-Savage-Mystic-Gallery-2026-FL4Spc.png
ORGANIZER;CN="Savage Mystic Gallery":MAILTO:savagemysticart@gmail.com
END:VEVENT
END:VCALENDAR