BEGIN:VCALENDAR
VERSION:2.0
PRODID:-//Create.Vegas - ECPv6.15.20//NONSGML v1.0//EN
CALSCALE:GREGORIAN
METHOD:PUBLISH
X-WR-CALNAME:Create.Vegas
X-ORIGINAL-URL:https://create.vegas
X-WR-CALDESC:Events for Create.Vegas
REFRESH-INTERVAL;VALUE=DURATION:PT1H
X-Robots-Tag:noindex
X-PUBLISHED-TTL:PT1H
BEGIN:VTIMEZONE
TZID:America/Los_Angeles
BEGIN:DAYLIGHT
TZOFFSETFROM:-0800
TZOFFSETTO:-0700
TZNAME:PDT
DTSTART:20240310T100000
END:DAYLIGHT
BEGIN:STANDARD
TZOFFSETFROM:-0700
TZOFFSETTO:-0800
TZNAME:PST
DTSTART:20241103T090000
END:STANDARD
BEGIN:DAYLIGHT
TZOFFSETFROM:-0800
TZOFFSETTO:-0700
TZNAME:PDT
DTSTART:20250309T100000
END:DAYLIGHT
BEGIN:STANDARD
TZOFFSETFROM:-0700
TZOFFSETTO:-0800
TZNAME:PST
DTSTART:20251102T090000
END:STANDARD
BEGIN:DAYLIGHT
TZOFFSETFROM:-0800
TZOFFSETTO:-0700
TZNAME:PDT
DTSTART:20260308T100000
END:DAYLIGHT
BEGIN:STANDARD
TZOFFSETFROM:-0700
TZOFFSETTO:-0800
TZNAME:PST
DTSTART:20261101T090000
END:STANDARD
END:VTIMEZONE
BEGIN:VEVENT
DTSTART;TZID=America/Los_Angeles:20251204T090000
DTEND;TZID=America/Los_Angeles:20251204T160000
DTSTAMP:20260422T105854
CREATED:20251126T222523Z
LAST-MODIFIED:20251126T222523Z
UID:10031567-1764838800-1764864000@create.vegas
SUMMARY:Art With Nature Art
DESCRIPTION:Nov. 17 – Dec. 23\, 2025  \nArt Reception: Nov. 20\, 2025\, 5-7 p.m.  \nArt with Nature places emphasis on the basics of art-making. This means engaging creatively with an ecological and no-waste approach – refuse\, reduce\, reuse\, recycle\, in that order of priority. Art with Nature is about making art with nature\, creating positively and sustainably with our environment and\, by extension\, ourselves.  \nArt with Nature is an exhibit that showcases artwork by the children of Desert Peach Montessori School. Students made art with natural and upcycled materials\, following the lessons of teaching artist Zoe Bray. All art was constructed outside\, under varying weather conditions\, to the children’s delight.  \nDesert Peach is a member of the Wildflower Network of schools. Wildflower is an ecosystem of decentralized Montessori micro-schools that support children\, teachers\, and parents. Wildflower aspires to give all children and families the opportunity to choose high-quality\, beautiful learning environments as they follow life’s unfolding journey. Desert Peach Montessori School offers equitable access to a nurturing\, authentic Montessori environment. They inspire curiosity\, emotional intelligence\, and a love for learning while fostering independence\, peace\, and community.  \nThis exhibit will take place at the Gallery East. Located in McKinley Arts & Culture Center\, Gallery East is one of three galleries operated by the City of Reno. To learn more please visit: https://www.reno.gov/community/arts-culture/city-art-galleries  
URL:https://create.vegas/event/art-with-nature-art-8/
LOCATION:McKinley Arts  and Cultural Center\, 925 Riverside Dr.\, Reno\, NV\, 89503\, United States
CATEGORIES:Exhibit,Family Friendly,Performing Arts,Reception,Visual
ATTACH;FMTTYPE=image/jpeg:https://create.vegas/wp-content/uploads/2025/11/ZoeBrayEcoKidsArtFacebookJPG-scaled-05GguI.jpg
ORGANIZER;CN="City of Reno":MAILTO:publicart@reno.gov
END:VEVENT
END:VCALENDAR