BEGIN:VCALENDAR
VERSION:2.0
PRODID:-//Create.Vegas - ECPv6.15.20//NONSGML v1.0//EN
CALSCALE:GREGORIAN
METHOD:PUBLISH
X-ORIGINAL-URL:https://create.vegas
X-WR-CALDESC:Events for Create.Vegas
REFRESH-INTERVAL;VALUE=DURATION:PT1H
X-Robots-Tag:noindex
X-PUBLISHED-TTL:PT1H
BEGIN:VTIMEZONE
TZID:America/Los_Angeles
BEGIN:DAYLIGHT
TZOFFSETFROM:-0800
TZOFFSETTO:-0700
TZNAME:PDT
DTSTART:20250309T100000
END:DAYLIGHT
BEGIN:STANDARD
TZOFFSETFROM:-0700
TZOFFSETTO:-0800
TZNAME:PST
DTSTART:20251102T090000
END:STANDARD
BEGIN:DAYLIGHT
TZOFFSETFROM:-0800
TZOFFSETTO:-0700
TZNAME:PDT
DTSTART:20260308T100000
END:DAYLIGHT
BEGIN:STANDARD
TZOFFSETFROM:-0700
TZOFFSETTO:-0800
TZNAME:PST
DTSTART:20261101T090000
END:STANDARD
BEGIN:DAYLIGHT
TZOFFSETFROM:-0800
TZOFFSETTO:-0700
TZNAME:PDT
DTSTART:20270314T100000
END:DAYLIGHT
BEGIN:STANDARD
TZOFFSETFROM:-0700
TZOFFSETTO:-0800
TZNAME:PST
DTSTART:20271107T090000
END:STANDARD
END:VTIMEZONE
BEGIN:VEVENT
DTSTART;TZID=America/Los_Angeles:20260314T190000
DTEND;TZID=America/Los_Angeles:20260314T210000
DTSTAMP:20260421T221714
CREATED:20260224T230445Z
LAST-MODIFIED:20260224T230445Z
UID:10033401-1773514800-1773522000@create.vegas
SUMMARY:The Redeemer Tour
DESCRIPTION:Celebrate Easter by experiencing “The Redeemer: Music on the Life of Jesus the Christ.” This profoundly spiritual and stirring show is centered around the life and redemptive mission of The Redeemer Jesus Christ. \nGrammy-nominated violinist Jenny Oaks Baker\, Emmy Award-winning composer and conductor Kurt Bestor\, acclaimed narrator and tenor Dallyn Vail Bayles\, Tony Award-winning soprano Lisa Hopkins Seegmiller\, baritone soloist Preston Yates\, and cellist Nicole Pinnell join to present this glorious multi-media musical journey. Audiences will be thrilled and inspired by beloved hymns\, soul-filling original compositions\, and magnificent selections from Handel’s Messiah. \nThe Redeemer 2026 Tour is presented by SoulFill Music Foundation and proud to support #GreaterLove.
URL:https://create.vegas/event/the-redeemer-tour/
LOCATION:Artemus W. Ham Concert Hall\, 4505 S. Maryland Pkwy\, Las Vegas\, NV\, 89154\, United States
CATEGORIES:Family Friendly,Performing,Performing Arts
ATTACH;FMTTYPE=image/png:https://create.vegas/wp-content/uploads/2026/02/Rede26_FB-Banner_851x330_LasVegas-3uGWW4.png
END:VEVENT
END:VCALENDAR