BEGIN:VCALENDAR
VERSION:2.0
PRODID:-//Create.Vegas - ECPv6.15.20//NONSGML v1.0//EN
CALSCALE:GREGORIAN
METHOD:PUBLISH
X-WR-CALNAME:Create.Vegas
X-ORIGINAL-URL:https://create.vegas
X-WR-CALDESC:Events for Create.Vegas
REFRESH-INTERVAL;VALUE=DURATION:PT1H
X-Robots-Tag:noindex
X-PUBLISHED-TTL:PT1H
BEGIN:VTIMEZONE
TZID:America/Los_Angeles
BEGIN:DAYLIGHT
TZOFFSETFROM:-0800
TZOFFSETTO:-0700
TZNAME:PDT
DTSTART:20250309T100000
END:DAYLIGHT
BEGIN:STANDARD
TZOFFSETFROM:-0700
TZOFFSETTO:-0800
TZNAME:PST
DTSTART:20251102T090000
END:STANDARD
BEGIN:DAYLIGHT
TZOFFSETFROM:-0800
TZOFFSETTO:-0700
TZNAME:PDT
DTSTART:20260308T100000
END:DAYLIGHT
BEGIN:STANDARD
TZOFFSETFROM:-0700
TZOFFSETTO:-0800
TZNAME:PST
DTSTART:20261101T090000
END:STANDARD
BEGIN:DAYLIGHT
TZOFFSETFROM:-0800
TZOFFSETTO:-0700
TZNAME:PDT
DTSTART:20270314T100000
END:DAYLIGHT
BEGIN:STANDARD
TZOFFSETFROM:-0700
TZOFFSETTO:-0800
TZNAME:PST
DTSTART:20271107T090000
END:STANDARD
END:VTIMEZONE
BEGIN:VEVENT
DTSTART;TZID=America/Los_Angeles:20260416T090000
DTEND;TZID=America/Los_Angeles:20260416T160000
DTSTAMP:20260421T235154
CREATED:20260326T230411Z
LAST-MODIFIED:20260326T230411Z
UID:10034086-1776330000-1776355200@create.vegas
SUMMARY:“At the Heart of Nevada: Basin and Range”
DESCRIPTION:Curated By: Julian Kilker\, Checko Salgado\, and Paula Garrett   \nFeb. 23- April 17\, 2026  \nReception: Wednesday\, March 4\, 2026\, 5-7 p.m.   \nOn the 10-year anniversary of the Basin and Range National Monument\, three friends curated a documentary photography and video exhibit documenting this remote region of Nevada—one located several hours by car north of Las Vegas and Southeast of Reno. The monument features 1\,100 square miles of spectacular undeveloped mountains and valleys in southeastern Nevada\, and its protected status preserves geological and historical features for future generations while continuing to provide access for recreation\, grazing\, and military training.   \nThe collaboration behind this exhibit echoes the cooperation among Nevadan volunteers\, artists\, researchers\, locals\, and visitors who enjoy and help protect our state’s wealth. Basin and Range National Monument is the result of an innovative collaboration among multiple stakeholders. At the Heart of Nevada parallels this creation\, focusing on multiple uses of the land and collaborations among these stakeholders. Among the photographs and videos by multiple contributors are representations of geology and history\, ranching\, volunteering\, recreation\, and artistic and military engagement. Its curators\, board members of the non-profit organization Friends of Basin and Range\, help ensure protection of the ecological\, cultural\, historic\, and recreational resources of the Monument area through community engagement\, advocacy\, interpretive and educational programming\, support of academic research\, site stewardship\, and restoration efforts.  \nFor more information about the Basin & Range National Monument visit https://www.friendsofbasinandrange.com.   \nThe Metro Gallery\, located on the first floor of City of Reno City Hall\, is one of three galleries operated by the City of Reno. To learn more please visit: https://www.reno.gov/community/arts-culture/city-art-galleries 
URL:https://create.vegas/event/at-the-heart-of-nevada-basin-and-range-30/
LOCATION:City Hall Metro Gallery\, 1 E. First St.\, Reno\, NV\, 89501\, United States
CATEGORIES:Performing Arts,Visual
ATTACH;FMTTYPE=image/jpeg:https://create.vegas/wp-content/uploads/2026/02/BasinRange2026FACEBOOKJPG-2-scaled-qU32yC.jpg
ORGANIZER;CN="City of Reno":MAILTO:publicart@reno.gov
END:VEVENT
BEGIN:VEVENT
DTSTART;TZID=America/Los_Angeles:20260416T120000
DTEND;TZID=America/Los_Angeles:20260416T160000
DTSTAMP:20260421T235154
CREATED:20260326T230412Z
LAST-MODIFIED:20260326T230412Z
UID:10034093-1776340800-1776355200@create.vegas
SUMMARY:Abstractly Thinking
DESCRIPTION:Join us at the Artists Co-op for “Abstractly Thinking”\n\nApril 1-30\, 2026\n\nGuest Artist: Trina Craig\n\nArtist of the Month: Michaele Tristram\n\nConsignment Artist of the Month: Sharon Randall\n\nReception: Sunday\, April 12\, from noon-4 p.m.\n\nFind out what our abstract artists are thinking and doing. There will be images you have never seen before by our talented community of creative artists. Come enjoy the art\, the company\, the food\, and the wine.
URL:https://create.vegas/event/abstractly-thinking-5/
LOCATION:Artist Co-op Gallery of Reno\, 627 Mill St.\, Reno\, NV\, 89505\, United States
CATEGORIES:Exhibit,Family Friendly,Performing Arts,Reception,Visual
ATTACH;FMTTYPE=image/jpeg:https://create.vegas/wp-content/uploads/2026/03/Abstractly-Thinking-2026-Square-for-Web-004-IAvaXZ.jpg
END:VEVENT
BEGIN:VEVENT
DTSTART;TZID=America/Los_Angeles:20260416T120000
DTEND;TZID=America/Los_Angeles:20260416T180000
DTSTAMP:20260421T235154
CREATED:20260326T230412Z
LAST-MODIFIED:20260326T230412Z
UID:10034092-1776340800-1776362400@create.vegas
SUMMARY:Yari Ostovany – Paintings | Savage Mystic Gallery\, Reno | April 2–25\, 2026
DESCRIPTION:Savage Mystic Gallery in Reno\, Nevada\, is pleased to present “Yari Ostovany: Paintings\,” a solo exhibition of works by abstract painter Yari Ostovany\, on view April 2 through April 25\, 2026. \nOstovany’s paintings explore the expressive possibilities of abstraction through layered color\, gestural mark-making\, and luminous surfaces. Drawing on influences ranging from the spiritual traditions of Persian art and poetry to the legacy of Western abstraction\, his work creates contemplative visual spaces where intuition\, memory\, and presence converge. \nWorking primarily in oil on canvas\, Ostovany builds his paintings through successive layers of color and texture. Forms emerge\, dissolve\, and reappear across the surface\, suggesting shifting fields of energy\, atmosphere\, and light. \nOstovany studied art as an undergraduate at the University of Nevada\, Reno\, and received his Master of Fine Arts from the San Francisco Art Institute in 1995. His work has been exhibited widely in the United States and internationally\, including exhibitions in Paris\, London\, Cologne\, New York\, Los Angeles\, and Tehran. \nThe exhibition will conclude with an artist reception on April 25 from 6–9 p.m. Visitors will have an opportunity to meet the artist and view the exhibition on its final day. \nExhibition Details: \nYari Ostovany: Paintings\nSavage Mystic Gallery\n836 E Second Street\nReno\, NV 89502 \nApril 2 through April 25\, 2026\nArtist Reception: April 25\, 6–9 p.m. \nsavagemysticart.com\n775-444-4605
URL:https://create.vegas/event/yari-ostovany-paintings-savage-mystic-gallery-reno-april-2-25-2026-15/
LOCATION:Savage Mystic Gallery\, 836 E. Second St.\, Reno\, NV\, 89502\, United States
CATEGORIES:Exhibit,Performing Arts
ATTACH;FMTTYPE=image/png:https://create.vegas/wp-content/uploads/2026/03/Yari-Ostovany-@-Savage-Mystic-Gallery-2026-FL4Spc.png
ORGANIZER;CN="Savage Mystic Gallery":MAILTO:savagemysticart@gmail.com
END:VEVENT
END:VCALENDAR