BEGIN:VCALENDAR
VERSION:2.0
PRODID:-//Create.Vegas - ECPv6.15.20//NONSGML v1.0//EN
CALSCALE:GREGORIAN
METHOD:PUBLISH
X-WR-CALNAME:Create.Vegas
X-ORIGINAL-URL:https://create.vegas
X-WR-CALDESC:Events for Create.Vegas
REFRESH-INTERVAL;VALUE=DURATION:PT1H
X-Robots-Tag:noindex
X-PUBLISHED-TTL:PT1H
BEGIN:VTIMEZONE
TZID:America/Los_Angeles
BEGIN:DAYLIGHT
TZOFFSETFROM:-0800
TZOFFSETTO:-0700
TZNAME:PDT
DTSTART:20250309T100000
END:DAYLIGHT
BEGIN:STANDARD
TZOFFSETFROM:-0700
TZOFFSETTO:-0800
TZNAME:PST
DTSTART:20251102T090000
END:STANDARD
BEGIN:DAYLIGHT
TZOFFSETFROM:-0800
TZOFFSETTO:-0700
TZNAME:PDT
DTSTART:20260308T100000
END:DAYLIGHT
BEGIN:STANDARD
TZOFFSETFROM:-0700
TZOFFSETTO:-0800
TZNAME:PST
DTSTART:20261101T090000
END:STANDARD
BEGIN:DAYLIGHT
TZOFFSETFROM:-0800
TZOFFSETTO:-0700
TZNAME:PDT
DTSTART:20270314T100000
END:DAYLIGHT
BEGIN:STANDARD
TZOFFSETFROM:-0700
TZOFFSETTO:-0800
TZNAME:PST
DTSTART:20271107T090000
END:STANDARD
END:VTIMEZONE
BEGIN:VEVENT
DTSTART;TZID=America/Los_Angeles:20260817T000000
DTEND;TZID=America/Los_Angeles:20260817T235959
DTSTAMP:20260423T041544
CREATED:20250509T171907Z
LAST-MODIFIED:20250807T173410Z
UID:10028293-1786924800-1787011199@create.vegas
SUMMARY:8pm/$5 Door: Las Vegues Trio
DESCRIPTION:
URL:https://create.vegas/event/hold-las-vegs-trio-55/
LOCATION:NV
CATEGORIES:Rock & Punk
END:VEVENT
BEGIN:VEVENT
DTSTART;TZID=America/Los_Angeles:20260817T190000
DTEND;TZID=America/Los_Angeles:20260817T210000
DTSTAMP:20260423T041544
CREATED:20260418T133324Z
LAST-MODIFIED:20260419T064751Z
UID:10034426-1786993200-1787000400@create.vegas
SUMMARY:PRIDE Skate
DESCRIPTION:Join Las Vegas PRIDE for a Substance-Free PRIDE Night at Crystal Palace Rancho. Each admission includes skating for one and a juice box!\n\n\nWelcome to Las Vegas PRIDE Skate Night! Get ready to roll into a night of fun\, music\, and pride at Crystal Palace Rancho. Join us Mon\, August 17th\, 2026 at 7:00 PM! \n \nDon’t miss out on this exciting event where everyone is welcome to join in on the fun! \n \nAll ages welcome! \nOnline Pre-sale $5/each \nAt the door $20/each \n \nEach admission includes skating for one\, a juice box\, & 2 slices of pizza! (*while supplies last) \n \n*Ticket sales benefit Las Vegas PRIDE a local 501(c)(3) non-profit uplifting the LGBTQIA+ community of Southern Nevada
URL:https://create.vegas/event/pride-skate-6/
LOCATION:Crystal Palace Skating Center\, 3901 North Rancho Drive\, Las Vegas\, NV\, 89130\, United States
CATEGORIES:Community Event
ATTACH;FMTTYPE=image/jpeg:https://create.vegas/wp-content/uploads/2026/04/184b1f41e9ec0a6a99e912353bcb92de.jpg
END:VEVENT
BEGIN:VEVENT
DTSTART;TZID=America/Los_Angeles:20260818T000000
DTEND;TZID=America/Los_Angeles:20260818T235959
DTSTAMP:20260423T041544
CREATED:20240915T022908Z
LAST-MODIFIED:20260405T024749Z
UID:10023472-1787011200-1787097599@create.vegas
SUMMARY:7PM: Drinks & Dragons
DESCRIPTION:A bi-weekly D&D one-shot with booze.Written and produced by @desertionclubExclusively at @reddwarf_lv
URL:https://create.vegas/event/7pm-drinks-dragons-dnd-night-74/
LOCATION:NV
END:VEVENT
BEGIN:VEVENT
DTSTART;TZID=America/Los_Angeles:20260821T183000
DTEND;TZID=America/Los_Angeles:20260821T200000
DTSTAMP:20260423T041544
CREATED:20251105T170744Z
LAST-MODIFIED:20251105T170744Z
UID:10030606-1787337000-1787342400@create.vegas
SUMMARY:Chase Brown's Vegas Country
DESCRIPTION:The Singing Cowboy performs hits from every decade to get you out on the floor.
URL:https://create.vegas/event/chase-browns-vegas-country-127/
LOCATION:450 Fremont St #380\, 450 Fremont Street\, #380\, Las Vegas\, NV\, 89101\, United States
CATEGORIES:Performing Arts
ATTACH;FMTTYPE=image/jpeg:https://create.vegas/wp-content/uploads/2025/11/122b3c5366872efce50a220027e44716.jpg
END:VEVENT
BEGIN:VEVENT
DTSTART;TZID=America/Los_Angeles:20260822T120000
DTEND;TZID=America/Los_Angeles:20260822T180000
DTSTAMP:20260423T041544
CREATED:20260327T211830Z
LAST-MODIFIED:20260417T215856Z
UID:10034230-1787400000-1787421600@create.vegas
SUMMARY:ELEVATE PRIDE POOL PARTY
DESCRIPTION:The official Las Vegas PRIDE Pool Party is at the All-New SAHARA!
URL:https://create.vegas/event/elevate-pride-pool-party-13/
LOCATION:Retro Pool\, 2535 Las Vegas Blvd. South\, Las Vegas\, NV\, 89109\, United States
ATTACH;FMTTYPE=image/jpeg:https://create.vegas/wp-content/uploads/2026/03/e2c36fd70071f3fb9df09db5551bbd7d.jpg
END:VEVENT
BEGIN:VEVENT
DTSTART;TZID=America/Los_Angeles:20260823T000000
DTEND;TZID=America/Los_Angeles:20260823T235959
DTSTAMP:20260423T041544
CREATED:20240915T022908Z
LAST-MODIFIED:20260405T024749Z
UID:10023473-1787443200-1787529599@create.vegas
SUMMARY:11AM-4PM: Surf Sunday Brunch: Live Surf/Rock Music
DESCRIPTION:Our weekly Surf Sunday Brunch\nLIVE MUSIC every Sunday 12pm-3pm\nBRUNCH SERVED 11am – 4pm
URL:https://create.vegas/event/11am-4pm-surf-sunday-brunch-live-surf-rock-music-38/
LOCATION:NV
END:VEVENT
BEGIN:VEVENT
DTSTART;TZID=America/Los_Angeles:20260824T000000
DTEND;TZID=America/Los_Angeles:20260824T235959
DTSTAMP:20260423T041544
CREATED:20250509T171908Z
LAST-MODIFIED:20250807T173410Z
UID:10028294-1787529600-1787615999@create.vegas
SUMMARY:8pm/$5 Door: Las Vegues Trio
DESCRIPTION:
URL:https://create.vegas/event/hold-las-vegs-trio-56/
LOCATION:NV
CATEGORIES:Rock & Punk
END:VEVENT
BEGIN:VEVENT
DTSTART;TZID=America/Los_Angeles:20260828T183000
DTEND;TZID=America/Los_Angeles:20260828T200000
DTSTAMP:20260423T041544
CREATED:20251105T170745Z
LAST-MODIFIED:20251105T170745Z
UID:10030607-1787941800-1787947200@create.vegas
SUMMARY:Chase Brown's Vegas Country
DESCRIPTION:The Singing Cowboy performs hits from every decade to get you out on the floor.
URL:https://create.vegas/event/chase-browns-vegas-country-128/
LOCATION:450 Fremont St #380\, 450 Fremont Street\, #380\, Las Vegas\, NV\, 89101\, United States
CATEGORIES:Performing Arts
ATTACH;FMTTYPE=image/jpeg:https://create.vegas/wp-content/uploads/2025/11/122b3c5366872efce50a220027e44716.jpg
END:VEVENT
BEGIN:VEVENT
DTSTART;TZID=America/Los_Angeles:20260829T120000
DTEND;TZID=America/Los_Angeles:20260829T180000
DTSTAMP:20260423T041544
CREATED:20260327T211830Z
LAST-MODIFIED:20260417T215857Z
UID:10034231-1788004800-1788026400@create.vegas
SUMMARY:ELEVATE PRIDE POOL PARTY
DESCRIPTION:The official Las Vegas PRIDE Pool Party is at the All-New SAHARA!
URL:https://create.vegas/event/elevate-pride-pool-party-14/
LOCATION:Retro Pool\, 2535 Las Vegas Blvd. South\, Las Vegas\, NV\, 89109\, United States
ATTACH;FMTTYPE=image/jpeg:https://create.vegas/wp-content/uploads/2026/03/e2c36fd70071f3fb9df09db5551bbd7d.jpg
END:VEVENT
BEGIN:VEVENT
DTSTART;TZID=America/Los_Angeles:20260830T000000
DTEND;TZID=America/Los_Angeles:20260830T235959
DTSTAMP:20260423T041544
CREATED:20240915T022908Z
LAST-MODIFIED:20260405T024749Z
UID:10023474-1788048000-1788134399@create.vegas
SUMMARY:11AM-4PM: Surf Sunday Brunch: Live Surf/Rock Music
DESCRIPTION:Our weekly Surf Sunday Brunch\nLIVE MUSIC every Sunday 12pm-3pm\nBRUNCH SERVED 11am – 4pm
URL:https://create.vegas/event/11am-4pm-surf-sunday-brunch-live-surf-rock-music-39/
LOCATION:NV
END:VEVENT
BEGIN:VEVENT
DTSTART;TZID=America/Los_Angeles:20260831T000000
DTEND;TZID=America/Los_Angeles:20260831T235959
DTSTAMP:20260423T041544
CREATED:20250509T171908Z
LAST-MODIFIED:20250807T173410Z
UID:10028295-1788134400-1788220799@create.vegas
SUMMARY:8pm/$5 Door: Las Vegues Trio
DESCRIPTION:
URL:https://create.vegas/event/hold-las-vegs-trio-57/
LOCATION:NV
CATEGORIES:Rock & Punk
END:VEVENT
BEGIN:VEVENT
DTSTART;TZID=America/Los_Angeles:20260901T000000
DTEND;TZID=America/Los_Angeles:20260901T235959
DTSTAMP:20260423T041544
CREATED:20240915T022908Z
LAST-MODIFIED:20260405T024749Z
UID:10023475-1788220800-1788307199@create.vegas
SUMMARY:7PM: Drinks & Dragons
DESCRIPTION:A bi-weekly D&D one-shot with booze.Written and produced by @desertionclubExclusively at @reddwarf_lv
URL:https://create.vegas/event/7pm-drinks-dragons-dnd-night-75/
LOCATION:NV
END:VEVENT
BEGIN:VEVENT
DTSTART;TZID=America/Los_Angeles:20260902T193000
DTEND;TZID=America/Los_Angeles:20260902T210000
DTSTAMP:20260423T041544
CREATED:20251105T170801Z
LAST-MODIFIED:20251105T170801Z
UID:10030628-1788377400-1788382800@create.vegas
SUMMARY:Jazz Vegas Orchestra Live
DESCRIPTION:Las Vegas’s hottest big band\, the Jazz Vegas Orchestra (formerly JOI Jazz Orchestra) brings high energy big band jazz back to downtown LV!
URL:https://create.vegas/event/jazz-vegas-orchestra-live-23/
LOCATION:450 Fremont St #380\, 450 Fremont Street\, #380\, Las Vegas\, NV\, 89101\, United States
CATEGORIES:Performing Arts
ATTACH;FMTTYPE=image/jpeg:https://create.vegas/wp-content/uploads/2025/11/c442041b39e09839ec4f53ad8838ab31.jpg
END:VEVENT
BEGIN:VEVENT
DTSTART;TZID=America/Los_Angeles:20260904T113000
DTEND;TZID=America/Los_Angeles:20260904T170000
DTSTAMP:20260423T041544
CREATED:20251219T025044Z
LAST-MODIFIED:20260417T065048Z
UID:10032174-1788521400-1788541200@create.vegas
SUMMARY:Labor Day Weekend Las Vegas Pool Crawl
DESCRIPTION:Receive free entry to the best day clubs in Vegas and a party bus ride with free drinks\, this LDW in Vegas!
URL:https://create.vegas/event/labor-day-weekend-las-vegas-pool-crawl-9/
LOCATION:NV
CATEGORIES:Food & Drink & Fun
ATTACH;FMTTYPE=image/jpeg:https://create.vegas/wp-content/uploads/2025/12/79604c040a1e72869a0c99500b60014d.jpg
END:VEVENT
BEGIN:VEVENT
DTSTART;TZID=America/Los_Angeles:20260904T170000
DTEND;TZID=America/Los_Angeles:20260904T230000
DTSTAMP:20260423T041544
CREATED:20230701T211559Z
LAST-MODIFIED:20250622T135348Z
UID:10010799-1788541200-1788562800@create.vegas
SUMMARY:First Friday
DESCRIPTION:Join us in the arts district on Main Street for the next First Friday\, July 4th 2025 supporting local artists on the Art Walk! \n\n\n\nJuly 4th at 1025 South 1st St. 5pm-11pm \n\n\n\nSpecial note: PLAN to spend YOUR 4th of July with us next month! 5pm-11pm You can see the fireworks from the First Friday event in the arts district that will come from the top of the Plaza Hotel! The First Friday artwalk event is FREE! Support your local artists and small businesses and eat great food from local food trucks! NO FIREWORKS\, SPARKLERS\, FIRECRACKERS\, POP ITS\, GLASS BOTTLES\, OR OUTSIDE ALCOHOL ALLOWED. THANK YOU \n\n\n\nFeatured Artist: July’s Featured artist is LaRon Emcee \n\n\n\nSee live painting with local artists throughout the event curated by ISI Group & Recycled Propaganda \n\n\n\nVisit our residency art gallery inside Art Square Suite 170 resident artists Nancy Good and Andrea Knox \n\n\n\nSpecial Note Preview Thursday July 3rd Andrea Knox Art Exhibit in the resident artist space inside Arts Square \n\n\n\nMusic: Visit local artists on the Church of Bass Stage and visit DJ Eric Roulette. All entertainment starts at 5pm featuring local talent till 11pm. \n\n\n\nSupport our key sponsors: Las Vegas Raiders\, City of Las Vegas\, Jardin\, \, Eric Roy Law Firm\, Verizon\, Don Julio\, The English Hotel\, KTNV 13 \, and Park West Gallery. \n\n\n\nWe are ecstatic to host local culture and community and always consider all proper health and safety protocols each month. \n\n\n\nParking \n\n\n\nHeaded to First Friday? Don’t waste time driving around downtown Las Vegas trying to find a spot. Take advantage of one of our offerings. \n\n\n\nPark & Ride \n\n\n\nPark at the city of Las Vegas parking garage\, 500 S. Main St.\, and take the FREE shuttle to and from First Friday. The shuttle runs from 3 p.m. to midnight. Additional parking at 902 Casino Center and 1025 South First Street\, Arts Square parking lot. Additional parking at 1000 Commerce with a short walk into the event. \n\n\n\nReservable Parking Spots \n\n\n\nWe offer parking throughout downtown that you can reserve in advance. Reserve a spot.  \n\n\n\nWherever you park\, please make sure the spot is clearly signed for public or event parking; never park anywhere that is not.
URL:https://create.vegas/event/first-friday/2026-09-04/
LOCATION:First Friday Las Vegas\, 1025 South 1st Street\, Las Vegas\, NV\, 89101\, United States
CATEGORIES:Art Events, Festivals & Expos,Community Event,Featured
ATTACH;FMTTYPE=image/jpeg:https://create.vegas/wp-content/uploads/2022/11/first-friday-banner.jpg
ORGANIZER;CN="First Friday":MAILTO:firstfridaylv@gmail.com
END:VEVENT
BEGIN:VEVENT
DTSTART;TZID=America/Los_Angeles:20260904T183000
DTEND;TZID=America/Los_Angeles:20260904T200000
DTSTAMP:20260423T041544
CREATED:20251105T170745Z
LAST-MODIFIED:20251105T170745Z
UID:10030608-1788546600-1788552000@create.vegas
SUMMARY:Chase Brown's Vegas Country
DESCRIPTION:The Singing Cowboy performs hits from every decade to get you out on the floor.
URL:https://create.vegas/event/chase-browns-vegas-country-129/
LOCATION:450 Fremont St #380\, 450 Fremont Street\, #380\, Las Vegas\, NV\, 89101\, United States
CATEGORIES:Performing Arts
ATTACH;FMTTYPE=image/jpeg:https://create.vegas/wp-content/uploads/2025/11/122b3c5366872efce50a220027e44716.jpg
END:VEVENT
BEGIN:VEVENT
DTSTART;TZID=America/Los_Angeles:20260904T203000
DTEND;TZID=America/Los_Angeles:20260905T003000
DTSTAMP:20260423T041544
CREATED:20251219T025046Z
LAST-MODIFIED:20260417T065050Z
UID:10032178-1788553800-1788568200@create.vegas
SUMMARY:Labor Day Weekend Las Vegas Bar Crawl
DESCRIPTION:Receive free entry to the best day clubs in Vegas and a party bus ride with free drinks\, this LDW in Vegas!
URL:https://create.vegas/event/labor-day-weekend-las-vegas-bar-crawl/
LOCATION:NV
CATEGORIES:Food & Drink & Fun
ATTACH;FMTTYPE=image/jpeg:https://create.vegas/wp-content/uploads/2025/12/5a5ad6c8613f0f14764e5d18be001aee.jpg
END:VEVENT
BEGIN:VEVENT
DTSTART;TZID=America/Los_Angeles:20260904T213000
DTEND;TZID=America/Los_Angeles:20260905T010000
DTSTAMP:20260423T041544
CREATED:20251219T025047Z
LAST-MODIFIED:20260417T065050Z
UID:10032181-1788557400-1788570000@create.vegas
SUMMARY:Labor Day Weekend Las Vegas Club Crawl
DESCRIPTION:Celebrate LDW in Vegas with the #1 Las Vegas Party Bus Tour!
URL:https://create.vegas/event/labor-day-weekend-las-vegas-club-crawl-9/
LOCATION:NV
CATEGORIES:Food & Drink & Fun
ATTACH;FMTTYPE=image/jpeg:https://create.vegas/wp-content/uploads/2025/12/f4e13aacc8a597e1fd3763f078bb31a8.jpg
END:VEVENT
BEGIN:VEVENT
DTSTART;TZID=America/Los_Angeles:20260905T113000
DTEND;TZID=America/Los_Angeles:20260905T170000
DTSTAMP:20260423T041544
CREATED:20251219T025045Z
LAST-MODIFIED:20260417T065048Z
UID:10032175-1788607800-1788627600@create.vegas
SUMMARY:Labor Day Weekend Las Vegas Pool Crawl
DESCRIPTION:Receive free entry to the best day clubs in Vegas and a party bus ride with free drinks\, this LDW in Vegas!
URL:https://create.vegas/event/labor-day-weekend-las-vegas-pool-crawl-10/
LOCATION:NV
CATEGORIES:Food & Drink & Fun
ATTACH;FMTTYPE=image/jpeg:https://create.vegas/wp-content/uploads/2025/12/79604c040a1e72869a0c99500b60014d.jpg
END:VEVENT
BEGIN:VEVENT
DTSTART;TZID=America/Los_Angeles:20260905T120000
DTEND;TZID=America/Los_Angeles:20260905T180000
DTSTAMP:20260423T041544
CREATED:20260327T211831Z
LAST-MODIFIED:20260417T215857Z
UID:10034232-1788609600-1788631200@create.vegas
SUMMARY:ELEVATE PRIDE POOL PARTY
DESCRIPTION:The official Las Vegas PRIDE Pool Party is at the All-New SAHARA!
URL:https://create.vegas/event/elevate-pride-pool-party-15/
LOCATION:Retro Pool\, 2535 Las Vegas Blvd. South\, Las Vegas\, NV\, 89109\, United States
ATTACH;FMTTYPE=image/jpeg:https://create.vegas/wp-content/uploads/2026/03/e2c36fd70071f3fb9df09db5551bbd7d.jpg
END:VEVENT
BEGIN:VEVENT
DTSTART;TZID=America/Los_Angeles:20260905T203000
DTEND;TZID=America/Los_Angeles:20260906T003000
DTSTAMP:20260423T041544
CREATED:20251219T025046Z
LAST-MODIFIED:20260417T065050Z
UID:10032179-1788640200-1788654600@create.vegas
SUMMARY:Labor Day Weekend Las Vegas Bar Crawl
DESCRIPTION:Receive free entry to the best day clubs in Vegas and a party bus ride with free drinks\, this LDW in Vegas!
URL:https://create.vegas/event/labor-day-weekend-las-vegas-bar-crawl-2/
LOCATION:NV
CATEGORIES:Food & Drink & Fun
ATTACH;FMTTYPE=image/jpeg:https://create.vegas/wp-content/uploads/2025/12/5a5ad6c8613f0f14764e5d18be001aee.jpg
END:VEVENT
BEGIN:VEVENT
DTSTART;TZID=America/Los_Angeles:20260905T213000
DTEND;TZID=America/Los_Angeles:20260906T010000
DTSTAMP:20260423T041544
CREATED:20251219T025048Z
LAST-MODIFIED:20260417T065050Z
UID:10032182-1788643800-1788656400@create.vegas
SUMMARY:Labor Day Weekend Las Vegas Club Crawl
DESCRIPTION:Celebrate LDW in Vegas with the #1 Las Vegas Party Bus Tour!
URL:https://create.vegas/event/labor-day-weekend-las-vegas-club-crawl-10/
LOCATION:NV
CATEGORIES:Food & Drink & Fun
ATTACH;FMTTYPE=image/jpeg:https://create.vegas/wp-content/uploads/2025/12/f4e13aacc8a597e1fd3763f078bb31a8.jpg
END:VEVENT
BEGIN:VEVENT
DTSTART;TZID=America/Los_Angeles:20260906T000000
DTEND;TZID=America/Los_Angeles:20260906T235959
DTSTAMP:20260423T041544
CREATED:20240915T022908Z
LAST-MODIFIED:20260405T024749Z
UID:10023476-1788652800-1788739199@create.vegas
SUMMARY:11AM-4PM: Surf Sunday Brunch: Live Surf/Rock Music
DESCRIPTION:Our weekly Surf Sunday Brunch\nLIVE MUSIC every Sunday 12pm-3pm\nBRUNCH SERVED 11am – 4pm
URL:https://create.vegas/event/11am-4pm-surf-sunday-brunch-live-surf-rock-music-40/
LOCATION:NV
END:VEVENT
BEGIN:VEVENT
DTSTART;TZID=America/Los_Angeles:20260906T100000
DTEND;TZID=America/Los_Angeles:20260906T170000
DTSTAMP:20260423T041544
CREATED:20260124T172000Z
LAST-MODIFIED:20260325T173328Z
UID:10032688-1788688800-1788714000@create.vegas
SUMMARY:Craftmania
DESCRIPTION:Looking for that special unique gift and something FUN to do with your family & friends?  Join us for this fun filled event!\n\n\n🌞 Mark your calendar for Craftmania! 🌞 \n📍WHERE?📍 Veil Pavilion at the Silverton Casino!3333 Blue Diamond Rd\, Las Vegas\, NV 89139 \n❤️ What to Expect ❤️⭐️Unique Vendors⭐️Delicious cottage foods⭐️Unique Gifts💛 Free Admission & Parking  \n💛Free Drawings for great prizes 💛 \n📢 Hey Vendors! Want to get involved in future events? Apply ONLY AT LVCRAFTSHOWS.com.
URL:https://create.vegas/event/craftmania-2/
LOCATION:Veil Pavilion\, 3333 Blue Diamond Road\, Las Vegas\, NV\, 89139\, United States
CATEGORIES:Fairs & Festivals
ATTACH;FMTTYPE=image/jpeg:https://create.vegas/wp-content/uploads/2026/02/e8defd2bc495f1a703341e86b1581519.jpg
END:VEVENT
BEGIN:VEVENT
DTSTART;TZID=America/Los_Angeles:20260906T113000
DTEND;TZID=America/Los_Angeles:20260906T170000
DTSTAMP:20260423T041544
CREATED:20251219T025045Z
LAST-MODIFIED:20260417T065049Z
UID:10032176-1788694200-1788714000@create.vegas
SUMMARY:Labor Day Weekend Las Vegas Pool Crawl
DESCRIPTION:Receive free entry to the best day clubs in Vegas and a party bus ride with free drinks\, this LDW in Vegas!
URL:https://create.vegas/event/labor-day-weekend-las-vegas-pool-crawl-11/
LOCATION:NV
CATEGORIES:Food & Drink & Fun
ATTACH;FMTTYPE=image/jpeg:https://create.vegas/wp-content/uploads/2025/12/79604c040a1e72869a0c99500b60014d.jpg
END:VEVENT
BEGIN:VEVENT
DTSTART;TZID=America/Los_Angeles:20260906T203000
DTEND;TZID=America/Los_Angeles:20260907T003000
DTSTAMP:20260423T041544
CREATED:20251219T025046Z
LAST-MODIFIED:20260417T065050Z
UID:10032180-1788726600-1788741000@create.vegas
SUMMARY:Labor Day Weekend Las Vegas Bar Crawl
DESCRIPTION:Receive free entry to the best day clubs in Vegas and a party bus ride with free drinks\, this LDW in Vegas!
URL:https://create.vegas/event/labor-day-weekend-las-vegas-bar-crawl-3/
LOCATION:NV
CATEGORIES:Food & Drink & Fun
ATTACH;FMTTYPE=image/jpeg:https://create.vegas/wp-content/uploads/2025/12/5a5ad6c8613f0f14764e5d18be001aee.jpg
END:VEVENT
BEGIN:VEVENT
DTSTART;TZID=America/Los_Angeles:20260906T213000
DTEND;TZID=America/Los_Angeles:20260907T010000
DTSTAMP:20260423T041544
CREATED:20251219T025048Z
LAST-MODIFIED:20260417T065050Z
UID:10032183-1788730200-1788742800@create.vegas
SUMMARY:Labor Day Weekend Las Vegas Club Crawl
DESCRIPTION:Celebrate LDW in Vegas with the #1 Las Vegas Party Bus Tour!
URL:https://create.vegas/event/labor-day-weekend-las-vegas-club-crawl-11/
LOCATION:NV
CATEGORIES:Food & Drink & Fun
ATTACH;FMTTYPE=image/jpeg:https://create.vegas/wp-content/uploads/2025/12/f4e13aacc8a597e1fd3763f078bb31a8.jpg
END:VEVENT
BEGIN:VEVENT
DTSTART;TZID=America/Los_Angeles:20260907T000000
DTEND;TZID=America/Los_Angeles:20260907T235959
DTSTAMP:20260423T041544
CREATED:20250509T171908Z
LAST-MODIFIED:20250807T173410Z
UID:10028296-1788739200-1788825599@create.vegas
SUMMARY:8pm/$5 Door: Las Vegues Trio
DESCRIPTION:
URL:https://create.vegas/event/hold-las-vegs-trio-58/
LOCATION:NV
CATEGORIES:Rock & Punk
END:VEVENT
BEGIN:VEVENT
DTSTART;TZID=America/Los_Angeles:20260907T113000
DTEND;TZID=America/Los_Angeles:20260907T170000
DTSTAMP:20260423T041544
CREATED:20251219T025046Z
LAST-MODIFIED:20260417T065049Z
UID:10032177-1788780600-1788800400@create.vegas
SUMMARY:Labor Day Weekend Las Vegas Pool Crawl
DESCRIPTION:Receive free entry to the best day clubs in Vegas and a party bus ride with free drinks\, this LDW in Vegas!
URL:https://create.vegas/event/labor-day-weekend-las-vegas-pool-crawl-12/
LOCATION:NV
CATEGORIES:Food & Drink & Fun
ATTACH;FMTTYPE=image/jpeg:https://create.vegas/wp-content/uploads/2025/12/79604c040a1e72869a0c99500b60014d.jpg
END:VEVENT
BEGIN:VEVENT
DTSTART;TZID=America/Los_Angeles:20260907T203000
DTEND;TZID=America/Los_Angeles:20260908T000000
DTSTAMP:20260423T041544
CREATED:20251128T023605Z
LAST-MODIFIED:20251212T025001Z
UID:10031798-1788813000-1788825600@create.vegas
SUMMARY:Fremont Street Bar Crawl
DESCRIPTION:Fremont Street Bar Crawl gets you exclusive perks at the best bars in Old Vegas.
URL:https://create.vegas/event/fremont-street-bar-crawl-307/
LOCATION:Meeting Venue TBA – Check website for details\, Fremont St\, Las Vegas\, NV\, 89101\, United States
CATEGORIES:Food & Drink & Fun
ATTACH;FMTTYPE=image/jpeg:https://create.vegas/wp-content/uploads/2025/12/6209811cb488331552d7bc6caf142c54.jpg
END:VEVENT
END:VCALENDAR