BEGIN:VCALENDAR
VERSION:2.0
PRODID:-//Create.Vegas - ECPv6.15.20//NONSGML v1.0//EN
CALSCALE:GREGORIAN
METHOD:PUBLISH
X-WR-CALNAME:Create.Vegas
X-ORIGINAL-URL:https://create.vegas
X-WR-CALDESC:Events for Create.Vegas
REFRESH-INTERVAL;VALUE=DURATION:PT1H
X-Robots-Tag:noindex
X-PUBLISHED-TTL:PT1H
BEGIN:VTIMEZONE
TZID:America/Los_Angeles
BEGIN:DAYLIGHT
TZOFFSETFROM:-0800
TZOFFSETTO:-0700
TZNAME:PDT
DTSTART:20250309T100000
END:DAYLIGHT
BEGIN:STANDARD
TZOFFSETFROM:-0700
TZOFFSETTO:-0800
TZNAME:PST
DTSTART:20251102T090000
END:STANDARD
BEGIN:DAYLIGHT
TZOFFSETFROM:-0800
TZOFFSETTO:-0700
TZNAME:PDT
DTSTART:20260308T100000
END:DAYLIGHT
BEGIN:STANDARD
TZOFFSETFROM:-0700
TZOFFSETTO:-0800
TZNAME:PST
DTSTART:20261101T090000
END:STANDARD
BEGIN:DAYLIGHT
TZOFFSETFROM:-0800
TZOFFSETTO:-0700
TZNAME:PDT
DTSTART:20270314T100000
END:DAYLIGHT
BEGIN:STANDARD
TZOFFSETFROM:-0700
TZOFFSETTO:-0800
TZNAME:PST
DTSTART:20271107T090000
END:STANDARD
END:VTIMEZONE
BEGIN:VEVENT
DTSTART;TZID=America/Los_Angeles:20260523T203000
DTEND;TZID=America/Los_Angeles:20260524T003000
DTSTAMP:20260423T075023
CREATED:20260123T035150Z
LAST-MODIFIED:20260417T065037Z
UID:10032648-1779568200-1779582600@create.vegas
SUMMARY:Fremont Street Bar Crawl
DESCRIPTION:Fremont Street Bar Crawl gets you exclusive perks at the best bars in Old Vegas.
URL:https://create.vegas/event/fremont-street-bar-crawl-360/
LOCATION:Meeting Venue TBA – Check website for details\, Fremont St\, Las Vegas\, NV\, 89101\, United States
CATEGORIES:Food & Drink & Fun
ATTACH;FMTTYPE=image/jpeg:https://create.vegas/wp-content/uploads/2025/12/6209811cb488331552d7bc6caf142c54.jpg
END:VEVENT
BEGIN:VEVENT
DTSTART;TZID=America/Los_Angeles:20260523T210000
DTEND;TZID=America/Los_Angeles:20260523T235900
DTSTAMP:20260423T075023
CREATED:20260410T064854Z
LAST-MODIFIED:20260417T070343Z
UID:10034376-1779570000-1779580740@create.vegas
SUMMARY:LV/DC – Sin City’s AC/DC Tribute Live at Copa Room – May 23
DESCRIPTION:LV/DC (AC/DC Tribute) live May 23. Doors 8PM\, music 9PM. $10 cover\, drink specials\, free parking.\n\n\n\nGet ready to rock as LV/DC – Sin City’s premier AC/DC tribute – brings the thunder to Copa Room on Saturday\, May 23rd. \nDoors open at 8PM with music starting at 9PM. For a $10 cover\, experience the electrifying energy\, iconic riffs\, and powerhouse vocals that made AC/DC one of the greatest rock bands of all time. \nLV/DC delivers all the classics—from “Highway to Hell” to “Back in Black”—with the raw intensity and stage presence that will have you singing and headbanging all night long. \nUpgrade your night with VIP table service and take your concert experience to the next level. VIP tables waive the cover charge\, include a dedicated server\, and every dollar you spend on the table comes right back to you as bar credit—so you’re not paying extra\, you’re just fueling the party. \nReserve a 2-person table for $100 and get $100 in drinks\, or a 4-person table for $200 with $200 in bar credit. It’s the best way to stay comfortable\, skip the line\, and keep the drinks flowing all night. \nCopa Room is the home of Vegas Rock\, featuring $5 Modelo along with tequila and vodka drink specials all night. Always free parking and all-ages shows\, so bring your crew and come ready to rock. \nBig riffs\, big energy\, and a full AC/DC experience—don’t miss LV/DC.
URL:https://create.vegas/event/lv-dc-sin-citys-ac-dc-tribute-live-at-copa-room-may-23/
LOCATION:Copa Room\, 255 East Flamingo Road\, Las Vegas\, NV\, 89169\, United States
CATEGORIES:Jazz & Blues
ATTACH;FMTTYPE=image/jpeg:https://create.vegas/wp-content/uploads/2026/04/e7149c433aaf8e281f75a9d18fa32f24.jpg
END:VEVENT
BEGIN:VEVENT
DTSTART;TZID=America/Los_Angeles:20260523T210000
DTEND;TZID=America/Los_Angeles:20260524T010000
DTSTAMP:20260423T075023
CREATED:20260327T060725Z
LAST-MODIFIED:20260417T065110Z
UID:10034211-1779570000-1779584400@create.vegas
SUMMARY:Las Vegas Strip Club Crawl
DESCRIPTION:Free entry & VIP transportation to the best Strip Clubs in Vegas!
URL:https://create.vegas/event/las-vegas-strip-club-crawl-66/
LOCATION:Caesars Palace\, 3570 South Las Vegas Boulevard\, Paradise\, NV\, 89109\, United States
CATEGORIES:Food & Drink & Fun
ATTACH;FMTTYPE=image/jpeg:https://create.vegas/wp-content/uploads/2026/02/a6afa8ce28b26988a3427189f0ff8ae4.jpg
END:VEVENT
BEGIN:VEVENT
DTSTART;TZID=America/Los_Angeles:20260523T213000
DTEND;TZID=America/Los_Angeles:20260524T010000
DTSTAMP:20260423T075023
CREATED:20251212T025014Z
LAST-MODIFIED:20260417T065046Z
UID:10031975-1779571800-1779584400@create.vegas
SUMMARY:Memorial Day Weekend Las Vegas Club Crawl
DESCRIPTION:Party at the best bars on Fremont Street this Memorial Day Weekend in Vegas!
URL:https://create.vegas/event/memorial-day-weekend-las-vegas-club-crawl-12/
LOCATION:NV
CATEGORIES:Food & Drink & Fun
ATTACH;FMTTYPE=image/jpeg:https://create.vegas/wp-content/uploads/2025/12/985a74afe31fb4cf281163a0b3b88b97.jpg
END:VEVENT
BEGIN:VEVENT
DTSTART;TZID=America/Los_Angeles:20260523T213000
DTEND;TZID=America/Los_Angeles:20260524T010000
DTSTAMP:20260423T075023
CREATED:20260403T062127Z
LAST-MODIFIED:20260417T065031Z
UID:10034273-1779571800-1779584400@create.vegas
SUMMARY:Las Vegas Club Crawl with Party Bus
DESCRIPTION:Party like a VIP at the best clubs in Vegas: Free entry\, and a party bus with free drinks!
URL:https://create.vegas/event/las-vegas-club-crawl-with-party-bus-415/
LOCATION:LA Epic Club Crawls\, Please check our website for starting location\, Las Vegas\, NV\, 89109\, United States
CATEGORIES:Food & Drink & Fun
ATTACH;FMTTYPE=image/jpeg:https://create.vegas/wp-content/uploads/2025/09/54339c18a39f77272fdd2fdb8168bc42.jpg
END:VEVENT
BEGIN:VEVENT
DTSTART;TZID=America/Los_Angeles:20260524T000000
DTEND;TZID=America/Los_Angeles:20260524T235959
DTSTAMP:20260423T075023
CREATED:20240613T224417Z
LAST-MODIFIED:20260405T024748Z
UID:10021206-1779580800-1779667199@create.vegas
SUMMARY:11AM-4PM: Surf Sunday Brunch: Live Surf/Rock Music
DESCRIPTION:Our weekly Surf Sunday Brunch\nLIVE MUSIC every Sunday 12pm-3pm\nBRUNCH SERVED 11am – 4pm
URL:https://create.vegas/event/11am-4pm-surf-sunday-brunch-live-surf-rock-music-25/
LOCATION:NV
END:VEVENT
BEGIN:VEVENT
DTSTART;TZID=America/Los_Angeles:20260524T100000
DTEND;TZID=America/Los_Angeles:20260524T110000
DTSTAMP:20260423T075023
CREATED:20260403T191801Z
LAST-MODIFIED:20260403T191801Z
UID:10034301-1779616800-1779620400@create.vegas
SUMMARY:Fitness on The Green: Mat Workout
DESCRIPTION:Stretch your worries away!\n\n\nStretch your worries away with a complimentary Mat Workout class at The Green\, presented by Lululemon. \n \nLed by skilled professionals\, each class is one hour and perfect for all skill levels. \n \nSpace is first come\, first serve.
URL:https://create.vegas/event/fitness-on-the-green-mat-workout/
LOCATION:The District at Green Valley Ranch\, 2240 Village Walk Drive\, Henderson\, NV\, 89052\, United States
CATEGORIES:Community Event
ATTACH;FMTTYPE=image/jpeg:https://create.vegas/wp-content/uploads/2026/04/182f834291072254cd7647297766bb73.jpg
END:VEVENT
BEGIN:VEVENT
DTSTART;TZID=America/Los_Angeles:20260524T100000
DTEND;TZID=America/Los_Angeles:20260524T170000
DTSTAMP:20260423T075024
CREATED:20260124T171958Z
LAST-MODIFIED:20260325T173328Z
UID:10032682-1779616800-1779642000@create.vegas
SUMMARY:Magnificent Memorial Day Craft & Gift Show
DESCRIPTION:Looking for that special unique gift and something FUN to do with your family & friends?  Join us for this fun filled event!\n\n\nMagnificent Memorial Day Craft & Gift Show \n10AM – 5PM located at Veil Pavilion – 3333 Blue Diamond Rd. \n* FREE admission \n* FREE drawing ticket \n* Unique artists & gift vendors  \n* Drawings hourly \n* FREE parking – park in the garage for easy access \nLike us on Facebook at LV CRAFT SHOWS \nPLEASE NOTE: All Vendor applications are processed via our Vendor portal at LVCraftShows.com.
URL:https://create.vegas/event/magnificent-memorial-day-craft-gift-show-2/
LOCATION:Veil Pavilion\, 3333 Blue Diamond Road\, Las Vegas\, NV\, 89139\, United States
CATEGORIES:Fairs & Festivals
ATTACH;FMTTYPE=image/jpeg:https://create.vegas/wp-content/uploads/2026/02/00ea50f2fcd4520125a8cca5ff1b455e.jpg
END:VEVENT
BEGIN:VEVENT
DTSTART;TZID=America/Los_Angeles:20260524T113000
DTEND;TZID=America/Los_Angeles:20260524T170000
DTSTAMP:20260423T075024
CREATED:20251107T024746Z
LAST-MODIFIED:20260417T065054Z
UID:10031069-1779622200-1779642000@create.vegas
SUMMARY:Las Vegas Pool Crawl
DESCRIPTION:Party at the best pool parties in Las Vegas this summer!
URL:https://create.vegas/event/las-vegas-pool-crawl-212/
LOCATION:Las Vegas Strip\, TBA\, Las Vegas\, NV\, 89109\, United States
CATEGORIES:Food & Drink & Fun
ATTACH;FMTTYPE=image/jpeg:https://create.vegas/wp-content/uploads/2025/09/e51a000afcf0608166fb2e5b19d6d060.jpg
END:VEVENT
BEGIN:VEVENT
DTSTART;TZID=America/Los_Angeles:20260524T113000
DTEND;TZID=America/Los_Angeles:20260524T170000
DTSTAMP:20260423T075024
CREATED:20251212T025011Z
LAST-MODIFIED:20260417T065045Z
UID:10031972-1779622200-1779642000@create.vegas
SUMMARY:Memorial Day Weekend Las Vegas Pool Crawl
DESCRIPTION:Kick off your summer with the hottest Las Vegas Memorial Day Weekend pool parties!
URL:https://create.vegas/event/memorial-day-weekend-las-vegas-pool-crawl-13/
LOCATION:NV
CATEGORIES:Food & Drink & Fun
ATTACH;FMTTYPE=image/jpeg:https://create.vegas/wp-content/uploads/2025/12/59ddee3a247c5e676fab59c6a0877f5b.jpg
END:VEVENT
BEGIN:VEVENT
DTSTART;TZID=America/Los_Angeles:20260524T120000
DTEND;TZID=America/Los_Angeles:20260524T180000
DTSTAMP:20260423T075024
CREATED:20260417T212945Z
LAST-MODIFIED:20260417T215855Z
UID:10034422-1779624000-1779645600@create.vegas
SUMMARY:ELEVATE PRIDE POOL PARTY
DESCRIPTION:The official Las Vegas PRIDE Pool Party is at the All-New SAHARA!
URL:https://create.vegas/event/elevate-pride-pool-party-20/
LOCATION:Retro Pool\, 2535 Las Vegas Blvd. South\, Las Vegas\, NV\, 89109\, United States
ATTACH;FMTTYPE=image/jpeg:https://create.vegas/wp-content/uploads/2026/03/e2c36fd70071f3fb9df09db5551bbd7d.jpg
END:VEVENT
BEGIN:VEVENT
DTSTART;TZID=America/Los_Angeles:20260524T203000
DTEND;TZID=America/Los_Angeles:20260525T003000
DTSTAMP:20260423T075024
CREATED:20251128T023517Z
LAST-MODIFIED:20260417T065045Z
UID:10031792-1779654600-1779669000@create.vegas
SUMMARY:Memorial Day Weekend Las Vegas Bar Crawl
DESCRIPTION:Party at the best bars on Fremont Street this Memorial Day Weekend in Vegas!
URL:https://create.vegas/event/memorial-day-weekend-las-vegas-bar-crawl-3/
LOCATION:NV
CATEGORIES:Food & Drink & Fun
ATTACH;FMTTYPE=image/jpeg:https://create.vegas/wp-content/uploads/2025/12/f061abfdefc2f4bfe4c4470ad84eff68.jpg
END:VEVENT
BEGIN:VEVENT
DTSTART;TZID=America/Los_Angeles:20260524T203000
DTEND;TZID=America/Los_Angeles:20260525T003000
DTSTAMP:20260423T075024
CREATED:20260130T040719Z
LAST-MODIFIED:20260417T065037Z
UID:10032975-1779654600-1779669000@create.vegas
SUMMARY:Fremont Street Bar Crawl
DESCRIPTION:Fremont Street Bar Crawl gets you exclusive perks at the best bars in Old Vegas.
URL:https://create.vegas/event/fremont-street-bar-crawl-361/
LOCATION:Meeting Venue TBA – Check website for details\, Fremont St\, Las Vegas\, NV\, 89101\, United States
CATEGORIES:Food & Drink & Fun
ATTACH;FMTTYPE=image/jpeg:https://create.vegas/wp-content/uploads/2025/12/6209811cb488331552d7bc6caf142c54.jpg
END:VEVENT
BEGIN:VEVENT
DTSTART;TZID=America/Los_Angeles:20260524T210000
DTEND;TZID=America/Los_Angeles:20260525T010000
DTSTAMP:20260423T075024
CREATED:20260327T060725Z
LAST-MODIFIED:20260417T065110Z
UID:10034212-1779656400-1779670800@create.vegas
SUMMARY:Las Vegas Strip Club Crawl
DESCRIPTION:Free entry & VIP transportation to the best Strip Clubs in Vegas!
URL:https://create.vegas/event/las-vegas-strip-club-crawl-67/
LOCATION:Caesars Palace\, 3570 South Las Vegas Boulevard\, Paradise\, NV\, 89109\, United States
CATEGORIES:Food & Drink & Fun
ATTACH;FMTTYPE=image/jpeg:https://create.vegas/wp-content/uploads/2026/02/a6afa8ce28b26988a3427189f0ff8ae4.jpg
END:VEVENT
BEGIN:VEVENT
DTSTART;TZID=America/Los_Angeles:20260524T213000
DTEND;TZID=America/Los_Angeles:20260525T010000
DTSTAMP:20260423T075024
CREATED:20251212T025014Z
LAST-MODIFIED:20260417T065046Z
UID:10031976-1779658200-1779670800@create.vegas
SUMMARY:Memorial Day Weekend Las Vegas Club Crawl
DESCRIPTION:Party at the best bars on Fremont Street this Memorial Day Weekend in Vegas!
URL:https://create.vegas/event/memorial-day-weekend-las-vegas-club-crawl-13/
LOCATION:NV
CATEGORIES:Food & Drink & Fun
ATTACH;FMTTYPE=image/jpeg:https://create.vegas/wp-content/uploads/2025/12/985a74afe31fb4cf281163a0b3b88b97.jpg
END:VEVENT
BEGIN:VEVENT
DTSTART;TZID=America/Los_Angeles:20260524T213000
DTEND;TZID=America/Los_Angeles:20260525T010000
DTSTAMP:20260423T075024
CREATED:20260403T062127Z
LAST-MODIFIED:20260417T065031Z
UID:10034274-1779658200-1779670800@create.vegas
SUMMARY:Las Vegas Club Crawl with Party Bus
DESCRIPTION:Party like a VIP at the best clubs in Vegas: Free entry\, and a party bus with free drinks!
URL:https://create.vegas/event/las-vegas-club-crawl-with-party-bus-416/
LOCATION:LA Epic Club Crawls\, Please check our website for starting location\, Las Vegas\, NV\, 89109\, United States
CATEGORIES:Food & Drink & Fun
ATTACH;FMTTYPE=image/jpeg:https://create.vegas/wp-content/uploads/2025/09/54339c18a39f77272fdd2fdb8168bc42.jpg
END:VEVENT
BEGIN:VEVENT
DTSTART;TZID=America/Los_Angeles:20260525T000000
DTEND;TZID=America/Los_Angeles:20260525T235959
DTSTAMP:20260423T075024
CREATED:20250509T171903Z
LAST-MODIFIED:20250807T173408Z
UID:10028276-1779667200-1779753599@create.vegas
SUMMARY:8pm/$5 Door: Las Vegues Trio
DESCRIPTION:
URL:https://create.vegas/event/hold-las-vegs-trio-43/
LOCATION:NV
CATEGORIES:Rock & Punk
END:VEVENT
BEGIN:VEVENT
DTSTART;TZID=America/Los_Angeles:20260525T113000
DTEND;TZID=America/Los_Angeles:20260525T170000
DTSTAMP:20260423T075024
CREATED:20251128T023539Z
LAST-MODIFIED:20260417T065055Z
UID:10031793-1779708600-1779728400@create.vegas
SUMMARY:Las Vegas Pool Crawl
DESCRIPTION:Party at the best pool parties in Las Vegas this summer!
URL:https://create.vegas/event/las-vegas-pool-crawl-236/
LOCATION:Las Vegas Strip\, TBA\, Las Vegas\, NV\, 89109\, United States
CATEGORIES:Food & Drink & Fun
ATTACH;FMTTYPE=image/jpeg:https://create.vegas/wp-content/uploads/2025/09/e51a000afcf0608166fb2e5b19d6d060.jpg
END:VEVENT
BEGIN:VEVENT
DTSTART;TZID=America/Los_Angeles:20260525T113000
DTEND;TZID=America/Los_Angeles:20260525T170000
DTSTAMP:20260423T075024
CREATED:20251212T025011Z
LAST-MODIFIED:20260417T065045Z
UID:10031973-1779708600-1779728400@create.vegas
SUMMARY:Memorial Day Weekend Las Vegas Pool Crawl
DESCRIPTION:Kick off your summer with the hottest Las Vegas Memorial Day Weekend pool parties!
URL:https://create.vegas/event/memorial-day-weekend-las-vegas-pool-crawl-14/
LOCATION:NV
CATEGORIES:Food & Drink & Fun
ATTACH;FMTTYPE=image/jpeg:https://create.vegas/wp-content/uploads/2025/12/59ddee3a247c5e676fab59c6a0877f5b.jpg
END:VEVENT
BEGIN:VEVENT
DTSTART;TZID=America/Los_Angeles:20260525T203000
DTEND;TZID=America/Los_Angeles:20260526T000000
DTSTAMP:20260423T075024
CREATED:20251128T023602Z
LAST-MODIFIED:20260417T065037Z
UID:10031797-1779741000-1779753600@create.vegas
SUMMARY:Fremont Street Bar Crawl
DESCRIPTION:Fremont Street Bar Crawl gets you exclusive perks at the best bars in Old Vegas.
URL:https://create.vegas/event/fremont-street-bar-crawl-306/
LOCATION:Meeting Venue TBA – Check website for details\, Fremont St\, Las Vegas\, NV\, 89101\, United States
CATEGORIES:Food & Drink & Fun
ATTACH;FMTTYPE=image/jpeg:https://create.vegas/wp-content/uploads/2025/12/6209811cb488331552d7bc6caf142c54.jpg
END:VEVENT
BEGIN:VEVENT
DTSTART;TZID=America/Los_Angeles:20260525T210000
DTEND;TZID=America/Los_Angeles:20260526T010000
DTSTAMP:20260423T075024
CREATED:20260327T060725Z
LAST-MODIFIED:20260417T065110Z
UID:10034213-1779742800-1779757200@create.vegas
SUMMARY:Las Vegas Strip Club Crawl
DESCRIPTION:Free entry & VIP transportation to the best Strip Clubs in Vegas!
URL:https://create.vegas/event/las-vegas-strip-club-crawl-68/
LOCATION:Caesars Palace\, 3570 South Las Vegas Boulevard\, Paradise\, NV\, 89109\, United States
CATEGORIES:Food & Drink & Fun
ATTACH;FMTTYPE=image/jpeg:https://create.vegas/wp-content/uploads/2026/02/a6afa8ce28b26988a3427189f0ff8ae4.jpg
END:VEVENT
BEGIN:VEVENT
DTSTART;TZID=America/Los_Angeles:20260525T213000
DTEND;TZID=America/Los_Angeles:20260526T010000
DTSTAMP:20260423T075024
CREATED:20251212T025014Z
LAST-MODIFIED:20260417T065046Z
UID:10031977-1779744600-1779757200@create.vegas
SUMMARY:Memorial Day Weekend Las Vegas Club Crawl
DESCRIPTION:Party at the best bars on Fremont Street this Memorial Day Weekend in Vegas!
URL:https://create.vegas/event/memorial-day-weekend-las-vegas-club-crawl-14/
LOCATION:NV
CATEGORIES:Food & Drink & Fun
ATTACH;FMTTYPE=image/jpeg:https://create.vegas/wp-content/uploads/2025/12/985a74afe31fb4cf281163a0b3b88b97.jpg
END:VEVENT
BEGIN:VEVENT
DTSTART;TZID=America/Los_Angeles:20260525T213000
DTEND;TZID=America/Los_Angeles:20260526T010000
DTSTAMP:20260423T075024
CREATED:20260403T062127Z
LAST-MODIFIED:20260417T065032Z
UID:10034275-1779744600-1779757200@create.vegas
SUMMARY:Las Vegas Club Crawl with Party Bus
DESCRIPTION:Party like a VIP at the best clubs in Vegas: Free entry\, and a party bus with free drinks!
URL:https://create.vegas/event/las-vegas-club-crawl-with-party-bus-417/
LOCATION:LA Epic Club Crawls\, Please check our website for starting location\, Las Vegas\, NV\, 89109\, United States
CATEGORIES:Food & Drink & Fun
ATTACH;FMTTYPE=image/jpeg:https://create.vegas/wp-content/uploads/2025/09/54339c18a39f77272fdd2fdb8168bc42.jpg
END:VEVENT
BEGIN:VEVENT
DTSTART;TZID=America/Los_Angeles:20260526T000000
DTEND;TZID=America/Los_Angeles:20260526T235959
DTSTAMP:20260423T075024
CREATED:20240613T224417Z
LAST-MODIFIED:20260405T024748Z
UID:10021207-1779753600-1779839999@create.vegas
SUMMARY:7PM: Drinks & Dragons
DESCRIPTION:A bi-weekly D&D one-shot with booze.Written and produced by @desertionclubExclusively at @reddwarf_lv
URL:https://create.vegas/event/7pm-drinks-dragons-dnd-night-68/
LOCATION:NV
END:VEVENT
BEGIN:VEVENT
DTSTART;TZID=America/Los_Angeles:20260526T210000
DTEND;TZID=America/Los_Angeles:20260527T010000
DTSTAMP:20260423T075024
CREATED:20260327T060725Z
LAST-MODIFIED:20260417T065111Z
UID:10034214-1779829200-1779843600@create.vegas
SUMMARY:Las Vegas Strip Club Crawl
DESCRIPTION:Free entry & VIP transportation to the best Strip Clubs in Vegas!
URL:https://create.vegas/event/las-vegas-strip-club-crawl-69/
LOCATION:Caesars Palace\, 3570 South Las Vegas Boulevard\, Paradise\, NV\, 89109\, United States
CATEGORIES:Food & Drink & Fun
ATTACH;FMTTYPE=image/jpeg:https://create.vegas/wp-content/uploads/2026/02/a6afa8ce28b26988a3427189f0ff8ae4.jpg
END:VEVENT
BEGIN:VEVENT
DTSTART;TZID=America/Los_Angeles:20260526T213000
DTEND;TZID=America/Los_Angeles:20260527T010000
DTSTAMP:20260423T075024
CREATED:20260403T062128Z
LAST-MODIFIED:20260417T065032Z
UID:10034276-1779831000-1779843600@create.vegas
SUMMARY:Las Vegas Club Crawl with Party Bus
DESCRIPTION:Party like a VIP at the best clubs in Vegas: Free entry\, and a party bus with free drinks!
URL:https://create.vegas/event/las-vegas-club-crawl-with-party-bus-418/
LOCATION:LA Epic Club Crawls\, Please check our website for starting location\, Las Vegas\, NV\, 89109\, United States
CATEGORIES:Food & Drink & Fun
ATTACH;FMTTYPE=image/jpeg:https://create.vegas/wp-content/uploads/2025/09/54339c18a39f77272fdd2fdb8168bc42.jpg
END:VEVENT
BEGIN:VEVENT
DTSTART;TZID=America/Los_Angeles:20260527T190000
DTEND;TZID=America/Los_Angeles:20260527T220000
DTSTAMP:20260423T075024
CREATED:20250709T024910Z
LAST-MODIFIED:20251007T024822Z
UID:10029039-1779908400-1779919200@create.vegas
SUMMARY:Vintage Glam _ A Nostalgic Evening
DESCRIPTION:Come join us for a night of old-school glamour\, timeless tunes\, classic cocktails\, and scrumptious bites.  2 drink minimum per person.
URL:https://create.vegas/event/vintage-glam-_-a-nostalgic-evening-22/
LOCATION:The Lexi Las Vegas\, 1501 West Sahara Avenue\, Las Vegas\, NV\, 89102\, United States
CATEGORIES:Rock & Punk
ATTACH;FMTTYPE=image/jpeg:https://create.vegas/wp-content/uploads/2025/07/6e372c260d560a8a2ef4892d05b4b684.jpg
END:VEVENT
BEGIN:VEVENT
DTSTART;TZID=America/Los_Angeles:20260527T210000
DTEND;TZID=America/Los_Angeles:20260528T010000
DTSTAMP:20260423T075024
CREATED:20260327T060726Z
LAST-MODIFIED:20260417T065111Z
UID:10034215-1779915600-1779930000@create.vegas
SUMMARY:Las Vegas Strip Club Crawl
DESCRIPTION:Free entry & VIP transportation to the best Strip Clubs in Vegas!
URL:https://create.vegas/event/las-vegas-strip-club-crawl-70/
LOCATION:Caesars Palace\, 3570 South Las Vegas Boulevard\, Paradise\, NV\, 89109\, United States
CATEGORIES:Food & Drink & Fun
ATTACH;FMTTYPE=image/jpeg:https://create.vegas/wp-content/uploads/2026/02/a6afa8ce28b26988a3427189f0ff8ae4.jpg
END:VEVENT
BEGIN:VEVENT
DTSTART;TZID=America/Los_Angeles:20260527T213000
DTEND;TZID=America/Los_Angeles:20260528T010000
DTSTAMP:20260423T075024
CREATED:20260403T062128Z
LAST-MODIFIED:20260417T065032Z
UID:10034277-1779917400-1779930000@create.vegas
SUMMARY:Las Vegas Club Crawl with Party Bus
DESCRIPTION:Party like a VIP at the best clubs in Vegas: Free entry\, and a party bus with free drinks!
URL:https://create.vegas/event/las-vegas-club-crawl-with-party-bus-419/
LOCATION:LA Epic Club Crawls\, Please check our website for starting location\, Las Vegas\, NV\, 89109\, United States
CATEGORIES:Food & Drink & Fun
ATTACH;FMTTYPE=image/jpeg:https://create.vegas/wp-content/uploads/2025/09/54339c18a39f77272fdd2fdb8168bc42.jpg
END:VEVENT
BEGIN:VEVENT
DTSTART;TZID=America/Los_Angeles:20260528T160000
DTEND;TZID=America/Los_Angeles:20260528T200000
DTSTAMP:20260423T075024
CREATED:20260225T184823Z
LAST-MODIFIED:20260422T190302Z
UID:10033521-1779984000-1779998400@create.vegas
SUMMARY:Farmers Market at Las Vegas Civic Center
DESCRIPTION:The city of Las Vegas and the First Friday Foundation will hold a farmers market every second and fourth Thursday from 4 p.m. to 8 p.m.
URL:https://create.vegas/event/farmers-market-at-las-vegas-civic-center-7/
LOCATION:Las Vegas Civic Center Carolyn G. Goodman Plaza\, 525 S. Main St.\, Las Vegas\, NV\, 89101\, United States
ATTACH;FMTTYPE=image/jpeg:https://create.vegas/wp-content/uploads/2026/02/e41a22cba5f4cb694ddaa7986bb41bc5.jpg
END:VEVENT
END:VCALENDAR