BEGIN:VCALENDAR
VERSION:2.0
PRODID:-//Create.Vegas - ECPv6.15.20//NONSGML v1.0//EN
CALSCALE:GREGORIAN
METHOD:PUBLISH
X-ORIGINAL-URL:https://create.vegas
X-WR-CALDESC:Events for Create.Vegas
REFRESH-INTERVAL;VALUE=DURATION:PT1H
X-Robots-Tag:noindex
X-PUBLISHED-TTL:PT1H
BEGIN:VTIMEZONE
TZID:America/Los_Angeles
BEGIN:DAYLIGHT
TZOFFSETFROM:-0800
TZOFFSETTO:-0700
TZNAME:PDT
DTSTART:20250309T100000
END:DAYLIGHT
BEGIN:STANDARD
TZOFFSETFROM:-0700
TZOFFSETTO:-0800
TZNAME:PST
DTSTART:20251102T090000
END:STANDARD
BEGIN:DAYLIGHT
TZOFFSETFROM:-0800
TZOFFSETTO:-0700
TZNAME:PDT
DTSTART:20260308T100000
END:DAYLIGHT
BEGIN:STANDARD
TZOFFSETFROM:-0700
TZOFFSETTO:-0800
TZNAME:PST
DTSTART:20261101T090000
END:STANDARD
BEGIN:DAYLIGHT
TZOFFSETFROM:-0800
TZOFFSETTO:-0700
TZNAME:PDT
DTSTART:20270314T100000
END:DAYLIGHT
BEGIN:STANDARD
TZOFFSETFROM:-0700
TZOFFSETTO:-0800
TZNAME:PST
DTSTART:20271107T090000
END:STANDARD
END:VTIMEZONE
BEGIN:VEVENT
DTSTART;TZID=America/Los_Angeles:20260619T210000
DTEND;TZID=America/Los_Angeles:20260620T010000
DTSTAMP:20260424T120147
CREATED:20260424T070531Z
LAST-MODIFIED:20260424T070531Z
UID:10034452-1781902800-1781917200@create.vegas
SUMMARY:Las Vegas Strip Club Crawl
DESCRIPTION:Free entry & VIP transportation to the best Strip Clubs in Vegas!
URL:https://create.vegas/event/las-vegas-strip-club-crawl-87/
LOCATION:Caesars Palace\, 3570 South Las Vegas Boulevard\, Paradise\, NV\, 89109\, United States
CATEGORIES:Food & Drink & Fun
ATTACH;FMTTYPE=image/jpeg:https://create.vegas/wp-content/uploads/2026/02/a6afa8ce28b26988a3427189f0ff8ae4.jpg
END:VEVENT
BEGIN:VEVENT
DTSTART;TZID=America/Los_Angeles:20260620T113000
DTEND;TZID=America/Los_Angeles:20260620T170000
DTSTAMP:20260424T120147
CREATED:20251107T024752Z
LAST-MODIFIED:20260424T070517Z
UID:10031080-1781955000-1781974800@create.vegas
SUMMARY:Las Vegas Pool Crawl
DESCRIPTION:Party at the best pool parties in Las Vegas this summer!
URL:https://create.vegas/event/las-vegas-pool-crawl-223/
LOCATION:Las Vegas Strip\, TBA\, Las Vegas\, NV\, 89109\, United States
CATEGORIES:Food & Drink & Fun
ATTACH;FMTTYPE=image/jpeg:https://create.vegas/wp-content/uploads/2025/09/e51a000afcf0608166fb2e5b19d6d060.jpg
END:VEVENT
BEGIN:VEVENT
DTSTART;TZID=America/Los_Angeles:20260620T120000
DTEND;TZID=America/Los_Angeles:20260620T180000
DTSTAMP:20260424T120147
CREATED:20260327T211823Z
LAST-MODIFIED:20260417T215855Z
UID:10034221-1781956800-1781978400@create.vegas
SUMMARY:ELEVATE PRIDE POOL PARTY
DESCRIPTION:The official Las Vegas PRIDE Pool Party is at the All-New SAHARA!
URL:https://create.vegas/event/elevate-pride-pool-party-4/
LOCATION:Retro Pool\, 2535 Las Vegas Blvd. South\, Las Vegas\, NV\, 89109\, United States
ATTACH;FMTTYPE=image/jpeg:https://create.vegas/wp-content/uploads/2026/03/e2c36fd70071f3fb9df09db5551bbd7d.jpg
END:VEVENT
BEGIN:VEVENT
DTSTART;TZID=America/Los_Angeles:20260620T203000
DTEND;TZID=America/Los_Angeles:20260621T003000
DTSTAMP:20260424T120147
CREATED:20260313T053623Z
LAST-MODIFIED:20260424T070504Z
UID:10033757-1781987400-1782001800@create.vegas
SUMMARY:Fremont Street Bar Crawl
DESCRIPTION:Fremont Street Bar Crawl gets you exclusive perks at the best bars in Old Vegas.
URL:https://create.vegas/event/fremont-street-bar-crawl-372/
LOCATION:Meeting Venue TBA – Check website for details\, Fremont St\, Las Vegas\, NV\, 89101\, United States
CATEGORIES:Food & Drink & Fun
ATTACH;FMTTYPE=image/jpeg:https://create.vegas/wp-content/uploads/2025/12/6209811cb488331552d7bc6caf142c54.jpg
END:VEVENT
BEGIN:VEVENT
DTSTART;TZID=America/Los_Angeles:20260620T210000
DTEND;TZID=America/Los_Angeles:20260621T010000
DTSTAMP:20260424T120147
CREATED:20260424T070531Z
LAST-MODIFIED:20260424T070531Z
UID:10034453-1781989200-1782003600@create.vegas
SUMMARY:Las Vegas Strip Club Crawl
DESCRIPTION:Free entry & VIP transportation to the best Strip Clubs in Vegas!
URL:https://create.vegas/event/las-vegas-strip-club-crawl-88/
LOCATION:Caesars Palace\, 3570 South Las Vegas Boulevard\, Paradise\, NV\, 89109\, United States
CATEGORIES:Food & Drink & Fun
ATTACH;FMTTYPE=image/jpeg:https://create.vegas/wp-content/uploads/2026/02/a6afa8ce28b26988a3427189f0ff8ae4.jpg
END:VEVENT
BEGIN:VEVENT
DTSTART;TZID=America/Los_Angeles:20260621T000000
DTEND;TZID=America/Los_Angeles:20260621T235959
DTSTAMP:20260424T120147
CREATED:20240713T224415Z
LAST-MODIFIED:20260405T024748Z
UID:10021702-1782000000-1782086399@create.vegas
SUMMARY:11AM-4PM: Surf Sunday Brunch: Live Surf/Rock Music
DESCRIPTION:Our weekly Surf Sunday Brunch\nLIVE MUSIC every Sunday 12pm-3pm\nBRUNCH SERVED 11am – 4pm
URL:https://create.vegas/event/11am-4pm-surf-sunday-brunch-live-surf-rock-music-29/
LOCATION:NV
END:VEVENT
BEGIN:VEVENT
DTSTART;TZID=America/Los_Angeles:20260621T113000
DTEND;TZID=America/Los_Angeles:20260621T170000
DTSTAMP:20260424T120147
CREATED:20251107T024752Z
LAST-MODIFIED:20260424T070517Z
UID:10031081-1782041400-1782061200@create.vegas
SUMMARY:Las Vegas Pool Crawl
DESCRIPTION:Party at the best pool parties in Las Vegas this summer!
URL:https://create.vegas/event/las-vegas-pool-crawl-224/
LOCATION:Las Vegas Strip\, TBA\, Las Vegas\, NV\, 89109\, United States
CATEGORIES:Food & Drink & Fun
ATTACH;FMTTYPE=image/jpeg:https://create.vegas/wp-content/uploads/2025/09/e51a000afcf0608166fb2e5b19d6d060.jpg
END:VEVENT
BEGIN:VEVENT
DTSTART;TZID=America/Los_Angeles:20260621T203000
DTEND;TZID=America/Los_Angeles:20260622T003000
DTSTAMP:20260424T120147
CREATED:20260313T053624Z
LAST-MODIFIED:20260424T070504Z
UID:10033758-1782073800-1782088200@create.vegas
SUMMARY:Fremont Street Bar Crawl
DESCRIPTION:Fremont Street Bar Crawl gets you exclusive perks at the best bars in Old Vegas.
URL:https://create.vegas/event/fremont-street-bar-crawl-373/
LOCATION:Meeting Venue TBA – Check website for details\, Fremont St\, Las Vegas\, NV\, 89101\, United States
CATEGORIES:Food & Drink & Fun
ATTACH;FMTTYPE=image/jpeg:https://create.vegas/wp-content/uploads/2025/12/6209811cb488331552d7bc6caf142c54.jpg
END:VEVENT
BEGIN:VEVENT
DTSTART;TZID=America/Los_Angeles:20260621T210000
DTEND;TZID=America/Los_Angeles:20260622T010000
DTSTAMP:20260424T120147
CREATED:20260424T070531Z
LAST-MODIFIED:20260424T070531Z
UID:10034454-1782075600-1782090000@create.vegas
SUMMARY:Las Vegas Strip Club Crawl
DESCRIPTION:Free entry & VIP transportation to the best Strip Clubs in Vegas!
URL:https://create.vegas/event/las-vegas-strip-club-crawl-89/
LOCATION:Caesars Palace\, 3570 South Las Vegas Boulevard\, Paradise\, NV\, 89109\, United States
CATEGORIES:Food & Drink & Fun
ATTACH;FMTTYPE=image/jpeg:https://create.vegas/wp-content/uploads/2026/02/a6afa8ce28b26988a3427189f0ff8ae4.jpg
END:VEVENT
BEGIN:VEVENT
DTSTART;TZID=America/Los_Angeles:20260622T000000
DTEND;TZID=America/Los_Angeles:20260622T235959
DTSTAMP:20260424T120147
CREATED:20250509T171904Z
LAST-MODIFIED:20250807T173409Z
UID:10028284-1782086400-1782172799@create.vegas
SUMMARY:8pm/$5 Door: Las Vegues Trio
DESCRIPTION:
URL:https://create.vegas/event/hold-las-vegs-trio-47/
LOCATION:NV
CATEGORIES:Rock & Punk
END:VEVENT
BEGIN:VEVENT
DTSTART;TZID=America/Los_Angeles:20260623T000000
DTEND;TZID=America/Los_Angeles:20260623T235959
DTSTAMP:20260424T120147
CREATED:20240713T224415Z
LAST-MODIFIED:20260405T024748Z
UID:10021703-1782172800-1782259199@create.vegas
SUMMARY:7PM: Drinks & Dragons
DESCRIPTION:A bi-weekly D&D one-shot with booze.Written and produced by @desertionclubExclusively at @reddwarf_lv
URL:https://create.vegas/event/7pm-drinks-dragons-dnd-night-70/
LOCATION:NV
END:VEVENT
BEGIN:VEVENT
DTSTART;TZID=America/Los_Angeles:20260624T190000
DTEND;TZID=America/Los_Angeles:20260624T220000
DTSTAMP:20260424T120147
CREATED:20250808T024857Z
LAST-MODIFIED:20251007T024824Z
UID:10029319-1782327600-1782338400@create.vegas
SUMMARY:Vintage Glam _ A Nostalgic Evening
DESCRIPTION:Come join us for a night of old-school glamour\, timeless tunes\, classic cocktails\, and scrumptious bites.  2 drink minimum per person.
URL:https://create.vegas/event/vintage-glam-_-a-nostalgic-evening-26/
LOCATION:The Lexi Las Vegas\, 1501 West Sahara Avenue\, Las Vegas\, NV\, 89102\, United States
CATEGORIES:Rock & Punk
ATTACH;FMTTYPE=image/jpeg:https://create.vegas/wp-content/uploads/2025/07/6e372c260d560a8a2ef4892d05b4b684.jpg
END:VEVENT
BEGIN:VEVENT
DTSTART;TZID=America/Los_Angeles:20260624T210000
DTEND;TZID=America/Los_Angeles:20260625T010000
DTSTAMP:20260424T120147
CREATED:20260424T070532Z
LAST-MODIFIED:20260424T070532Z
UID:10034455-1782334800-1782349200@create.vegas
SUMMARY:Las Vegas Strip Club Crawl
DESCRIPTION:Free entry & VIP transportation to the best Strip Clubs in Vegas!
URL:https://create.vegas/event/las-vegas-strip-club-crawl-90/
LOCATION:Caesars Palace\, 3570 South Las Vegas Boulevard\, Paradise\, NV\, 89109\, United States
CATEGORIES:Food & Drink & Fun
ATTACH;FMTTYPE=image/jpeg:https://create.vegas/wp-content/uploads/2026/02/a6afa8ce28b26988a3427189f0ff8ae4.jpg
END:VEVENT
BEGIN:VEVENT
DTSTART;TZID=America/Los_Angeles:20260625T160000
DTEND;TZID=America/Los_Angeles:20260625T200000
DTSTAMP:20260424T120147
CREATED:20260225T184824Z
LAST-MODIFIED:20260422T190302Z
UID:10033523-1782403200-1782417600@create.vegas
SUMMARY:Farmers Market at Las Vegas Civic Center
DESCRIPTION:The city of Las Vegas and the First Friday Foundation will hold a farmers market every second and fourth Thursday from 4 p.m. to 8 p.m.
URL:https://create.vegas/event/farmers-market-at-las-vegas-civic-center-9/
LOCATION:Las Vegas Civic Center Carolyn G. Goodman Plaza\, 525 S. Main St.\, Las Vegas\, NV\, 89101\, United States
ATTACH;FMTTYPE=image/jpeg:https://create.vegas/wp-content/uploads/2026/02/e41a22cba5f4cb694ddaa7986bb41bc5.jpg
END:VEVENT
BEGIN:VEVENT
DTSTART;TZID=America/Los_Angeles:20260625T210000
DTEND;TZID=America/Los_Angeles:20260626T010000
DTSTAMP:20260424T120147
CREATED:20260424T070532Z
LAST-MODIFIED:20260424T070532Z
UID:10034456-1782421200-1782435600@create.vegas
SUMMARY:Las Vegas Strip Club Crawl
DESCRIPTION:Free entry & VIP transportation to the best Strip Clubs in Vegas!
URL:https://create.vegas/event/las-vegas-strip-club-crawl-91/
LOCATION:Caesars Palace\, 3570 South Las Vegas Boulevard\, Paradise\, NV\, 89109\, United States
CATEGORIES:Food & Drink & Fun
ATTACH;FMTTYPE=image/jpeg:https://create.vegas/wp-content/uploads/2026/02/a6afa8ce28b26988a3427189f0ff8ae4.jpg
END:VEVENT
BEGIN:VEVENT
DTSTART;TZID=America/Los_Angeles:20260626T113000
DTEND;TZID=America/Los_Angeles:20260626T170000
DTSTAMP:20260424T120147
CREATED:20251107T024752Z
LAST-MODIFIED:20260424T070518Z
UID:10031082-1782473400-1782493200@create.vegas
SUMMARY:Las Vegas Pool Crawl
DESCRIPTION:Party at the best pool parties in Las Vegas this summer!
URL:https://create.vegas/event/las-vegas-pool-crawl-225/
LOCATION:Las Vegas Strip\, TBA\, Las Vegas\, NV\, 89109\, United States
CATEGORIES:Food & Drink & Fun
ATTACH;FMTTYPE=image/jpeg:https://create.vegas/wp-content/uploads/2025/09/e51a000afcf0608166fb2e5b19d6d060.jpg
END:VEVENT
BEGIN:VEVENT
DTSTART;TZID=America/Los_Angeles:20260626T183000
DTEND;TZID=America/Los_Angeles:20260626T200000
DTSTAMP:20260424T120147
CREATED:20251105T170742Z
LAST-MODIFIED:20251105T170742Z
UID:10030598-1782498600-1782504000@create.vegas
SUMMARY:Chase Brown's Vegas Country
DESCRIPTION:The Singing Cowboy performs hits from every decade to get you out on the floor.
URL:https://create.vegas/event/chase-browns-vegas-country-119/
LOCATION:450 Fremont St #380\, 450 Fremont Street\, #380\, Las Vegas\, NV\, 89101\, United States
CATEGORIES:Performing Arts
ATTACH;FMTTYPE=image/jpeg:https://create.vegas/wp-content/uploads/2025/11/122b3c5366872efce50a220027e44716.jpg
END:VEVENT
BEGIN:VEVENT
DTSTART;TZID=America/Los_Angeles:20260626T190000
DTEND;TZID=America/Los_Angeles:20260626T210000
DTSTAMP:20260424T120147
CREATED:20251121T041614Z
LAST-MODIFIED:20251121T041614Z
UID:10031479-1782500400-1782507600@create.vegas
SUMMARY:The Effect
DESCRIPTION:The Effect by Lucy Prebble is an intimate\, dynamic drama that follows Connie and Tristan\, two volunteers in a clinical drug trial as they fall passionately in love. But are their deep feelings genuine? Or merely the result of the experimental chemicals coursing through their veins? As their romance deepens\, the supervising physicians wrestle with the brittle ethical boundaries between the rigors of science and the unpredictable complexity of the human heart. The Effect will have you questioning what is real\, both in mind and emotion.
URL:https://create.vegas/event/the-effect/
LOCATION:Clark County Library\, 1401 E. Flamingo Rd.\, Las Vegas\, NV\, 89119\, United States
ATTACH;FMTTYPE=image/jpeg:https://create.vegas/wp-content/uploads/2025/11/APF_TheEffect_2000x833_Block_C1F-Fzzkh4.jpg
END:VEVENT
BEGIN:VEVENT
DTSTART;TZID=America/Los_Angeles:20260626T203000
DTEND;TZID=America/Los_Angeles:20260627T003000
DTSTAMP:20260424T120147
CREATED:20260313T053624Z
LAST-MODIFIED:20260424T070504Z
UID:10033759-1782505800-1782520200@create.vegas
SUMMARY:Fremont Street Bar Crawl
DESCRIPTION:Fremont Street Bar Crawl gets you exclusive perks at the best bars in Old Vegas.
URL:https://create.vegas/event/fremont-street-bar-crawl-374/
LOCATION:Meeting Venue TBA – Check website for details\, Fremont St\, Las Vegas\, NV\, 89101\, United States
CATEGORIES:Food & Drink & Fun
ATTACH;FMTTYPE=image/jpeg:https://create.vegas/wp-content/uploads/2025/12/6209811cb488331552d7bc6caf142c54.jpg
END:VEVENT
BEGIN:VEVENT
DTSTART;TZID=America/Los_Angeles:20260627T113000
DTEND;TZID=America/Los_Angeles:20260627T170000
DTSTAMP:20260424T120147
CREATED:20251107T024753Z
LAST-MODIFIED:20260424T070518Z
UID:10031083-1782559800-1782579600@create.vegas
SUMMARY:Las Vegas Pool Crawl
DESCRIPTION:Party at the best pool parties in Las Vegas this summer!
URL:https://create.vegas/event/las-vegas-pool-crawl-226/
LOCATION:Las Vegas Strip\, TBA\, Las Vegas\, NV\, 89109\, United States
CATEGORIES:Food & Drink & Fun
ATTACH;FMTTYPE=image/jpeg:https://create.vegas/wp-content/uploads/2025/09/e51a000afcf0608166fb2e5b19d6d060.jpg
END:VEVENT
BEGIN:VEVENT
DTSTART;TZID=America/Los_Angeles:20260627T120000
DTEND;TZID=America/Los_Angeles:20260627T180000
DTSTAMP:20260424T120147
CREATED:20260327T211823Z
LAST-MODIFIED:20260417T215856Z
UID:10034222-1782561600-1782583200@create.vegas
SUMMARY:ELEVATE PRIDE POOL PARTY
DESCRIPTION:The official Las Vegas PRIDE Pool Party is at the All-New SAHARA!
URL:https://create.vegas/event/elevate-pride-pool-party-5/
LOCATION:Retro Pool\, 2535 Las Vegas Blvd. South\, Las Vegas\, NV\, 89109\, United States
ATTACH;FMTTYPE=image/jpeg:https://create.vegas/wp-content/uploads/2026/03/e2c36fd70071f3fb9df09db5551bbd7d.jpg
END:VEVENT
BEGIN:VEVENT
DTSTART;TZID=America/Los_Angeles:20260627T140000
DTEND;TZID=America/Los_Angeles:20260627T170000
DTSTAMP:20260424T120147
CREATED:20251121T041615Z
LAST-MODIFIED:20251121T041615Z
UID:10031480-1782568800-1782579600@create.vegas
SUMMARY:The Effect
DESCRIPTION:The Effect by Lucy Prebble is an intimate\, dynamic drama that follows Connie and Tristan\, two volunteers in a clinical drug trial as they fall passionately in love. But are their deep feelings genuine? Or merely the result of the experimental chemicals coursing through their veins? As their romance deepens\, the supervising physicians wrestle with the brittle ethical boundaries between the rigors of science and the unpredictable complexity of the human heart. The Effect will have you questioning what is real\, both in mind and emotion.
URL:https://create.vegas/event/the-effect-2/
LOCATION:Clark County Library\, 1401 E. Flamingo Rd.\, Las Vegas\, NV\, 89119\, United States
ATTACH;FMTTYPE=image/jpeg:https://create.vegas/wp-content/uploads/2025/11/APF_TheEffect_2000x833_Block_C1F-Fzzkh4.jpg
END:VEVENT
BEGIN:VEVENT
DTSTART;TZID=America/Los_Angeles:20260627T203000
DTEND;TZID=America/Los_Angeles:20260628T003000
DTSTAMP:20260424T120147
CREATED:20260320T055214Z
LAST-MODIFIED:20260424T070504Z
UID:10033817-1782592200-1782606600@create.vegas
SUMMARY:Fremont Street Bar Crawl
DESCRIPTION:Fremont Street Bar Crawl gets you exclusive perks at the best bars in Old Vegas.
URL:https://create.vegas/event/fremont-street-bar-crawl-375/
LOCATION:Meeting Venue TBA – Check website for details\, Fremont St\, Las Vegas\, NV\, 89101\, United States
CATEGORIES:Food & Drink & Fun
ATTACH;FMTTYPE=image/jpeg:https://create.vegas/wp-content/uploads/2025/12/6209811cb488331552d7bc6caf142c54.jpg
END:VEVENT
BEGIN:VEVENT
DTSTART;TZID=America/Los_Angeles:20260628T000000
DTEND;TZID=America/Los_Angeles:20260628T235959
DTSTAMP:20260424T120147
CREATED:20240713T224415Z
LAST-MODIFIED:20260405T024749Z
UID:10021704-1782604800-1782691199@create.vegas
SUMMARY:11AM-4PM: Surf Sunday Brunch: Live Surf/Rock Music
DESCRIPTION:Our weekly Surf Sunday Brunch\nLIVE MUSIC every Sunday 12pm-3pm\nBRUNCH SERVED 11am – 4pm
URL:https://create.vegas/event/11am-4pm-surf-sunday-brunch-live-surf-rock-music-30/
LOCATION:NV
END:VEVENT
BEGIN:VEVENT
DTSTART;TZID=America/Los_Angeles:20260628T100000
DTEND;TZID=America/Los_Angeles:20260628T170000
DTSTAMP:20260424T120147
CREATED:20260124T171959Z
LAST-MODIFIED:20260424T174811Z
UID:10032684-1782640800-1782666000@create.vegas
SUMMARY:Red\, White & Blue Craft & Gift Show
DESCRIPTION:Looking for that special unique gift and something FUN to do with your family & friends?  Join us for this fun filled event!\n\n\nRed\, White & Blue Craft & Gift Show \nInside the Silverton Veil Pavilion at 3333 Blue Diamond Rd\, Las Vegas\, NV 89139. \n\nUnique Vendors\nDelicious cottage foods\nUnique Gifts\nFree Admission & Parking\nFree Drawings for great prizes\n\nHey Vendors! Want to get involved in future events? Apply ONLY AT LVCRAFTSHOWS.com \nLike us on Facebook at LV CRAFT SHOWS
URL:https://create.vegas/event/red-white-blue-craft-gift-show-2/
LOCATION:Veil Pavilion\, 3333 Blue Diamond Road\, Las Vegas\, NV\, 89139\, United States
CATEGORIES:Fairs & Festivals
ATTACH;FMTTYPE=image/jpeg:https://create.vegas/wp-content/uploads/2026/02/712e82cfd13eb941021f94f814136f94.jpg
END:VEVENT
BEGIN:VEVENT
DTSTART;TZID=America/Los_Angeles:20260628T113000
DTEND;TZID=America/Los_Angeles:20260628T170000
DTSTAMP:20260424T120147
CREATED:20251107T024753Z
LAST-MODIFIED:20260424T070518Z
UID:10031084-1782646200-1782666000@create.vegas
SUMMARY:Las Vegas Pool Crawl
DESCRIPTION:Party at the best pool parties in Las Vegas this summer!
URL:https://create.vegas/event/las-vegas-pool-crawl-227/
LOCATION:Las Vegas Strip\, TBA\, Las Vegas\, NV\, 89109\, United States
CATEGORIES:Food & Drink & Fun
ATTACH;FMTTYPE=image/jpeg:https://create.vegas/wp-content/uploads/2025/09/e51a000afcf0608166fb2e5b19d6d060.jpg
END:VEVENT
BEGIN:VEVENT
DTSTART;TZID=America/Los_Angeles:20260628T203000
DTEND;TZID=America/Los_Angeles:20260629T003000
DTSTAMP:20260424T120147
CREATED:20260320T055214Z
LAST-MODIFIED:20260424T070504Z
UID:10033818-1782678600-1782693000@create.vegas
SUMMARY:Fremont Street Bar Crawl
DESCRIPTION:Fremont Street Bar Crawl gets you exclusive perks at the best bars in Old Vegas.
URL:https://create.vegas/event/fremont-street-bar-crawl-376/
LOCATION:Meeting Venue TBA – Check website for details\, Fremont St\, Las Vegas\, NV\, 89101\, United States
CATEGORIES:Food & Drink & Fun
ATTACH;FMTTYPE=image/jpeg:https://create.vegas/wp-content/uploads/2025/12/6209811cb488331552d7bc6caf142c54.jpg
END:VEVENT
BEGIN:VEVENT
DTSTART;TZID=America/Los_Angeles:20260629T000000
DTEND;TZID=America/Los_Angeles:20260629T235959
DTSTAMP:20260424T120147
CREATED:20250509T171904Z
LAST-MODIFIED:20250807T173409Z
UID:10028286-1782691200-1782777599@create.vegas
SUMMARY:8pm/$5 Door: Las Vegues Trio
DESCRIPTION:
URL:https://create.vegas/event/hold-las-vegs-trio-48/
LOCATION:NV
CATEGORIES:Rock & Punk
END:VEVENT
BEGIN:VEVENT
DTSTART;TZID=America/Los_Angeles:20260701T190000
DTEND;TZID=America/Los_Angeles:20260701T220000
DTSTAMP:20260424T120147
CREATED:20250808T024857Z
LAST-MODIFIED:20251007T024825Z
UID:10029320-1782932400-1782943200@create.vegas
SUMMARY:Vintage Glam _ A Nostalgic Evening
DESCRIPTION:Come join us for a night of old-school glamour\, timeless tunes\, classic cocktails\, and scrumptious bites.  2 drink minimum per person.
URL:https://create.vegas/event/vintage-glam-_-a-nostalgic-evening-27/
LOCATION:The Lexi Las Vegas\, 1501 West Sahara Avenue\, Las Vegas\, NV\, 89102\, United States
CATEGORIES:Rock & Punk
ATTACH;FMTTYPE=image/jpeg:https://create.vegas/wp-content/uploads/2025/07/6e372c260d560a8a2ef4892d05b4b684.jpg
END:VEVENT
BEGIN:VEVENT
DTSTART;TZID=America/Los_Angeles:20260701T193000
DTEND;TZID=America/Los_Angeles:20260701T210000
DTSTAMP:20260424T120147
CREATED:20251105T170800Z
LAST-MODIFIED:20251105T170800Z
UID:10030626-1782934200-1782939600@create.vegas
SUMMARY:Jazz Vegas Orchestra Live
DESCRIPTION:Las Vegas’s hottest big band\, the Jazz Vegas Orchestra (formerly JOI Jazz Orchestra) brings high energy big band jazz back to downtown LV!
URL:https://create.vegas/event/jazz-vegas-orchestra-live-21/
LOCATION:450 Fremont St #380\, 450 Fremont Street\, #380\, Las Vegas\, NV\, 89101\, United States
CATEGORIES:Performing Arts
ATTACH;FMTTYPE=image/jpeg:https://create.vegas/wp-content/uploads/2025/11/c442041b39e09839ec4f53ad8838ab31.jpg
END:VEVENT
END:VCALENDAR