BEGIN:VCALENDAR
VERSION:2.0
PRODID:-//Create.Vegas - ECPv6.15.20//NONSGML v1.0//EN
CALSCALE:GREGORIAN
METHOD:PUBLISH
X-WR-CALNAME:Create.Vegas
X-ORIGINAL-URL:https://create.vegas
X-WR-CALDESC:Events for Create.Vegas
REFRESH-INTERVAL;VALUE=DURATION:PT1H
X-Robots-Tag:noindex
X-PUBLISHED-TTL:PT1H
BEGIN:VTIMEZONE
TZID:America/Los_Angeles
BEGIN:DAYLIGHT
TZOFFSETFROM:-0800
TZOFFSETTO:-0700
TZNAME:PDT
DTSTART:20260308T100000
END:DAYLIGHT
BEGIN:STANDARD
TZOFFSETFROM:-0700
TZOFFSETTO:-0800
TZNAME:PST
DTSTART:20261101T090000
END:STANDARD
BEGIN:DAYLIGHT
TZOFFSETFROM:-0800
TZOFFSETTO:-0700
TZNAME:PDT
DTSTART:20270314T100000
END:DAYLIGHT
BEGIN:STANDARD
TZOFFSETFROM:-0700
TZOFFSETTO:-0800
TZNAME:PST
DTSTART:20271107T090000
END:STANDARD
BEGIN:DAYLIGHT
TZOFFSETFROM:-0800
TZOFFSETTO:-0700
TZNAME:PDT
DTSTART:20280312T100000
END:DAYLIGHT
BEGIN:STANDARD
TZOFFSETFROM:-0700
TZOFFSETTO:-0800
TZNAME:PST
DTSTART:20281105T090000
END:STANDARD
END:VTIMEZONE
BEGIN:VEVENT
DTSTART;TZID=America/Los_Angeles:20270831T000000
DTEND;TZID=America/Los_Angeles:20270831T235959
DTSTAMP:20260423T210236
CREATED:20250907T023313Z
LAST-MODIFIED:20260405T024752Z
UID:10029547-1819670400-1819756799@create.vegas
SUMMARY:7PM: Drinks & Dragons
DESCRIPTION:A bi-weekly D&D one-shot with booze.Written and produced by @desertionclubExclusively at @reddwarf_lv
URL:https://create.vegas/event/7pm-drinks-dragons-dnd-night-12/
LOCATION:NV
END:VEVENT
BEGIN:VEVENT
DTSTART;TZID=America/Los_Angeles:20270903T170000
DTEND;TZID=America/Los_Angeles:20270903T230000
DTSTAMP:20260423T210236
CREATED:20230701T211559Z
LAST-MODIFIED:20250622T135348Z
UID:10010811-1819990800-1820012400@create.vegas
SUMMARY:First Friday
DESCRIPTION:Join us in the arts district on Main Street for the next First Friday\, July 4th 2025 supporting local artists on the Art Walk! \n\n\n\nJuly 4th at 1025 South 1st St. 5pm-11pm \n\n\n\nSpecial note: PLAN to spend YOUR 4th of July with us next month! 5pm-11pm You can see the fireworks from the First Friday event in the arts district that will come from the top of the Plaza Hotel! The First Friday artwalk event is FREE! Support your local artists and small businesses and eat great food from local food trucks! NO FIREWORKS\, SPARKLERS\, FIRECRACKERS\, POP ITS\, GLASS BOTTLES\, OR OUTSIDE ALCOHOL ALLOWED. THANK YOU \n\n\n\nFeatured Artist: July’s Featured artist is LaRon Emcee \n\n\n\nSee live painting with local artists throughout the event curated by ISI Group & Recycled Propaganda \n\n\n\nVisit our residency art gallery inside Art Square Suite 170 resident artists Nancy Good and Andrea Knox \n\n\n\nSpecial Note Preview Thursday July 3rd Andrea Knox Art Exhibit in the resident artist space inside Arts Square \n\n\n\nMusic: Visit local artists on the Church of Bass Stage and visit DJ Eric Roulette. All entertainment starts at 5pm featuring local talent till 11pm. \n\n\n\nSupport our key sponsors: Las Vegas Raiders\, City of Las Vegas\, Jardin\, \, Eric Roy Law Firm\, Verizon\, Don Julio\, The English Hotel\, KTNV 13 \, and Park West Gallery. \n\n\n\nWe are ecstatic to host local culture and community and always consider all proper health and safety protocols each month. \n\n\n\nParking \n\n\n\nHeaded to First Friday? Don’t waste time driving around downtown Las Vegas trying to find a spot. Take advantage of one of our offerings. \n\n\n\nPark & Ride \n\n\n\nPark at the city of Las Vegas parking garage\, 500 S. Main St.\, and take the FREE shuttle to and from First Friday. The shuttle runs from 3 p.m. to midnight. Additional parking at 902 Casino Center and 1025 South First Street\, Arts Square parking lot. Additional parking at 1000 Commerce with a short walk into the event. \n\n\n\nReservable Parking Spots \n\n\n\nWe offer parking throughout downtown that you can reserve in advance. Reserve a spot.  \n\n\n\nWherever you park\, please make sure the spot is clearly signed for public or event parking; never park anywhere that is not.
URL:https://create.vegas/event/first-friday/2027-09-03/
LOCATION:First Friday Las Vegas\, 1025 South 1st Street\, Las Vegas\, NV\, 89101\, United States
CATEGORIES:Art Events, Festivals & Expos,Community Event,Featured
ATTACH;FMTTYPE=image/jpeg:https://create.vegas/wp-content/uploads/2022/11/first-friday-banner.jpg
ORGANIZER;CN="First Friday":MAILTO:firstfridaylv@gmail.com
END:VEVENT
BEGIN:VEVENT
DTSTART;TZID=America/Los_Angeles:20270905T000000
DTEND;TZID=America/Los_Angeles:20270905T235959
DTSTAMP:20260423T210236
CREATED:20250907T023313Z
LAST-MODIFIED:20260405T024752Z
UID:10029548-1820102400-1820188799@create.vegas
SUMMARY:11AM-4PM: Surf Sunday Brunch: Live Surf/Rock Music
DESCRIPTION:Our weekly Surf Sunday Brunch\nLIVE MUSIC every Sunday 12pm-3pm\nBRUNCH SERVED 11am – 4pm
URL:https://create.vegas/event/11am-4pm-surf-sunday-brunch-live-surf-rock-music-92/
LOCATION:NV
END:VEVENT
BEGIN:VEVENT
DTSTART;TZID=America/Los_Angeles:20270912T000000
DTEND;TZID=America/Los_Angeles:20270912T235959
DTSTAMP:20260423T210236
CREATED:20251007T023328Z
LAST-MODIFIED:20260405T024752Z
UID:10029993-1820707200-1820793599@create.vegas
SUMMARY:11AM-4PM: Surf Sunday Brunch: Live Surf/Rock Music
DESCRIPTION:Our weekly Surf Sunday Brunch\nLIVE MUSIC every Sunday 12pm-3pm\nBRUNCH SERVED 11am – 4pm
URL:https://create.vegas/event/11am-4pm-surf-sunday-brunch-live-surf-rock-music-93/
LOCATION:NV
END:VEVENT
BEGIN:VEVENT
DTSTART;TZID=America/Los_Angeles:20270914T000000
DTEND;TZID=America/Los_Angeles:20270914T235959
DTSTAMP:20260423T210236
CREATED:20251007T023328Z
LAST-MODIFIED:20260405T024752Z
UID:10029994-1820880000-1820966399@create.vegas
SUMMARY:7PM: Drinks & Dragons
DESCRIPTION:A bi-weekly D&D one-shot with booze.Written and produced by @desertionclubExclusively at @reddwarf_lv
URL:https://create.vegas/event/7pm-drinks-dragons-dnd-night-13/
LOCATION:NV
END:VEVENT
BEGIN:VEVENT
DTSTART;TZID=America/Los_Angeles:20270919T000000
DTEND;TZID=America/Los_Angeles:20270919T235959
DTSTAMP:20260423T210236
CREATED:20251007T023328Z
LAST-MODIFIED:20260405T024752Z
UID:10029995-1821312000-1821398399@create.vegas
SUMMARY:11AM-4PM: Surf Sunday Brunch: Live Surf/Rock Music
DESCRIPTION:Our weekly Surf Sunday Brunch\nLIVE MUSIC every Sunday 12pm-3pm\nBRUNCH SERVED 11am – 4pm
URL:https://create.vegas/event/11am-4pm-surf-sunday-brunch-live-surf-rock-music-94/
LOCATION:NV
END:VEVENT
BEGIN:VEVENT
DTSTART;TZID=America/Los_Angeles:20270926T000000
DTEND;TZID=America/Los_Angeles:20270926T235959
DTSTAMP:20260423T210236
CREATED:20251007T023329Z
LAST-MODIFIED:20260405T024752Z
UID:10029996-1821916800-1822003199@create.vegas
SUMMARY:11AM-4PM: Surf Sunday Brunch: Live Surf/Rock Music
DESCRIPTION:Our weekly Surf Sunday Brunch\nLIVE MUSIC every Sunday 12pm-3pm\nBRUNCH SERVED 11am – 4pm
URL:https://create.vegas/event/11am-4pm-surf-sunday-brunch-live-surf-rock-music-95/
LOCATION:NV
END:VEVENT
BEGIN:VEVENT
DTSTART;TZID=America/Los_Angeles:20270928T000000
DTEND;TZID=America/Los_Angeles:20270928T235959
DTSTAMP:20260423T210236
CREATED:20251007T023329Z
LAST-MODIFIED:20260405T024752Z
UID:10029997-1822089600-1822175999@create.vegas
SUMMARY:7PM: Drinks & Dragons
DESCRIPTION:A bi-weekly D&D one-shot with booze.Written and produced by @desertionclubExclusively at @reddwarf_lv
URL:https://create.vegas/event/7pm-drinks-dragons-dnd-night-14/
LOCATION:NV
END:VEVENT
BEGIN:VEVENT
DTSTART;TZID=America/Los_Angeles:20271001T170000
DTEND;TZID=America/Los_Angeles:20271001T230000
DTSTAMP:20260423T210236
CREATED:20230701T211559Z
LAST-MODIFIED:20250622T135348Z
UID:10010812-1822410000-1822431600@create.vegas
SUMMARY:First Friday
DESCRIPTION:Join us in the arts district on Main Street for the next First Friday\, July 4th 2025 supporting local artists on the Art Walk! \n\n\n\nJuly 4th at 1025 South 1st St. 5pm-11pm \n\n\n\nSpecial note: PLAN to spend YOUR 4th of July with us next month! 5pm-11pm You can see the fireworks from the First Friday event in the arts district that will come from the top of the Plaza Hotel! The First Friday artwalk event is FREE! Support your local artists and small businesses and eat great food from local food trucks! NO FIREWORKS\, SPARKLERS\, FIRECRACKERS\, POP ITS\, GLASS BOTTLES\, OR OUTSIDE ALCOHOL ALLOWED. THANK YOU \n\n\n\nFeatured Artist: July’s Featured artist is LaRon Emcee \n\n\n\nSee live painting with local artists throughout the event curated by ISI Group & Recycled Propaganda \n\n\n\nVisit our residency art gallery inside Art Square Suite 170 resident artists Nancy Good and Andrea Knox \n\n\n\nSpecial Note Preview Thursday July 3rd Andrea Knox Art Exhibit in the resident artist space inside Arts Square \n\n\n\nMusic: Visit local artists on the Church of Bass Stage and visit DJ Eric Roulette. All entertainment starts at 5pm featuring local talent till 11pm. \n\n\n\nSupport our key sponsors: Las Vegas Raiders\, City of Las Vegas\, Jardin\, \, Eric Roy Law Firm\, Verizon\, Don Julio\, The English Hotel\, KTNV 13 \, and Park West Gallery. \n\n\n\nWe are ecstatic to host local culture and community and always consider all proper health and safety protocols each month. \n\n\n\nParking \n\n\n\nHeaded to First Friday? Don’t waste time driving around downtown Las Vegas trying to find a spot. Take advantage of one of our offerings. \n\n\n\nPark & Ride \n\n\n\nPark at the city of Las Vegas parking garage\, 500 S. Main St.\, and take the FREE shuttle to and from First Friday. The shuttle runs from 3 p.m. to midnight. Additional parking at 902 Casino Center and 1025 South First Street\, Arts Square parking lot. Additional parking at 1000 Commerce with a short walk into the event. \n\n\n\nReservable Parking Spots \n\n\n\nWe offer parking throughout downtown that you can reserve in advance. Reserve a spot.  \n\n\n\nWherever you park\, please make sure the spot is clearly signed for public or event parking; never park anywhere that is not.
URL:https://create.vegas/event/first-friday/2027-10-01/
LOCATION:First Friday Las Vegas\, 1025 South 1st Street\, Las Vegas\, NV\, 89101\, United States
CATEGORIES:Art Events, Festivals & Expos,Community Event,Featured
ATTACH;FMTTYPE=image/jpeg:https://create.vegas/wp-content/uploads/2022/11/first-friday-banner.jpg
ORGANIZER;CN="First Friday":MAILTO:firstfridaylv@gmail.com
END:VEVENT
BEGIN:VEVENT
DTSTART;TZID=America/Los_Angeles:20271003T000000
DTEND;TZID=America/Los_Angeles:20271003T235959
DTSTAMP:20260423T210236
CREATED:20251007T023329Z
LAST-MODIFIED:20260405T024752Z
UID:10029998-1822521600-1822607999@create.vegas
SUMMARY:11AM-4PM: Surf Sunday Brunch: Live Surf/Rock Music
DESCRIPTION:Our weekly Surf Sunday Brunch\nLIVE MUSIC every Sunday 12pm-3pm\nBRUNCH SERVED 11am – 4pm
URL:https://create.vegas/event/11am-4pm-surf-sunday-brunch-live-surf-rock-music-96/
LOCATION:NV
END:VEVENT
BEGIN:VEVENT
DTSTART;TZID=America/Los_Angeles:20271010T000000
DTEND;TZID=America/Los_Angeles:20271010T235959
DTSTAMP:20260423T210236
CREATED:20251206T024807Z
LAST-MODIFIED:20260405T024752Z
UID:10031900-1823126400-1823212799@create.vegas
SUMMARY:11AM-4PM: Surf Sunday Brunch: Live Surf/Rock Music
DESCRIPTION:Our weekly Surf Sunday Brunch\nLIVE MUSIC every Sunday 12pm-3pm\nBRUNCH SERVED 11am – 4pm
URL:https://create.vegas/event/11am-4pm-surf-sunday-brunch-live-surf-rock-music-97/
LOCATION:NV
END:VEVENT
BEGIN:VEVENT
DTSTART;TZID=America/Los_Angeles:20271012T000000
DTEND;TZID=America/Los_Angeles:20271012T235959
DTSTAMP:20260423T210236
CREATED:20251206T024807Z
LAST-MODIFIED:20260405T024752Z
UID:10031901-1823299200-1823385599@create.vegas
SUMMARY:7PM: Drinks & Dragons
DESCRIPTION:A bi-weekly D&D one-shot with booze.Written and produced by @desertionclubExclusively at @reddwarf_lv
URL:https://create.vegas/event/7pm-drinks-dragons-dnd-night-16/
LOCATION:NV
END:VEVENT
BEGIN:VEVENT
DTSTART;TZID=America/Los_Angeles:20271017T000000
DTEND;TZID=America/Los_Angeles:20271017T235959
DTSTAMP:20260423T210236
CREATED:20251206T024807Z
LAST-MODIFIED:20260405T024752Z
UID:10031902-1823731200-1823817599@create.vegas
SUMMARY:11AM-4PM: Surf Sunday Brunch: Live Surf/Rock Music
DESCRIPTION:Our weekly Surf Sunday Brunch\nLIVE MUSIC every Sunday 12pm-3pm\nBRUNCH SERVED 11am – 4pm
URL:https://create.vegas/event/11am-4pm-surf-sunday-brunch-live-surf-rock-music-98/
LOCATION:NV
END:VEVENT
BEGIN:VEVENT
DTSTART;TZID=America/Los_Angeles:20271024T000000
DTEND;TZID=America/Los_Angeles:20271024T235959
DTSTAMP:20260423T210236
CREATED:20251206T024807Z
LAST-MODIFIED:20260405T024753Z
UID:10031903-1824336000-1824422399@create.vegas
SUMMARY:11AM-4PM: Surf Sunday Brunch: Live Surf/Rock Music
DESCRIPTION:Our weekly Surf Sunday Brunch\nLIVE MUSIC every Sunday 12pm-3pm\nBRUNCH SERVED 11am – 4pm
URL:https://create.vegas/event/11am-4pm-surf-sunday-brunch-live-surf-rock-music-99/
LOCATION:NV
END:VEVENT
BEGIN:VEVENT
DTSTART;TZID=America/Los_Angeles:20271026T000000
DTEND;TZID=America/Los_Angeles:20271026T235959
DTSTAMP:20260423T210236
CREATED:20251206T024807Z
LAST-MODIFIED:20260405T024753Z
UID:10031904-1824508800-1824595199@create.vegas
SUMMARY:7PM: Drinks & Dragons
DESCRIPTION:A bi-weekly D&D one-shot with booze.Written and produced by @desertionclubExclusively at @reddwarf_lv
URL:https://create.vegas/event/7pm-drinks-dragons-dnd-night-17/
LOCATION:NV
END:VEVENT
BEGIN:VEVENT
DTSTART;TZID=America/Los_Angeles:20271031T000000
DTEND;TZID=America/Los_Angeles:20271031T235959
DTSTAMP:20260423T210236
CREATED:20251206T024807Z
LAST-MODIFIED:20260405T024753Z
UID:10031905-1824940800-1825027199@create.vegas
SUMMARY:11AM-4PM: Surf Sunday Brunch: Live Surf/Rock Music
DESCRIPTION:Our weekly Surf Sunday Brunch\nLIVE MUSIC every Sunday 12pm-3pm\nBRUNCH SERVED 11am – 4pm
URL:https://create.vegas/event/11am-4pm-surf-sunday-brunch-live-surf-rock-music-100/
LOCATION:NV
END:VEVENT
BEGIN:VEVENT
DTSTART;TZID=America/Los_Angeles:20271105T170000
DTEND;TZID=America/Los_Angeles:20271105T230000
DTSTAMP:20260423T210236
CREATED:20230701T211559Z
LAST-MODIFIED:20250622T135348Z
UID:10010813-1825434000-1825455600@create.vegas
SUMMARY:First Friday
DESCRIPTION:Join us in the arts district on Main Street for the next First Friday\, July 4th 2025 supporting local artists on the Art Walk! \n\n\n\nJuly 4th at 1025 South 1st St. 5pm-11pm \n\n\n\nSpecial note: PLAN to spend YOUR 4th of July with us next month! 5pm-11pm You can see the fireworks from the First Friday event in the arts district that will come from the top of the Plaza Hotel! The First Friday artwalk event is FREE! Support your local artists and small businesses and eat great food from local food trucks! NO FIREWORKS\, SPARKLERS\, FIRECRACKERS\, POP ITS\, GLASS BOTTLES\, OR OUTSIDE ALCOHOL ALLOWED. THANK YOU \n\n\n\nFeatured Artist: July’s Featured artist is LaRon Emcee \n\n\n\nSee live painting with local artists throughout the event curated by ISI Group & Recycled Propaganda \n\n\n\nVisit our residency art gallery inside Art Square Suite 170 resident artists Nancy Good and Andrea Knox \n\n\n\nSpecial Note Preview Thursday July 3rd Andrea Knox Art Exhibit in the resident artist space inside Arts Square \n\n\n\nMusic: Visit local artists on the Church of Bass Stage and visit DJ Eric Roulette. All entertainment starts at 5pm featuring local talent till 11pm. \n\n\n\nSupport our key sponsors: Las Vegas Raiders\, City of Las Vegas\, Jardin\, \, Eric Roy Law Firm\, Verizon\, Don Julio\, The English Hotel\, KTNV 13 \, and Park West Gallery. \n\n\n\nWe are ecstatic to host local culture and community and always consider all proper health and safety protocols each month. \n\n\n\nParking \n\n\n\nHeaded to First Friday? Don’t waste time driving around downtown Las Vegas trying to find a spot. Take advantage of one of our offerings. \n\n\n\nPark & Ride \n\n\n\nPark at the city of Las Vegas parking garage\, 500 S. Main St.\, and take the FREE shuttle to and from First Friday. The shuttle runs from 3 p.m. to midnight. Additional parking at 902 Casino Center and 1025 South First Street\, Arts Square parking lot. Additional parking at 1000 Commerce with a short walk into the event. \n\n\n\nReservable Parking Spots \n\n\n\nWe offer parking throughout downtown that you can reserve in advance. Reserve a spot.  \n\n\n\nWherever you park\, please make sure the spot is clearly signed for public or event parking; never park anywhere that is not.
URL:https://create.vegas/event/first-friday/2027-11-05/
LOCATION:First Friday Las Vegas\, 1025 South 1st Street\, Las Vegas\, NV\, 89101\, United States
CATEGORIES:Art Events, Festivals & Expos,Community Event,Featured
ATTACH;FMTTYPE=image/jpeg:https://create.vegas/wp-content/uploads/2022/11/first-friday-banner.jpg
ORGANIZER;CN="First Friday":MAILTO:firstfridaylv@gmail.com
END:VEVENT
BEGIN:VEVENT
DTSTART;TZID=America/Los_Angeles:20271107T000000
DTEND;TZID=America/Los_Angeles:20271107T235959
DTSTAMP:20260423T210236
CREATED:20251206T024807Z
LAST-MODIFIED:20260405T024753Z
UID:10031906-1825545600-1825631999@create.vegas
SUMMARY:11AM-4PM: Surf Sunday Brunch: Live Surf/Rock Music
DESCRIPTION:Our weekly Surf Sunday Brunch\nLIVE MUSIC every Sunday 12pm-3pm\nBRUNCH SERVED 11am – 4pm
URL:https://create.vegas/event/11am-4pm-surf-sunday-brunch-live-surf-rock-music-101/
LOCATION:NV
END:VEVENT
BEGIN:VEVENT
DTSTART;TZID=America/Los_Angeles:20271109T000000
DTEND;TZID=America/Los_Angeles:20271109T235959
DTSTAMP:20260423T210236
CREATED:20251206T024808Z
LAST-MODIFIED:20260405T024753Z
UID:10031907-1825718400-1825804799@create.vegas
SUMMARY:7PM: Drinks & Dragons
DESCRIPTION:A bi-weekly D&D one-shot with booze.Written and produced by @desertionclubExclusively at @reddwarf_lv
URL:https://create.vegas/event/7pm-drinks-dragons-dnd-night-18/
LOCATION:NV
END:VEVENT
BEGIN:VEVENT
DTSTART;TZID=America/Los_Angeles:20271114T000000
DTEND;TZID=America/Los_Angeles:20271114T235959
DTSTAMP:20260423T210236
CREATED:20251206T024808Z
LAST-MODIFIED:20260405T024753Z
UID:10031908-1826150400-1826236799@create.vegas
SUMMARY:11AM-4PM: Surf Sunday Brunch: Live Surf/Rock Music
DESCRIPTION:Our weekly Surf Sunday Brunch\nLIVE MUSIC every Sunday 12pm-3pm\nBRUNCH SERVED 11am – 4pm
URL:https://create.vegas/event/11am-4pm-surf-sunday-brunch-live-surf-rock-music-102/
LOCATION:NV
END:VEVENT
BEGIN:VEVENT
DTSTART;TZID=America/Los_Angeles:20271121T000000
DTEND;TZID=America/Los_Angeles:20271121T235959
DTSTAMP:20260423T210236
CREATED:20251206T024808Z
LAST-MODIFIED:20260405T024753Z
UID:10031909-1826755200-1826841599@create.vegas
SUMMARY:11AM-4PM: Surf Sunday Brunch: Live Surf/Rock Music
DESCRIPTION:Our weekly Surf Sunday Brunch\nLIVE MUSIC every Sunday 12pm-3pm\nBRUNCH SERVED 11am – 4pm
URL:https://create.vegas/event/11am-4pm-surf-sunday-brunch-live-surf-rock-music-103/
LOCATION:NV
END:VEVENT
BEGIN:VEVENT
DTSTART;TZID=America/Los_Angeles:20271123T000000
DTEND;TZID=America/Los_Angeles:20271123T235959
DTSTAMP:20260423T210236
CREATED:20251206T024808Z
LAST-MODIFIED:20260405T024753Z
UID:10031910-1826928000-1827014399@create.vegas
SUMMARY:7PM: Drinks & Dragons
DESCRIPTION:A bi-weekly D&D one-shot with booze.Written and produced by @desertionclubExclusively at @reddwarf_lv
URL:https://create.vegas/event/7pm-drinks-dragons-dnd-night-19/
LOCATION:NV
END:VEVENT
BEGIN:VEVENT
DTSTART;TZID=America/Los_Angeles:20271128T000000
DTEND;TZID=America/Los_Angeles:20271128T235959
DTSTAMP:20260423T210236
CREATED:20251206T024808Z
LAST-MODIFIED:20260405T024753Z
UID:10031911-1827360000-1827446399@create.vegas
SUMMARY:11AM-4PM: Surf Sunday Brunch: Live Surf/Rock Music
DESCRIPTION:Our weekly Surf Sunday Brunch\nLIVE MUSIC every Sunday 12pm-3pm\nBRUNCH SERVED 11am – 4pm
URL:https://create.vegas/event/11am-4pm-surf-sunday-brunch-live-surf-rock-music-104/
LOCATION:NV
END:VEVENT
BEGIN:VEVENT
DTSTART;TZID=America/Los_Angeles:20271203T170000
DTEND;TZID=America/Los_Angeles:20271203T230000
DTSTAMP:20260423T210236
CREATED:20230701T211559Z
LAST-MODIFIED:20250622T135348Z
UID:10010814-1827853200-1827874800@create.vegas
SUMMARY:First Friday
DESCRIPTION:Join us in the arts district on Main Street for the next First Friday\, July 4th 2025 supporting local artists on the Art Walk! \n\n\n\nJuly 4th at 1025 South 1st St. 5pm-11pm \n\n\n\nSpecial note: PLAN to spend YOUR 4th of July with us next month! 5pm-11pm You can see the fireworks from the First Friday event in the arts district that will come from the top of the Plaza Hotel! The First Friday artwalk event is FREE! Support your local artists and small businesses and eat great food from local food trucks! NO FIREWORKS\, SPARKLERS\, FIRECRACKERS\, POP ITS\, GLASS BOTTLES\, OR OUTSIDE ALCOHOL ALLOWED. THANK YOU \n\n\n\nFeatured Artist: July’s Featured artist is LaRon Emcee \n\n\n\nSee live painting with local artists throughout the event curated by ISI Group & Recycled Propaganda \n\n\n\nVisit our residency art gallery inside Art Square Suite 170 resident artists Nancy Good and Andrea Knox \n\n\n\nSpecial Note Preview Thursday July 3rd Andrea Knox Art Exhibit in the resident artist space inside Arts Square \n\n\n\nMusic: Visit local artists on the Church of Bass Stage and visit DJ Eric Roulette. All entertainment starts at 5pm featuring local talent till 11pm. \n\n\n\nSupport our key sponsors: Las Vegas Raiders\, City of Las Vegas\, Jardin\, \, Eric Roy Law Firm\, Verizon\, Don Julio\, The English Hotel\, KTNV 13 \, and Park West Gallery. \n\n\n\nWe are ecstatic to host local culture and community and always consider all proper health and safety protocols each month. \n\n\n\nParking \n\n\n\nHeaded to First Friday? Don’t waste time driving around downtown Las Vegas trying to find a spot. Take advantage of one of our offerings. \n\n\n\nPark & Ride \n\n\n\nPark at the city of Las Vegas parking garage\, 500 S. Main St.\, and take the FREE shuttle to and from First Friday. The shuttle runs from 3 p.m. to midnight. Additional parking at 902 Casino Center and 1025 South First Street\, Arts Square parking lot. Additional parking at 1000 Commerce with a short walk into the event. \n\n\n\nReservable Parking Spots \n\n\n\nWe offer parking throughout downtown that you can reserve in advance. Reserve a spot.  \n\n\n\nWherever you park\, please make sure the spot is clearly signed for public or event parking; never park anywhere that is not.
URL:https://create.vegas/event/first-friday/2027-12-03/
LOCATION:First Friday Las Vegas\, 1025 South 1st Street\, Las Vegas\, NV\, 89101\, United States
CATEGORIES:Art Events, Festivals & Expos,Community Event,Featured
ATTACH;FMTTYPE=image/jpeg:https://create.vegas/wp-content/uploads/2022/11/first-friday-banner.jpg
ORGANIZER;CN="First Friday":MAILTO:firstfridaylv@gmail.com
END:VEVENT
BEGIN:VEVENT
DTSTART;TZID=America/Los_Angeles:20271205T000000
DTEND;TZID=America/Los_Angeles:20271205T235959
DTSTAMP:20260423T210236
CREATED:20251206T024808Z
LAST-MODIFIED:20260405T024753Z
UID:10031912-1827964800-1828051199@create.vegas
SUMMARY:11AM-4PM: Surf Sunday Brunch: Live Surf/Rock Music
DESCRIPTION:Our weekly Surf Sunday Brunch\nLIVE MUSIC every Sunday 12pm-3pm\nBRUNCH SERVED 11am – 4pm
URL:https://create.vegas/event/11am-4pm-surf-sunday-brunch-live-surf-rock-music-105/
LOCATION:NV
END:VEVENT
BEGIN:VEVENT
DTSTART;TZID=America/Los_Angeles:20271207T000000
DTEND;TZID=America/Los_Angeles:20271207T235959
DTSTAMP:20260423T210236
CREATED:20260105T024824Z
LAST-MODIFIED:20260405T024753Z
UID:10032510-1828137600-1828223999@create.vegas
SUMMARY:7PM: Drinks & Dragons
DESCRIPTION:A bi-weekly D&D one-shot with booze.Written and produced by @desertionclubExclusively at @reddwarf_lv
URL:https://create.vegas/event/7pm-drinks-dragons-dnd-night-20/
LOCATION:NV
END:VEVENT
BEGIN:VEVENT
DTSTART;TZID=America/Los_Angeles:20271212T000000
DTEND;TZID=America/Los_Angeles:20271212T235959
DTSTAMP:20260423T210236
CREATED:20260105T024824Z
LAST-MODIFIED:20260405T024753Z
UID:10032511-1828569600-1828655999@create.vegas
SUMMARY:11AM-4PM: Surf Sunday Brunch: Live Surf/Rock Music
DESCRIPTION:Our weekly Surf Sunday Brunch\nLIVE MUSIC every Sunday 12pm-3pm\nBRUNCH SERVED 11am – 4pm
URL:https://create.vegas/event/11am-4pm-surf-sunday-brunch-live-surf-rock-music-106/
LOCATION:NV
END:VEVENT
BEGIN:VEVENT
DTSTART;TZID=America/Los_Angeles:20271219T000000
DTEND;TZID=America/Los_Angeles:20271219T235959
DTSTAMP:20260423T210236
CREATED:20260105T024825Z
LAST-MODIFIED:20260405T024753Z
UID:10032512-1829174400-1829260799@create.vegas
SUMMARY:11AM-4PM: Surf Sunday Brunch: Live Surf/Rock Music
DESCRIPTION:Our weekly Surf Sunday Brunch\nLIVE MUSIC every Sunday 12pm-3pm\nBRUNCH SERVED 11am – 4pm
URL:https://create.vegas/event/11am-4pm-surf-sunday-brunch-live-surf-rock-music-107/
LOCATION:NV
END:VEVENT
BEGIN:VEVENT
DTSTART;TZID=America/Los_Angeles:20271221T000000
DTEND;TZID=America/Los_Angeles:20271221T235959
DTSTAMP:20260423T210236
CREATED:20260105T024825Z
LAST-MODIFIED:20260405T024753Z
UID:10032513-1829347200-1829433599@create.vegas
SUMMARY:7PM: Drinks & Dragons
DESCRIPTION:A bi-weekly D&D one-shot with booze.Written and produced by @desertionclubExclusively at @reddwarf_lv
URL:https://create.vegas/event/7pm-drinks-dragons-dnd-night-21/
LOCATION:NV
END:VEVENT
BEGIN:VEVENT
DTSTART;TZID=America/Los_Angeles:20271226T000000
DTEND;TZID=America/Los_Angeles:20271226T235959
DTSTAMP:20260423T210236
CREATED:20260105T024825Z
LAST-MODIFIED:20260405T024753Z
UID:10032514-1829779200-1829865599@create.vegas
SUMMARY:11AM-4PM: Surf Sunday Brunch: Live Surf/Rock Music
DESCRIPTION:Our weekly Surf Sunday Brunch\nLIVE MUSIC every Sunday 12pm-3pm\nBRUNCH SERVED 11am – 4pm
URL:https://create.vegas/event/11am-4pm-surf-sunday-brunch-live-surf-rock-music-108/
LOCATION:NV
END:VEVENT
END:VCALENDAR