BEGIN:VCALENDAR
VERSION:2.0
PRODID:-//Create.Vegas - ECPv6.15.20//NONSGML v1.0//EN
CALSCALE:GREGORIAN
METHOD:PUBLISH
X-WR-CALNAME:Create.Vegas
X-ORIGINAL-URL:https://create.vegas
X-WR-CALDESC:Events for Create.Vegas
REFRESH-INTERVAL;VALUE=DURATION:PT1H
X-Robots-Tag:noindex
X-PUBLISHED-TTL:PT1H
BEGIN:VTIMEZONE
TZID:America/Los_Angeles
BEGIN:DAYLIGHT
TZOFFSETFROM:-0800
TZOFFSETTO:-0700
TZNAME:PDT
DTSTART:20260308T100000
END:DAYLIGHT
BEGIN:STANDARD
TZOFFSETFROM:-0700
TZOFFSETTO:-0800
TZNAME:PST
DTSTART:20261101T090000
END:STANDARD
BEGIN:DAYLIGHT
TZOFFSETFROM:-0800
TZOFFSETTO:-0700
TZNAME:PDT
DTSTART:20270314T100000
END:DAYLIGHT
BEGIN:STANDARD
TZOFFSETFROM:-0700
TZOFFSETTO:-0800
TZNAME:PST
DTSTART:20271107T090000
END:STANDARD
BEGIN:DAYLIGHT
TZOFFSETFROM:-0800
TZOFFSETTO:-0700
TZNAME:PDT
DTSTART:20280312T100000
END:DAYLIGHT
BEGIN:STANDARD
TZOFFSETFROM:-0700
TZOFFSETTO:-0800
TZNAME:PST
DTSTART:20281105T090000
END:STANDARD
END:VTIMEZONE
BEGIN:VEVENT
DTSTART;TZID=America/Los_Angeles:20270606T000000
DTEND;TZID=America/Los_Angeles:20270606T235959
DTSTAMP:20260423T182034
CREATED:20250609T020408Z
LAST-MODIFIED:20260405T024751Z
UID:10028713-1812240000-1812326399@create.vegas
SUMMARY:11AM-4PM: Surf Sunday Brunch: Live Surf/Rock Music
DESCRIPTION:Our weekly Surf Sunday Brunch\nLIVE MUSIC every Sunday 12pm-3pm\nBRUNCH SERVED 11am – 4pm
URL:https://create.vegas/event/11am-4pm-surf-sunday-brunch-live-surf-rock-music-79/
LOCATION:NV
END:VEVENT
BEGIN:VEVENT
DTSTART;TZID=America/Los_Angeles:20270607T000000
DTEND;TZID=America/Los_Angeles:20270607T235959
DTSTAMP:20260423T182034
CREATED:20250608T173406Z
LAST-MODIFIED:20250807T173416Z
UID:10028640-1812326400-1812412799@create.vegas
SUMMARY:8pm/$5 Door: Las Vegues Trio
DESCRIPTION:
URL:https://create.vegas/event/hold-las-vegs-trio-97/
LOCATION:NV
CATEGORIES:Rock & Punk
END:VEVENT
BEGIN:VEVENT
DTSTART;TZID=America/Los_Angeles:20270608T000000
DTEND;TZID=America/Los_Angeles:20270608T235959
DTSTAMP:20260423T182034
CREATED:20250609T020408Z
LAST-MODIFIED:20260405T024751Z
UID:10028714-1812412800-1812499199@create.vegas
SUMMARY:7PM: Drinks & Dragons
DESCRIPTION:A bi-weekly D&D one-shot with booze.Written and produced by @desertionclubExclusively at @reddwarf_lv
URL:https://create.vegas/event/7pm-drinks-dragons-dnd-night-5/
LOCATION:NV
END:VEVENT
BEGIN:VEVENT
DTSTART;TZID=America/Los_Angeles:20270613T000000
DTEND;TZID=America/Los_Angeles:20270613T235959
DTSTAMP:20260423T182034
CREATED:20250709T020414Z
LAST-MODIFIED:20260405T024751Z
UID:10029033-1812844800-1812931199@create.vegas
SUMMARY:11AM-4PM: Surf Sunday Brunch: Live Surf/Rock Music
DESCRIPTION:Our weekly Surf Sunday Brunch\nLIVE MUSIC every Sunday 12pm-3pm\nBRUNCH SERVED 11am – 4pm
URL:https://create.vegas/event/11am-4pm-surf-sunday-brunch-live-surf-rock-music-80/
LOCATION:NV
END:VEVENT
BEGIN:VEVENT
DTSTART;TZID=America/Los_Angeles:20270614T000000
DTEND;TZID=America/Los_Angeles:20270614T235959
DTSTAMP:20260423T182034
CREATED:20250708T173421Z
LAST-MODIFIED:20250807T173417Z
UID:10028950-1812931200-1813017599@create.vegas
SUMMARY:8pm/$5 Door: Las Vegues Trio
DESCRIPTION:
URL:https://create.vegas/event/hold-las-vegs-trio-98/
LOCATION:NV
CATEGORIES:Rock & Punk
END:VEVENT
BEGIN:VEVENT
DTSTART;TZID=America/Los_Angeles:20270620T000000
DTEND;TZID=America/Los_Angeles:20270620T235959
DTSTAMP:20260423T182034
CREATED:20250709T020414Z
LAST-MODIFIED:20260405T024751Z
UID:10029034-1813449600-1813535999@create.vegas
SUMMARY:11AM-4PM: Surf Sunday Brunch: Live Surf/Rock Music
DESCRIPTION:Our weekly Surf Sunday Brunch\nLIVE MUSIC every Sunday 12pm-3pm\nBRUNCH SERVED 11am – 4pm
URL:https://create.vegas/event/11am-4pm-surf-sunday-brunch-live-surf-rock-music-81/
LOCATION:NV
END:VEVENT
BEGIN:VEVENT
DTSTART;TZID=America/Los_Angeles:20270621T000000
DTEND;TZID=America/Los_Angeles:20270621T235959
DTSTAMP:20260423T182034
CREATED:20250708T173421Z
LAST-MODIFIED:20250807T173417Z
UID:10028951-1813536000-1813622399@create.vegas
SUMMARY:8pm/$5 Door: Las Vegues Trio
DESCRIPTION:
URL:https://create.vegas/event/hold-las-vegs-trio-99/
LOCATION:NV
CATEGORIES:Rock & Punk
END:VEVENT
BEGIN:VEVENT
DTSTART;TZID=America/Los_Angeles:20270622T000000
DTEND;TZID=America/Los_Angeles:20270622T235959
DTSTAMP:20260423T182034
CREATED:20250709T020414Z
LAST-MODIFIED:20260405T024751Z
UID:10029035-1813622400-1813708799@create.vegas
SUMMARY:7PM: Drinks & Dragons
DESCRIPTION:A bi-weekly D&D one-shot with booze.Written and produced by @desertionclubExclusively at @reddwarf_lv
URL:https://create.vegas/event/7pm-drinks-dragons-dnd-night-6/
LOCATION:NV
END:VEVENT
BEGIN:VEVENT
DTSTART;TZID=America/Los_Angeles:20270627T000000
DTEND;TZID=America/Los_Angeles:20270627T235959
DTSTAMP:20260423T182034
CREATED:20250709T020414Z
LAST-MODIFIED:20260405T024752Z
UID:10029036-1814054400-1814140799@create.vegas
SUMMARY:11AM-4PM: Surf Sunday Brunch: Live Surf/Rock Music
DESCRIPTION:Our weekly Surf Sunday Brunch\nLIVE MUSIC every Sunday 12pm-3pm\nBRUNCH SERVED 11am – 4pm
URL:https://create.vegas/event/11am-4pm-surf-sunday-brunch-live-surf-rock-music-82/
LOCATION:NV
END:VEVENT
BEGIN:VEVENT
DTSTART;TZID=America/Los_Angeles:20270628T000000
DTEND;TZID=America/Los_Angeles:20270628T235959
DTSTAMP:20260423T182034
CREATED:20250708T173421Z
LAST-MODIFIED:20250807T173417Z
UID:10028952-1814140800-1814227199@create.vegas
SUMMARY:8pm/$5 Door: Las Vegues Trio
DESCRIPTION:
URL:https://create.vegas/event/hold-las-vegs-trio-100/
LOCATION:NV
CATEGORIES:Rock & Punk
END:VEVENT
BEGIN:VEVENT
DTSTART;TZID=America/Los_Angeles:20270702T170000
DTEND;TZID=America/Los_Angeles:20270702T230000
DTSTAMP:20260423T182034
CREATED:20230701T211559Z
LAST-MODIFIED:20250622T135348Z
UID:10010809-1814547600-1814569200@create.vegas
SUMMARY:First Friday
DESCRIPTION:Join us in the arts district on Main Street for the next First Friday\, July 4th 2025 supporting local artists on the Art Walk! \n\n\n\nJuly 4th at 1025 South 1st St. 5pm-11pm \n\n\n\nSpecial note: PLAN to spend YOUR 4th of July with us next month! 5pm-11pm You can see the fireworks from the First Friday event in the arts district that will come from the top of the Plaza Hotel! The First Friday artwalk event is FREE! Support your local artists and small businesses and eat great food from local food trucks! NO FIREWORKS\, SPARKLERS\, FIRECRACKERS\, POP ITS\, GLASS BOTTLES\, OR OUTSIDE ALCOHOL ALLOWED. THANK YOU \n\n\n\nFeatured Artist: July’s Featured artist is LaRon Emcee \n\n\n\nSee live painting with local artists throughout the event curated by ISI Group & Recycled Propaganda \n\n\n\nVisit our residency art gallery inside Art Square Suite 170 resident artists Nancy Good and Andrea Knox \n\n\n\nSpecial Note Preview Thursday July 3rd Andrea Knox Art Exhibit in the resident artist space inside Arts Square \n\n\n\nMusic: Visit local artists on the Church of Bass Stage and visit DJ Eric Roulette. All entertainment starts at 5pm featuring local talent till 11pm. \n\n\n\nSupport our key sponsors: Las Vegas Raiders\, City of Las Vegas\, Jardin\, \, Eric Roy Law Firm\, Verizon\, Don Julio\, The English Hotel\, KTNV 13 \, and Park West Gallery. \n\n\n\nWe are ecstatic to host local culture and community and always consider all proper health and safety protocols each month. \n\n\n\nParking \n\n\n\nHeaded to First Friday? Don’t waste time driving around downtown Las Vegas trying to find a spot. Take advantage of one of our offerings. \n\n\n\nPark & Ride \n\n\n\nPark at the city of Las Vegas parking garage\, 500 S. Main St.\, and take the FREE shuttle to and from First Friday. The shuttle runs from 3 p.m. to midnight. Additional parking at 902 Casino Center and 1025 South First Street\, Arts Square parking lot. Additional parking at 1000 Commerce with a short walk into the event. \n\n\n\nReservable Parking Spots \n\n\n\nWe offer parking throughout downtown that you can reserve in advance. Reserve a spot.  \n\n\n\nWherever you park\, please make sure the spot is clearly signed for public or event parking; never park anywhere that is not.
URL:https://create.vegas/event/first-friday/2027-07-02/
LOCATION:First Friday Las Vegas\, 1025 South 1st Street\, Las Vegas\, NV\, 89101\, United States
CATEGORIES:Art Events, Festivals & Expos,Community Event,Featured
ATTACH;FMTTYPE=image/jpeg:https://create.vegas/wp-content/uploads/2022/11/first-friday-banner.jpg
ORGANIZER;CN="First Friday":MAILTO:firstfridaylv@gmail.com
END:VEVENT
BEGIN:VEVENT
DTSTART;TZID=America/Los_Angeles:20270704T000000
DTEND;TZID=America/Los_Angeles:20270704T235959
DTSTAMP:20260423T182034
CREATED:20250709T020414Z
LAST-MODIFIED:20260405T024752Z
UID:10029037-1814659200-1814745599@create.vegas
SUMMARY:11AM-4PM: Surf Sunday Brunch: Live Surf/Rock Music
DESCRIPTION:Our weekly Surf Sunday Brunch\nLIVE MUSIC every Sunday 12pm-3pm\nBRUNCH SERVED 11am – 4pm
URL:https://create.vegas/event/11am-4pm-surf-sunday-brunch-live-surf-rock-music-83/
LOCATION:NV
END:VEVENT
BEGIN:VEVENT
DTSTART;TZID=America/Los_Angeles:20270705T000000
DTEND;TZID=America/Los_Angeles:20270705T235959
DTSTAMP:20260423T182034
CREATED:20250708T173422Z
LAST-MODIFIED:20250807T173417Z
UID:10028953-1814745600-1814831999@create.vegas
SUMMARY:8pm/$5 Door: Las Vegues Trio
DESCRIPTION:
URL:https://create.vegas/event/hold-las-vegs-trio-101/
LOCATION:NV
CATEGORIES:Rock & Punk
END:VEVENT
BEGIN:VEVENT
DTSTART;TZID=America/Los_Angeles:20270706T000000
DTEND;TZID=America/Los_Angeles:20270706T235959
DTSTAMP:20260423T182034
CREATED:20250709T020414Z
LAST-MODIFIED:20260405T024752Z
UID:10029038-1814832000-1814918399@create.vegas
SUMMARY:7PM: Drinks & Dragons
DESCRIPTION:A bi-weekly D&D one-shot with booze.Written and produced by @desertionclubExclusively at @reddwarf_lv
URL:https://create.vegas/event/7pm-drinks-dragons-dnd-night-7/
LOCATION:NV
END:VEVENT
BEGIN:VEVENT
DTSTART;TZID=America/Los_Angeles:20270711T000000
DTEND;TZID=America/Los_Angeles:20270711T235959
DTSTAMP:20260423T182034
CREATED:20250808T021928Z
LAST-MODIFIED:20260405T024752Z
UID:10029315-1815264000-1815350399@create.vegas
SUMMARY:11AM-4PM: Surf Sunday Brunch: Live Surf/Rock Music
DESCRIPTION:Our weekly Surf Sunday Brunch\nLIVE MUSIC every Sunday 12pm-3pm\nBRUNCH SERVED 11am – 4pm
URL:https://create.vegas/event/11am-4pm-surf-sunday-brunch-live-surf-rock-music-84/
LOCATION:NV
END:VEVENT
BEGIN:VEVENT
DTSTART;TZID=America/Los_Angeles:20270712T000000
DTEND;TZID=America/Los_Angeles:20270712T235959
DTSTAMP:20260423T182034
CREATED:20250807T173417Z
LAST-MODIFIED:20250807T173417Z
UID:10029255-1815350400-1815436799@create.vegas
SUMMARY:8pm/$5 Door: Las Vegues Trio
DESCRIPTION:
URL:https://create.vegas/event/8pm-5-door-las-vegues-trio/
LOCATION:NV
CATEGORIES:Rock & Punk
END:VEVENT
BEGIN:VEVENT
DTSTART;TZID=America/Los_Angeles:20270718T000000
DTEND;TZID=America/Los_Angeles:20270718T235959
DTSTAMP:20260423T182034
CREATED:20250808T021928Z
LAST-MODIFIED:20260405T024752Z
UID:10029316-1815868800-1815955199@create.vegas
SUMMARY:11AM-4PM: Surf Sunday Brunch: Live Surf/Rock Music
DESCRIPTION:Our weekly Surf Sunday Brunch\nLIVE MUSIC every Sunday 12pm-3pm\nBRUNCH SERVED 11am – 4pm
URL:https://create.vegas/event/11am-4pm-surf-sunday-brunch-live-surf-rock-music-85/
LOCATION:NV
END:VEVENT
BEGIN:VEVENT
DTSTART;TZID=America/Los_Angeles:20270719T000000
DTEND;TZID=America/Los_Angeles:20270719T235959
DTSTAMP:20260423T182034
CREATED:20250807T173417Z
LAST-MODIFIED:20250807T173417Z
UID:10029256-1815955200-1816041599@create.vegas
SUMMARY:8pm/$5 Door: Las Vegues Trio
DESCRIPTION:
URL:https://create.vegas/event/8pm-5-door-las-vegues-trio-2/
LOCATION:NV
CATEGORIES:Rock & Punk
END:VEVENT
BEGIN:VEVENT
DTSTART;TZID=America/Los_Angeles:20270720T000000
DTEND;TZID=America/Los_Angeles:20270720T235959
DTSTAMP:20260423T182034
CREATED:20250808T021928Z
LAST-MODIFIED:20260405T024752Z
UID:10029317-1816041600-1816127999@create.vegas
SUMMARY:7PM: Drinks & Dragons
DESCRIPTION:A bi-weekly D&D one-shot with booze.Written and produced by @desertionclubExclusively at @reddwarf_lv
URL:https://create.vegas/event/7pm-drinks-dragons-dnd-night-9/
LOCATION:NV
END:VEVENT
BEGIN:VEVENT
DTSTART;TZID=America/Los_Angeles:20270725T000000
DTEND;TZID=America/Los_Angeles:20270725T235959
DTSTAMP:20260423T182034
CREATED:20250808T021928Z
LAST-MODIFIED:20260405T024752Z
UID:10029318-1816473600-1816559999@create.vegas
SUMMARY:11AM-4PM: Surf Sunday Brunch: Live Surf/Rock Music
DESCRIPTION:Our weekly Surf Sunday Brunch\nLIVE MUSIC every Sunday 12pm-3pm\nBRUNCH SERVED 11am – 4pm
URL:https://create.vegas/event/11am-4pm-surf-sunday-brunch-live-surf-rock-music-86/
LOCATION:NV
END:VEVENT
BEGIN:VEVENT
DTSTART;TZID=America/Los_Angeles:20270726T000000
DTEND;TZID=America/Los_Angeles:20270726T235959
DTSTAMP:20260423T182034
CREATED:20250807T173417Z
LAST-MODIFIED:20250807T173417Z
UID:10029257-1816560000-1816646399@create.vegas
SUMMARY:8pm/$5 Door: Las Vegues Trio
DESCRIPTION:
URL:https://create.vegas/event/8pm-5-door-las-vegues-trio-3/
LOCATION:NV
CATEGORIES:Rock & Punk
END:VEVENT
BEGIN:VEVENT
DTSTART;TZID=America/Los_Angeles:20270801T000000
DTEND;TZID=America/Los_Angeles:20270801T235959
DTSTAMP:20260423T182034
CREATED:20250808T021929Z
LAST-MODIFIED:20260405T024752Z
UID:10029306-1817078400-1817164799@create.vegas
SUMMARY:11AM-4PM: Surf Sunday Brunch: Live Surf/Rock Music
DESCRIPTION:Our weekly Surf Sunday Brunch\nLIVE MUSIC every Sunday 12pm-3pm\nBRUNCH SERVED 11am – 4pm
URL:https://create.vegas/event/11am-4pm-surf-sunday-brunch-live-surf-rock-music-87/
LOCATION:NV
END:VEVENT
BEGIN:VEVENT
DTSTART;TZID=America/Los_Angeles:20270802T000000
DTEND;TZID=America/Los_Angeles:20270802T235959
DTSTAMP:20260423T182034
CREATED:20250807T173418Z
LAST-MODIFIED:20250807T173418Z
UID:10029241-1817164800-1817251199@create.vegas
SUMMARY:8pm/$5 Door: Las Vegues Trio
DESCRIPTION:
URL:https://create.vegas/event/8pm-5-door-las-vegues-trio-4/
LOCATION:NV
CATEGORIES:Rock & Punk
END:VEVENT
BEGIN:VEVENT
DTSTART;TZID=America/Los_Angeles:20270803T000000
DTEND;TZID=America/Los_Angeles:20270803T235959
DTSTAMP:20260423T182034
CREATED:20250808T021929Z
LAST-MODIFIED:20260405T024752Z
UID:10029308-1817251200-1817337599@create.vegas
SUMMARY:7PM: Drinks & Dragons
DESCRIPTION:A bi-weekly D&D one-shot with booze.Written and produced by @desertionclubExclusively at @reddwarf_lv
URL:https://create.vegas/event/7pm-drinks-dragons-dnd-night-10/
LOCATION:NV
END:VEVENT
BEGIN:VEVENT
DTSTART;TZID=America/Los_Angeles:20270806T170000
DTEND;TZID=America/Los_Angeles:20270806T230000
DTSTAMP:20260423T182034
CREATED:20230701T211559Z
LAST-MODIFIED:20250622T135348Z
UID:10010810-1817571600-1817593200@create.vegas
SUMMARY:First Friday
DESCRIPTION:Join us in the arts district on Main Street for the next First Friday\, July 4th 2025 supporting local artists on the Art Walk! \n\n\n\nJuly 4th at 1025 South 1st St. 5pm-11pm \n\n\n\nSpecial note: PLAN to spend YOUR 4th of July with us next month! 5pm-11pm You can see the fireworks from the First Friday event in the arts district that will come from the top of the Plaza Hotel! The First Friday artwalk event is FREE! Support your local artists and small businesses and eat great food from local food trucks! NO FIREWORKS\, SPARKLERS\, FIRECRACKERS\, POP ITS\, GLASS BOTTLES\, OR OUTSIDE ALCOHOL ALLOWED. THANK YOU \n\n\n\nFeatured Artist: July’s Featured artist is LaRon Emcee \n\n\n\nSee live painting with local artists throughout the event curated by ISI Group & Recycled Propaganda \n\n\n\nVisit our residency art gallery inside Art Square Suite 170 resident artists Nancy Good and Andrea Knox \n\n\n\nSpecial Note Preview Thursday July 3rd Andrea Knox Art Exhibit in the resident artist space inside Arts Square \n\n\n\nMusic: Visit local artists on the Church of Bass Stage and visit DJ Eric Roulette. All entertainment starts at 5pm featuring local talent till 11pm. \n\n\n\nSupport our key sponsors: Las Vegas Raiders\, City of Las Vegas\, Jardin\, \, Eric Roy Law Firm\, Verizon\, Don Julio\, The English Hotel\, KTNV 13 \, and Park West Gallery. \n\n\n\nWe are ecstatic to host local culture and community and always consider all proper health and safety protocols each month. \n\n\n\nParking \n\n\n\nHeaded to First Friday? Don’t waste time driving around downtown Las Vegas trying to find a spot. Take advantage of one of our offerings. \n\n\n\nPark & Ride \n\n\n\nPark at the city of Las Vegas parking garage\, 500 S. Main St.\, and take the FREE shuttle to and from First Friday. The shuttle runs from 3 p.m. to midnight. Additional parking at 902 Casino Center and 1025 South First Street\, Arts Square parking lot. Additional parking at 1000 Commerce with a short walk into the event. \n\n\n\nReservable Parking Spots \n\n\n\nWe offer parking throughout downtown that you can reserve in advance. Reserve a spot.  \n\n\n\nWherever you park\, please make sure the spot is clearly signed for public or event parking; never park anywhere that is not.
URL:https://create.vegas/event/first-friday/2027-08-06/
LOCATION:First Friday Las Vegas\, 1025 South 1st Street\, Las Vegas\, NV\, 89101\, United States
CATEGORIES:Art Events, Festivals & Expos,Community Event,Featured
ATTACH;FMTTYPE=image/jpeg:https://create.vegas/wp-content/uploads/2022/11/first-friday-banner.jpg
ORGANIZER;CN="First Friday":MAILTO:firstfridaylv@gmail.com
END:VEVENT
BEGIN:VEVENT
DTSTART;TZID=America/Los_Angeles:20270808T000000
DTEND;TZID=America/Los_Angeles:20270808T235959
DTSTAMP:20260423T182034
CREATED:20250808T021930Z
LAST-MODIFIED:20260405T024752Z
UID:10029310-1817683200-1817769599@create.vegas
SUMMARY:11AM-4PM: Surf Sunday Brunch: Live Surf/Rock Music
DESCRIPTION:Our weekly Surf Sunday Brunch\nLIVE MUSIC every Sunday 12pm-3pm\nBRUNCH SERVED 11am – 4pm
URL:https://create.vegas/event/11am-4pm-surf-sunday-brunch-live-surf-rock-music-88/
LOCATION:NV
END:VEVENT
BEGIN:VEVENT
DTSTART;TZID=America/Los_Angeles:20270815T000000
DTEND;TZID=America/Los_Angeles:20270815T235959
DTSTAMP:20260423T182034
CREATED:20250907T023312Z
LAST-MODIFIED:20260405T024752Z
UID:10029543-1818288000-1818374399@create.vegas
SUMMARY:11AM-4PM: Surf Sunday Brunch: Live Surf/Rock Music
DESCRIPTION:Our weekly Surf Sunday Brunch\nLIVE MUSIC every Sunday 12pm-3pm\nBRUNCH SERVED 11am – 4pm
URL:https://create.vegas/event/11am-4pm-surf-sunday-brunch-live-surf-rock-music-89/
LOCATION:NV
END:VEVENT
BEGIN:VEVENT
DTSTART;TZID=America/Los_Angeles:20270817T000000
DTEND;TZID=America/Los_Angeles:20270817T235959
DTSTAMP:20260423T182034
CREATED:20250907T023313Z
LAST-MODIFIED:20260405T024752Z
UID:10029544-1818460800-1818547199@create.vegas
SUMMARY:7PM: Drinks & Dragons
DESCRIPTION:A bi-weekly D&D one-shot with booze.Written and produced by @desertionclubExclusively at @reddwarf_lv
URL:https://create.vegas/event/7pm-drinks-dragons-dnd-night-11/
LOCATION:NV
END:VEVENT
BEGIN:VEVENT
DTSTART;TZID=America/Los_Angeles:20270822T000000
DTEND;TZID=America/Los_Angeles:20270822T235959
DTSTAMP:20260423T182034
CREATED:20250907T023313Z
LAST-MODIFIED:20260405T024752Z
UID:10029545-1818892800-1818979199@create.vegas
SUMMARY:11AM-4PM: Surf Sunday Brunch: Live Surf/Rock Music
DESCRIPTION:Our weekly Surf Sunday Brunch\nLIVE MUSIC every Sunday 12pm-3pm\nBRUNCH SERVED 11am – 4pm
URL:https://create.vegas/event/11am-4pm-surf-sunday-brunch-live-surf-rock-music-90/
LOCATION:NV
END:VEVENT
BEGIN:VEVENT
DTSTART;TZID=America/Los_Angeles:20270829T000000
DTEND;TZID=America/Los_Angeles:20270829T235959
DTSTAMP:20260423T182034
CREATED:20250907T023313Z
LAST-MODIFIED:20260405T024752Z
UID:10029546-1819497600-1819583999@create.vegas
SUMMARY:11AM-4PM: Surf Sunday Brunch: Live Surf/Rock Music
DESCRIPTION:Our weekly Surf Sunday Brunch\nLIVE MUSIC every Sunday 12pm-3pm\nBRUNCH SERVED 11am – 4pm
URL:https://create.vegas/event/11am-4pm-surf-sunday-brunch-live-surf-rock-music-91/
LOCATION:NV
END:VEVENT
END:VCALENDAR