BEGIN:VCALENDAR
VERSION:2.0
PRODID:-//Create.Vegas - ECPv6.15.20//NONSGML v1.0//EN
CALSCALE:GREGORIAN
METHOD:PUBLISH
X-ORIGINAL-URL:https://create.vegas
X-WR-CALDESC:Events for Create.Vegas
REFRESH-INTERVAL;VALUE=DURATION:PT1H
X-Robots-Tag:noindex
X-PUBLISHED-TTL:PT1H
BEGIN:VTIMEZONE
TZID:America/Los_Angeles
BEGIN:DAYLIGHT
TZOFFSETFROM:-0800
TZOFFSETTO:-0700
TZNAME:PDT
DTSTART:20260308T100000
END:DAYLIGHT
BEGIN:STANDARD
TZOFFSETFROM:-0700
TZOFFSETTO:-0800
TZNAME:PST
DTSTART:20261101T090000
END:STANDARD
BEGIN:DAYLIGHT
TZOFFSETFROM:-0800
TZOFFSETTO:-0700
TZNAME:PDT
DTSTART:20270314T100000
END:DAYLIGHT
BEGIN:STANDARD
TZOFFSETFROM:-0700
TZOFFSETTO:-0800
TZNAME:PST
DTSTART:20271107T090000
END:STANDARD
BEGIN:DAYLIGHT
TZOFFSETFROM:-0800
TZOFFSETTO:-0700
TZNAME:PDT
DTSTART:20280312T100000
END:DAYLIGHT
BEGIN:STANDARD
TZOFFSETFROM:-0700
TZOFFSETTO:-0800
TZNAME:PST
DTSTART:20281105T090000
END:STANDARD
END:VTIMEZONE
BEGIN:VEVENT
DTSTART;TZID=America/Los_Angeles:20270202T000000
DTEND;TZID=America/Los_Angeles:20270202T235959
DTSTAMP:20260423T142314
CREATED:20250209T001416Z
LAST-MODIFIED:20260405T024750Z
UID:10025265-1801526400-1801612799@create.vegas
SUMMARY:7PM: Drinks & Dragons
DESCRIPTION:A bi-weekly D&D one-shot with booze.Written and produced by @desertionclubExclusively at @reddwarf_lv
URL:https://create.vegas/event/7pm-drinks-dragons-dnd-night-86/
LOCATION:NV
END:VEVENT
BEGIN:VEVENT
DTSTART;TZID=America/Los_Angeles:20270205T170000
DTEND;TZID=America/Los_Angeles:20270205T230000
DTSTAMP:20260423T142314
CREATED:20230701T211559Z
LAST-MODIFIED:20250622T135348Z
UID:10010804-1801846800-1801868400@create.vegas
SUMMARY:First Friday
DESCRIPTION:Join us in the arts district on Main Street for the next First Friday\, July 4th 2025 supporting local artists on the Art Walk! \n\n\n\nJuly 4th at 1025 South 1st St. 5pm-11pm \n\n\n\nSpecial note: PLAN to spend YOUR 4th of July with us next month! 5pm-11pm You can see the fireworks from the First Friday event in the arts district that will come from the top of the Plaza Hotel! The First Friday artwalk event is FREE! Support your local artists and small businesses and eat great food from local food trucks! NO FIREWORKS\, SPARKLERS\, FIRECRACKERS\, POP ITS\, GLASS BOTTLES\, OR OUTSIDE ALCOHOL ALLOWED. THANK YOU \n\n\n\nFeatured Artist: July’s Featured artist is LaRon Emcee \n\n\n\nSee live painting with local artists throughout the event curated by ISI Group & Recycled Propaganda \n\n\n\nVisit our residency art gallery inside Art Square Suite 170 resident artists Nancy Good and Andrea Knox \n\n\n\nSpecial Note Preview Thursday July 3rd Andrea Knox Art Exhibit in the resident artist space inside Arts Square \n\n\n\nMusic: Visit local artists on the Church of Bass Stage and visit DJ Eric Roulette. All entertainment starts at 5pm featuring local talent till 11pm. \n\n\n\nSupport our key sponsors: Las Vegas Raiders\, City of Las Vegas\, Jardin\, \, Eric Roy Law Firm\, Verizon\, Don Julio\, The English Hotel\, KTNV 13 \, and Park West Gallery. \n\n\n\nWe are ecstatic to host local culture and community and always consider all proper health and safety protocols each month. \n\n\n\nParking \n\n\n\nHeaded to First Friday? Don’t waste time driving around downtown Las Vegas trying to find a spot. Take advantage of one of our offerings. \n\n\n\nPark & Ride \n\n\n\nPark at the city of Las Vegas parking garage\, 500 S. Main St.\, and take the FREE shuttle to and from First Friday. The shuttle runs from 3 p.m. to midnight. Additional parking at 902 Casino Center and 1025 South First Street\, Arts Square parking lot. Additional parking at 1000 Commerce with a short walk into the event. \n\n\n\nReservable Parking Spots \n\n\n\nWe offer parking throughout downtown that you can reserve in advance. Reserve a spot.  \n\n\n\nWherever you park\, please make sure the spot is clearly signed for public or event parking; never park anywhere that is not.
URL:https://create.vegas/event/first-friday/2027-02-05/
LOCATION:First Friday Las Vegas\, 1025 South 1st Street\, Las Vegas\, NV\, 89101\, United States
CATEGORIES:Art Events, Festivals & Expos,Community Event,Featured
ATTACH;FMTTYPE=image/jpeg:https://create.vegas/wp-content/uploads/2022/11/first-friday-banner.jpg
ORGANIZER;CN="First Friday":MAILTO:firstfridaylv@gmail.com
END:VEVENT
BEGIN:VEVENT
DTSTART;TZID=America/Los_Angeles:20270207T000000
DTEND;TZID=America/Los_Angeles:20270207T235959
DTSTAMP:20260423T142314
CREATED:20250209T001417Z
LAST-MODIFIED:20260405T024750Z
UID:10025266-1801958400-1802044799@create.vegas
SUMMARY:11AM-4PM: Surf Sunday Brunch: Live Surf/Rock Music
DESCRIPTION:Our weekly Surf Sunday Brunch\nLIVE MUSIC every Sunday 12pm-3pm\nBRUNCH SERVED 11am – 4pm
URL:https://create.vegas/event/11am-4pm-surf-sunday-brunch-live-surf-rock-music-62/
LOCATION:NV
END:VEVENT
BEGIN:VEVENT
DTSTART;TZID=America/Los_Angeles:20270208T000000
DTEND;TZID=America/Los_Angeles:20270208T235959
DTSTAMP:20260423T142314
CREATED:20250509T171917Z
LAST-MODIFIED:20250807T173414Z
UID:10028318-1802044800-1802131199@create.vegas
SUMMARY:8pm/$5 Door: Las Vegues Trio
DESCRIPTION:
URL:https://create.vegas/event/hold-las-vegs-trio-80/
LOCATION:NV
CATEGORIES:Rock & Punk
END:VEVENT
BEGIN:VEVENT
DTSTART;TZID=America/Los_Angeles:20270214T000000
DTEND;TZID=America/Los_Angeles:20270214T235959
DTSTAMP:20260423T142314
CREATED:20250410T014824Z
LAST-MODIFIED:20260405T024750Z
UID:10026168-1802563200-1802649599@create.vegas
SUMMARY:11AM-4PM: Surf Sunday Brunch: Live Surf/Rock Music
DESCRIPTION:Our weekly Surf Sunday Brunch\nLIVE MUSIC every Sunday 12pm-3pm\nBRUNCH SERVED 11am – 4pm
URL:https://create.vegas/event/11am-4pm-surf-sunday-brunch-live-surf-rock-music-63/
LOCATION:NV
END:VEVENT
BEGIN:VEVENT
DTSTART;TZID=America/Los_Angeles:20270215T000000
DTEND;TZID=America/Los_Angeles:20270215T235959
DTSTAMP:20260423T142314
CREATED:20250509T171917Z
LAST-MODIFIED:20250807T173414Z
UID:10028319-1802649600-1802735999@create.vegas
SUMMARY:8pm/$5 Door: Las Vegues Trio
DESCRIPTION:
URL:https://create.vegas/event/hold-las-vegs-trio-81/
LOCATION:NV
CATEGORIES:Rock & Punk
END:VEVENT
BEGIN:VEVENT
DTSTART;TZID=America/Los_Angeles:20270216T000000
DTEND;TZID=America/Los_Angeles:20270216T235959
DTSTAMP:20260423T142314
CREATED:20250410T014824Z
LAST-MODIFIED:20260405T024750Z
UID:10026169-1802736000-1802822399@create.vegas
SUMMARY:7PM: Drinks & Dragons
DESCRIPTION:A bi-weekly D&D one-shot with booze.Written and produced by @desertionclubExclusively at @reddwarf_lv
URL:https://create.vegas/event/7pm-drinks-dragons-dnd-night-87/
LOCATION:NV
END:VEVENT
BEGIN:VEVENT
DTSTART;TZID=America/Los_Angeles:20270221T000000
DTEND;TZID=America/Los_Angeles:20270221T235959
DTSTAMP:20260423T142314
CREATED:20250410T014824Z
LAST-MODIFIED:20260405T024751Z
UID:10026170-1803168000-1803254399@create.vegas
SUMMARY:11AM-4PM: Surf Sunday Brunch: Live Surf/Rock Music
DESCRIPTION:Our weekly Surf Sunday Brunch\nLIVE MUSIC every Sunday 12pm-3pm\nBRUNCH SERVED 11am – 4pm
URL:https://create.vegas/event/11am-4pm-surf-sunday-brunch-live-surf-rock-music-64/
LOCATION:NV
END:VEVENT
BEGIN:VEVENT
DTSTART;TZID=America/Los_Angeles:20270222T000000
DTEND;TZID=America/Los_Angeles:20270222T235959
DTSTAMP:20260423T142314
CREATED:20250509T171918Z
LAST-MODIFIED:20250807T173414Z
UID:10028320-1803254400-1803340799@create.vegas
SUMMARY:8pm/$5 Door: Las Vegues Trio
DESCRIPTION:
URL:https://create.vegas/event/hold-las-vegs-trio-82/
LOCATION:NV
CATEGORIES:Rock & Punk
END:VEVENT
BEGIN:VEVENT
DTSTART;TZID=America/Los_Angeles:20270228T000000
DTEND;TZID=America/Los_Angeles:20270228T235959
DTSTAMP:20260423T142314
CREATED:20250410T014824Z
LAST-MODIFIED:20260405T024751Z
UID:10026171-1803772800-1803859199@create.vegas
SUMMARY:11AM-4PM: Surf Sunday Brunch: Live Surf/Rock Music
DESCRIPTION:Our weekly Surf Sunday Brunch\nLIVE MUSIC every Sunday 12pm-3pm\nBRUNCH SERVED 11am – 4pm
URL:https://create.vegas/event/11am-4pm-surf-sunday-brunch-live-surf-rock-music-65/
LOCATION:NV
END:VEVENT
BEGIN:VEVENT
DTSTART;TZID=America/Los_Angeles:20270301T000000
DTEND;TZID=America/Los_Angeles:20270301T235959
DTSTAMP:20260423T142314
CREATED:20250509T171918Z
LAST-MODIFIED:20250807T173414Z
UID:10028321-1803859200-1803945599@create.vegas
SUMMARY:8pm/$5 Door: Las Vegues Trio
DESCRIPTION:
URL:https://create.vegas/event/hold-las-vegs-trio-83/
LOCATION:NV
CATEGORIES:Rock & Punk
END:VEVENT
BEGIN:VEVENT
DTSTART;TZID=America/Los_Angeles:20270302T000000
DTEND;TZID=America/Los_Angeles:20270302T235959
DTSTAMP:20260423T142314
CREATED:20250410T014825Z
LAST-MODIFIED:20260405T024751Z
UID:10026172-1803945600-1804031999@create.vegas
SUMMARY:7PM: Drinks & Dragons
DESCRIPTION:A bi-weekly D&D one-shot with booze.Written and produced by @desertionclubExclusively at @reddwarf_lv
URL:https://create.vegas/event/7pm-drinks-dragons-dnd-night-88/
LOCATION:NV
END:VEVENT
BEGIN:VEVENT
DTSTART;TZID=America/Los_Angeles:20270305T170000
DTEND;TZID=America/Los_Angeles:20270305T230000
DTSTAMP:20260423T142314
CREATED:20230701T211559Z
LAST-MODIFIED:20250622T135348Z
UID:10010805-1804266000-1804287600@create.vegas
SUMMARY:First Friday
DESCRIPTION:Join us in the arts district on Main Street for the next First Friday\, July 4th 2025 supporting local artists on the Art Walk! \n\n\n\nJuly 4th at 1025 South 1st St. 5pm-11pm \n\n\n\nSpecial note: PLAN to spend YOUR 4th of July with us next month! 5pm-11pm You can see the fireworks from the First Friday event in the arts district that will come from the top of the Plaza Hotel! The First Friday artwalk event is FREE! Support your local artists and small businesses and eat great food from local food trucks! NO FIREWORKS\, SPARKLERS\, FIRECRACKERS\, POP ITS\, GLASS BOTTLES\, OR OUTSIDE ALCOHOL ALLOWED. THANK YOU \n\n\n\nFeatured Artist: July’s Featured artist is LaRon Emcee \n\n\n\nSee live painting with local artists throughout the event curated by ISI Group & Recycled Propaganda \n\n\n\nVisit our residency art gallery inside Art Square Suite 170 resident artists Nancy Good and Andrea Knox \n\n\n\nSpecial Note Preview Thursday July 3rd Andrea Knox Art Exhibit in the resident artist space inside Arts Square \n\n\n\nMusic: Visit local artists on the Church of Bass Stage and visit DJ Eric Roulette. All entertainment starts at 5pm featuring local talent till 11pm. \n\n\n\nSupport our key sponsors: Las Vegas Raiders\, City of Las Vegas\, Jardin\, \, Eric Roy Law Firm\, Verizon\, Don Julio\, The English Hotel\, KTNV 13 \, and Park West Gallery. \n\n\n\nWe are ecstatic to host local culture and community and always consider all proper health and safety protocols each month. \n\n\n\nParking \n\n\n\nHeaded to First Friday? Don’t waste time driving around downtown Las Vegas trying to find a spot. Take advantage of one of our offerings. \n\n\n\nPark & Ride \n\n\n\nPark at the city of Las Vegas parking garage\, 500 S. Main St.\, and take the FREE shuttle to and from First Friday. The shuttle runs from 3 p.m. to midnight. Additional parking at 902 Casino Center and 1025 South First Street\, Arts Square parking lot. Additional parking at 1000 Commerce with a short walk into the event. \n\n\n\nReservable Parking Spots \n\n\n\nWe offer parking throughout downtown that you can reserve in advance. Reserve a spot.  \n\n\n\nWherever you park\, please make sure the spot is clearly signed for public or event parking; never park anywhere that is not.
URL:https://create.vegas/event/first-friday/2027-03-05/
LOCATION:First Friday Las Vegas\, 1025 South 1st Street\, Las Vegas\, NV\, 89101\, United States
CATEGORIES:Art Events, Festivals & Expos,Community Event,Featured
ATTACH;FMTTYPE=image/jpeg:https://create.vegas/wp-content/uploads/2022/11/first-friday-banner.jpg
ORGANIZER;CN="First Friday":MAILTO:firstfridaylv@gmail.com
END:VEVENT
BEGIN:VEVENT
DTSTART;TZID=America/Los_Angeles:20270307T000000
DTEND;TZID=America/Los_Angeles:20270307T235959
DTSTAMP:20260423T142314
CREATED:20250410T014829Z
LAST-MODIFIED:20260405T024751Z
UID:10026173-1804377600-1804463999@create.vegas
SUMMARY:11AM-4PM: Surf Sunday Brunch: Live Surf/Rock Music
DESCRIPTION:Our weekly Surf Sunday Brunch\nLIVE MUSIC every Sunday 12pm-3pm\nBRUNCH SERVED 11am – 4pm
URL:https://create.vegas/event/11am-4pm-surf-sunday-brunch-live-surf-rock-music-66/
LOCATION:NV
END:VEVENT
BEGIN:VEVENT
DTSTART;TZID=America/Los_Angeles:20270308T000000
DTEND;TZID=America/Los_Angeles:20270308T235959
DTSTAMP:20260423T142314
CREATED:20250509T171918Z
LAST-MODIFIED:20250807T173414Z
UID:10028322-1804464000-1804550399@create.vegas
SUMMARY:8pm/$5 Door: Las Vegues Trio
DESCRIPTION:
URL:https://create.vegas/event/hold-las-vegs-trio-84/
LOCATION:NV
CATEGORIES:Rock & Punk
END:VEVENT
BEGIN:VEVENT
DTSTART;TZID=America/Los_Angeles:20270314T000000
DTEND;TZID=America/Los_Angeles:20270314T235959
DTSTAMP:20260423T142314
CREATED:20250410T014831Z
LAST-MODIFIED:20260405T024751Z
UID:10026174-1804982400-1805068799@create.vegas
SUMMARY:11AM-4PM: Surf Sunday Brunch: Live Surf/Rock Music
DESCRIPTION:Our weekly Surf Sunday Brunch\nLIVE MUSIC every Sunday 12pm-3pm\nBRUNCH SERVED 11am – 4pm
URL:https://create.vegas/event/11am-4pm-surf-sunday-brunch-live-surf-rock-music-67/
LOCATION:NV
END:VEVENT
BEGIN:VEVENT
DTSTART;TZID=America/Los_Angeles:20270315T000000
DTEND;TZID=America/Los_Angeles:20270315T235959
DTSTAMP:20260423T142314
CREATED:20250509T171919Z
LAST-MODIFIED:20250807T173415Z
UID:10028323-1805068800-1805155199@create.vegas
SUMMARY:8pm/$5 Door: Las Vegues Trio
DESCRIPTION:
URL:https://create.vegas/event/hold-las-vegs-trio-85/
LOCATION:NV
CATEGORIES:Rock & Punk
END:VEVENT
BEGIN:VEVENT
DTSTART;TZID=America/Los_Angeles:20270316T000000
DTEND;TZID=America/Los_Angeles:20270316T235959
DTSTAMP:20260423T142314
CREATED:20250410T014831Z
LAST-MODIFIED:20260405T024751Z
UID:10026175-1805155200-1805241599@create.vegas
SUMMARY:7PM: Drinks & Dragons
DESCRIPTION:A bi-weekly D&D one-shot with booze.Written and produced by @desertionclubExclusively at @reddwarf_lv
URL:https://create.vegas/event/7pm-drinks-dragons-dnd-night-89/
LOCATION:NV
END:VEVENT
BEGIN:VEVENT
DTSTART;TZID=America/Los_Angeles:20270321T000000
DTEND;TZID=America/Los_Angeles:20270321T235959
DTSTAMP:20260423T142314
CREATED:20250410T014831Z
LAST-MODIFIED:20260405T024751Z
UID:10026176-1805587200-1805673599@create.vegas
SUMMARY:11AM-4PM: Surf Sunday Brunch: Live Surf/Rock Music
DESCRIPTION:Our weekly Surf Sunday Brunch\nLIVE MUSIC every Sunday 12pm-3pm\nBRUNCH SERVED 11am – 4pm
URL:https://create.vegas/event/11am-4pm-surf-sunday-brunch-live-surf-rock-music-68/
LOCATION:NV
END:VEVENT
BEGIN:VEVENT
DTSTART;TZID=America/Los_Angeles:20270322T000000
DTEND;TZID=America/Los_Angeles:20270322T235959
DTSTAMP:20260423T142314
CREATED:20250509T171919Z
LAST-MODIFIED:20250807T173415Z
UID:10028324-1805673600-1805759999@create.vegas
SUMMARY:8pm/$5 Door: Las Vegues Trio
DESCRIPTION:
URL:https://create.vegas/event/hold-las-vegs-trio-86/
LOCATION:NV
CATEGORIES:Rock & Punk
END:VEVENT
BEGIN:VEVENT
DTSTART;TZID=America/Los_Angeles:20270328T000000
DTEND;TZID=America/Los_Angeles:20270328T235959
DTSTAMP:20260423T142314
CREATED:20250410T014831Z
LAST-MODIFIED:20260405T024751Z
UID:10026177-1806192000-1806278399@create.vegas
SUMMARY:11AM-4PM: Surf Sunday Brunch: Live Surf/Rock Music
DESCRIPTION:Our weekly Surf Sunday Brunch\nLIVE MUSIC every Sunday 12pm-3pm\nBRUNCH SERVED 11am – 4pm
URL:https://create.vegas/event/11am-4pm-surf-sunday-brunch-live-surf-rock-music-69/
LOCATION:NV
END:VEVENT
BEGIN:VEVENT
DTSTART;TZID=America/Los_Angeles:20270329T000000
DTEND;TZID=America/Los_Angeles:20270329T235959
DTSTAMP:20260423T142314
CREATED:20250509T171920Z
LAST-MODIFIED:20250807T173415Z
UID:10028275-1806278400-1806364799@create.vegas
SUMMARY:8pm/$5 Door: Las Vegues Trio
DESCRIPTION:
URL:https://create.vegas/event/hold-las-vegs-trio-87/
LOCATION:NV
CATEGORIES:Rock & Punk
END:VEVENT
BEGIN:VEVENT
DTSTART;TZID=America/Los_Angeles:20270330T000000
DTEND;TZID=America/Los_Angeles:20270330T235959
DTSTAMP:20260423T142314
CREATED:20250410T014831Z
LAST-MODIFIED:20260405T024751Z
UID:10026178-1806364800-1806451199@create.vegas
SUMMARY:7PM: Drinks & Dragons
DESCRIPTION:A bi-weekly D&D one-shot with booze.Written and produced by @desertionclubExclusively at @reddwarf_lv
URL:https://create.vegas/event/7pm-drinks-dragons-dnd-night-90/
LOCATION:NV
END:VEVENT
BEGIN:VEVENT
DTSTART;TZID=America/Los_Angeles:20270402T170000
DTEND;TZID=America/Los_Angeles:20270402T230000
DTSTAMP:20260423T142314
CREATED:20230701T211559Z
LAST-MODIFIED:20250622T135348Z
UID:10010806-1806685200-1806706800@create.vegas
SUMMARY:First Friday
DESCRIPTION:Join us in the arts district on Main Street for the next First Friday\, July 4th 2025 supporting local artists on the Art Walk! \n\n\n\nJuly 4th at 1025 South 1st St. 5pm-11pm \n\n\n\nSpecial note: PLAN to spend YOUR 4th of July with us next month! 5pm-11pm You can see the fireworks from the First Friday event in the arts district that will come from the top of the Plaza Hotel! The First Friday artwalk event is FREE! Support your local artists and small businesses and eat great food from local food trucks! NO FIREWORKS\, SPARKLERS\, FIRECRACKERS\, POP ITS\, GLASS BOTTLES\, OR OUTSIDE ALCOHOL ALLOWED. THANK YOU \n\n\n\nFeatured Artist: July’s Featured artist is LaRon Emcee \n\n\n\nSee live painting with local artists throughout the event curated by ISI Group & Recycled Propaganda \n\n\n\nVisit our residency art gallery inside Art Square Suite 170 resident artists Nancy Good and Andrea Knox \n\n\n\nSpecial Note Preview Thursday July 3rd Andrea Knox Art Exhibit in the resident artist space inside Arts Square \n\n\n\nMusic: Visit local artists on the Church of Bass Stage and visit DJ Eric Roulette. All entertainment starts at 5pm featuring local talent till 11pm. \n\n\n\nSupport our key sponsors: Las Vegas Raiders\, City of Las Vegas\, Jardin\, \, Eric Roy Law Firm\, Verizon\, Don Julio\, The English Hotel\, KTNV 13 \, and Park West Gallery. \n\n\n\nWe are ecstatic to host local culture and community and always consider all proper health and safety protocols each month. \n\n\n\nParking \n\n\n\nHeaded to First Friday? Don’t waste time driving around downtown Las Vegas trying to find a spot. Take advantage of one of our offerings. \n\n\n\nPark & Ride \n\n\n\nPark at the city of Las Vegas parking garage\, 500 S. Main St.\, and take the FREE shuttle to and from First Friday. The shuttle runs from 3 p.m. to midnight. Additional parking at 902 Casino Center and 1025 South First Street\, Arts Square parking lot. Additional parking at 1000 Commerce with a short walk into the event. \n\n\n\nReservable Parking Spots \n\n\n\nWe offer parking throughout downtown that you can reserve in advance. Reserve a spot.  \n\n\n\nWherever you park\, please make sure the spot is clearly signed for public or event parking; never park anywhere that is not.
URL:https://create.vegas/event/first-friday/2027-04-02/
LOCATION:First Friday Las Vegas\, 1025 South 1st Street\, Las Vegas\, NV\, 89101\, United States
CATEGORIES:Art Events, Festivals & Expos,Community Event,Featured
ATTACH;FMTTYPE=image/jpeg:https://create.vegas/wp-content/uploads/2022/11/first-friday-banner.jpg
ORGANIZER;CN="First Friday":MAILTO:firstfridaylv@gmail.com
END:VEVENT
BEGIN:VEVENT
DTSTART;TZID=America/Los_Angeles:20270404T000000
DTEND;TZID=America/Los_Angeles:20270404T235959
DTSTAMP:20260423T142314
CREATED:20250410T014831Z
LAST-MODIFIED:20260405T024751Z
UID:10026179-1806796800-1806883199@create.vegas
SUMMARY:11AM-4PM: Surf Sunday Brunch: Live Surf/Rock Music
DESCRIPTION:Our weekly Surf Sunday Brunch\nLIVE MUSIC every Sunday 12pm-3pm\nBRUNCH SERVED 11am – 4pm
URL:https://create.vegas/event/11am-4pm-surf-sunday-brunch-live-surf-rock-music-70/
LOCATION:NV
END:VEVENT
BEGIN:VEVENT
DTSTART;TZID=America/Los_Angeles:20270405T000000
DTEND;TZID=America/Los_Angeles:20270405T235959
DTSTAMP:20260423T142314
CREATED:20250509T171921Z
LAST-MODIFIED:20250807T173415Z
UID:10028277-1806883200-1806969599@create.vegas
SUMMARY:8pm/$5 Door: Las Vegues Trio
DESCRIPTION:
URL:https://create.vegas/event/hold-las-vegs-trio-88/
LOCATION:NV
CATEGORIES:Rock & Punk
END:VEVENT
BEGIN:VEVENT
DTSTART;TZID=America/Los_Angeles:20270411T000000
DTEND;TZID=America/Los_Angeles:20270411T235959
DTSTAMP:20260423T142314
CREATED:20250510T014914Z
LAST-MODIFIED:20260405T024751Z
UID:10028402-1807401600-1807487999@create.vegas
SUMMARY:11AM-4PM: Surf Sunday Brunch: Live Surf/Rock Music
DESCRIPTION:Our weekly Surf Sunday Brunch\nLIVE MUSIC every Sunday 12pm-3pm\nBRUNCH SERVED 11am – 4pm
URL:https://create.vegas/event/11am-4pm-surf-sunday-brunch-live-surf-rock-music-71/
LOCATION:NV
END:VEVENT
BEGIN:VEVENT
DTSTART;TZID=America/Los_Angeles:20270412T000000
DTEND;TZID=America/Los_Angeles:20270412T235959
DTSTAMP:20260423T142314
CREATED:20250509T171921Z
LAST-MODIFIED:20250807T173415Z
UID:10028279-1807488000-1807574399@create.vegas
SUMMARY:8pm/$5 Door: Las Vegues Trio
DESCRIPTION:
URL:https://create.vegas/event/hold-las-vegs-trio-89/
LOCATION:NV
CATEGORIES:Rock & Punk
END:VEVENT
BEGIN:VEVENT
DTSTART;TZID=America/Los_Angeles:20270413T000000
DTEND;TZID=America/Los_Angeles:20270413T235959
DTSTAMP:20260423T142314
CREATED:20250510T014914Z
LAST-MODIFIED:20260405T024751Z
UID:10028403-1807574400-1807660799@create.vegas
SUMMARY:7PM: Drinks & Dragons
DESCRIPTION:A bi-weekly D&D one-shot with booze.Written and produced by @desertionclubExclusively at @reddwarf_lv
URL:https://create.vegas/event/7pm-drinks-dragons-dnd-night/
LOCATION:NV
END:VEVENT
BEGIN:VEVENT
DTSTART;TZID=America/Los_Angeles:20270418T000000
DTEND;TZID=America/Los_Angeles:20270418T235959
DTSTAMP:20260423T142314
CREATED:20250510T014915Z
LAST-MODIFIED:20260405T024751Z
UID:10028404-1808006400-1808092799@create.vegas
SUMMARY:11AM-4PM: Surf Sunday Brunch: Live Surf/Rock Music
DESCRIPTION:Our weekly Surf Sunday Brunch\nLIVE MUSIC every Sunday 12pm-3pm\nBRUNCH SERVED 11am – 4pm
URL:https://create.vegas/event/11am-4pm-surf-sunday-brunch-live-surf-rock-music-72/
LOCATION:NV
END:VEVENT
END:VCALENDAR