BEGIN:VCALENDAR
VERSION:2.0
PRODID:-//Create.Vegas - ECPv6.15.20//NONSGML v1.0//EN
CALSCALE:GREGORIAN
METHOD:PUBLISH
X-ORIGINAL-URL:https://create.vegas
X-WR-CALDESC:Events for Create.Vegas
REFRESH-INTERVAL;VALUE=DURATION:PT1H
X-Robots-Tag:noindex
X-PUBLISHED-TTL:PT1H
BEGIN:VTIMEZONE
TZID:America/Los_Angeles
BEGIN:DAYLIGHT
TZOFFSETFROM:-0800
TZOFFSETTO:-0700
TZNAME:PDT
DTSTART:20250309T100000
END:DAYLIGHT
BEGIN:STANDARD
TZOFFSETFROM:-0700
TZOFFSETTO:-0800
TZNAME:PST
DTSTART:20251102T090000
END:STANDARD
BEGIN:DAYLIGHT
TZOFFSETFROM:-0800
TZOFFSETTO:-0700
TZNAME:PDT
DTSTART:20260308T100000
END:DAYLIGHT
BEGIN:STANDARD
TZOFFSETFROM:-0700
TZOFFSETTO:-0800
TZNAME:PST
DTSTART:20261101T090000
END:STANDARD
BEGIN:DAYLIGHT
TZOFFSETFROM:-0800
TZOFFSETTO:-0700
TZNAME:PDT
DTSTART:20270314T100000
END:DAYLIGHT
BEGIN:STANDARD
TZOFFSETFROM:-0700
TZOFFSETTO:-0800
TZNAME:PST
DTSTART:20271107T090000
END:STANDARD
END:VTIMEZONE
BEGIN:VEVENT
DTSTART;TZID=America/Los_Angeles:20260512T000000
DTEND;TZID=America/Los_Angeles:20260512T235959
DTSTAMP:20260422T173432
CREATED:20240513T184312Z
LAST-MODIFIED:20260405T024748Z
UID:10020595-1778544000-1778630399@create.vegas
SUMMARY:7PM: Drinks & Dragons
DESCRIPTION:A bi-weekly D&D one-shot with booze.Written and produced by @desertionclubExclusively at @reddwarf_lv
URL:https://create.vegas/event/7pm-drinks-dragons-dnd-night-67/
LOCATION:NV
END:VEVENT
BEGIN:VEVENT
DTSTART;TZID=America/Los_Angeles:20260512T213000
DTEND;TZID=America/Los_Angeles:20260513T010000
DTSTAMP:20260422T173432
CREATED:20260320T055200Z
LAST-MODIFIED:20260417T065030Z
UID:10033812-1778621400-1778634000@create.vegas
SUMMARY:Las Vegas Club Crawl with Party Bus
DESCRIPTION:Party like a VIP at the best clubs in Vegas: Free entry\, and a party bus with free drinks!
URL:https://create.vegas/event/las-vegas-club-crawl-with-party-bus-405/
LOCATION:LA Epic Club Crawls\, Please check our website for starting location\, Las Vegas\, NV\, 89109\, United States
CATEGORIES:Food & Drink & Fun
ATTACH;FMTTYPE=image/jpeg:https://create.vegas/wp-content/uploads/2025/09/54339c18a39f77272fdd2fdb8168bc42.jpg
END:VEVENT
BEGIN:VEVENT
DTSTART;TZID=America/Los_Angeles:20260513T190000
DTEND;TZID=America/Los_Angeles:20260513T220000
DTSTAMP:20260422T173432
CREATED:20250609T024906Z
LAST-MODIFIED:20251007T024821Z
UID:10028717-1778698800-1778709600@create.vegas
SUMMARY:Vintage Glam _ A Nostalgic Evening
DESCRIPTION:Come join us for a night of old-school glamour\, timeless tunes\, classic cocktails\, and scrumptious bites.  2 drink minimum per person.
URL:https://create.vegas/event/vintage-glam-_-a-nostalgic-evening-20/
LOCATION:The Lexi Las Vegas\, 1501 West Sahara Avenue\, Las Vegas\, NV\, 89102\, United States
CATEGORIES:Rock & Punk
ATTACH;FMTTYPE=image/jpeg:https://create.vegas/wp-content/uploads/2025/07/6e372c260d560a8a2ef4892d05b4b684.jpg
END:VEVENT
BEGIN:VEVENT
DTSTART;TZID=America/Los_Angeles:20260513T210000
DTEND;TZID=America/Los_Angeles:20260514T010000
DTSTAMP:20260422T173432
CREATED:20260313T053720Z
LAST-MODIFIED:20260417T065106Z
UID:10033765-1778706000-1778720400@create.vegas
SUMMARY:Las Vegas Strip Club Crawl
DESCRIPTION:Free entry & VIP transportation to the best Strip Clubs in Vegas!
URL:https://create.vegas/event/las-vegas-strip-club-crawl-58/
LOCATION:Caesars Palace\, 3570 South Las Vegas Boulevard\, Paradise\, NV\, 89109\, United States
CATEGORIES:Food & Drink & Fun
ATTACH;FMTTYPE=image/jpeg:https://create.vegas/wp-content/uploads/2026/02/a6afa8ce28b26988a3427189f0ff8ae4.jpg
END:VEVENT
BEGIN:VEVENT
DTSTART;TZID=America/Los_Angeles:20260513T213000
DTEND;TZID=America/Los_Angeles:20260514T010000
DTSTAMP:20260422T173432
CREATED:20260320T055200Z
LAST-MODIFIED:20260417T065030Z
UID:10033813-1778707800-1778720400@create.vegas
SUMMARY:Las Vegas Club Crawl with Party Bus
DESCRIPTION:Party like a VIP at the best clubs in Vegas: Free entry\, and a party bus with free drinks!
URL:https://create.vegas/event/las-vegas-club-crawl-with-party-bus-406/
LOCATION:LA Epic Club Crawls\, Please check our website for starting location\, Las Vegas\, NV\, 89109\, United States
CATEGORIES:Food & Drink & Fun
ATTACH;FMTTYPE=image/jpeg:https://create.vegas/wp-content/uploads/2025/09/54339c18a39f77272fdd2fdb8168bc42.jpg
END:VEVENT
BEGIN:VEVENT
DTSTART;TZID=America/Los_Angeles:20260514T000000
DTEND;TZID=America/Los_Angeles:20260514T235959
DTSTAMP:20260422T173432
CREATED:20241011T164347Z
LAST-MODIFIED:20251121T181942Z
UID:10023677-1778716800-1778803199@create.vegas
SUMMARY:10pm/$5Door: DV8 Big Band Lead by: David Vincola
DESCRIPTION:@DV8bigbandFeaturing Las Vegas’ swingin’-est cats
URL:https://create.vegas/event/10pm-5door-dv8-big-band-lead-by-david-vincola-17/
LOCATION:NV
CATEGORIES:Rock & Punk
END:VEVENT
BEGIN:VEVENT
DTSTART;TZID=America/Los_Angeles:20260514T000000
DTEND;TZID=America/Los_Angeles:20260514T235959
DTSTAMP:20260422T173432
CREATED:20260405T024748Z
LAST-MODIFIED:20260405T024748Z
UID:10034323-1778716800-1778803199@create.vegas
SUMMARY:9pm: No Cover Burlesque
DESCRIPTION:
URL:https://create.vegas/event/9pm-no-cover-burlesque-17/
LOCATION:NV
END:VEVENT
BEGIN:VEVENT
DTSTART;TZID=America/Los_Angeles:20260514T160000
DTEND;TZID=America/Los_Angeles:20260514T200000
DTSTAMP:20260422T173432
CREATED:20260225T184823Z
LAST-MODIFIED:20260422T190302Z
UID:10033520-1778774400-1778788800@create.vegas
SUMMARY:Farmers Market at Las Vegas Civic Center
DESCRIPTION:The city of Las Vegas and the First Friday Foundation will hold a farmers market every second and fourth Thursday from 4 p.m. to 8 p.m.
URL:https://create.vegas/event/farmers-market-at-las-vegas-civic-center-6/
LOCATION:Las Vegas Civic Center Carolyn G. Goodman Plaza\, 525 S. Main St.\, Las Vegas\, NV\, 89101\, United States
ATTACH;FMTTYPE=image/jpeg:https://create.vegas/wp-content/uploads/2026/02/e41a22cba5f4cb694ddaa7986bb41bc5.jpg
END:VEVENT
BEGIN:VEVENT
DTSTART;TZID=America/Los_Angeles:20260514T190000
DTEND;TZID=America/Los_Angeles:20260514T220000
DTSTAMP:20260422T173432
CREATED:20251114T193403Z
LAST-MODIFIED:20260410T203320Z
UID:10031268-1778785200-1778796000@create.vegas
SUMMARY:Fandom KARAOKE on Thursdays!
DESCRIPTION:Get ready to belt out your favorite tunes with fellow fans at the ultimate Fandom Karaoke party! Happy Hour and pizza next door!
URL:https://create.vegas/event/fandom-karaoke-on-thursdays-28/
LOCATION:Millennium FANDOM BAR\, 900 South Las Vegas Boulevard\, #140\, Las Vegas\, NV\, 89101\, United States
CATEGORIES:Community Event
ATTACH;FMTTYPE=image/jpeg:https://create.vegas/wp-content/uploads/2026/03/308bbe04e350e0fbd30ecb8b6bdee4aa.jpg
END:VEVENT
BEGIN:VEVENT
DTSTART;TZID=America/Los_Angeles:20260514T210000
DTEND;TZID=America/Los_Angeles:20260515T010000
DTSTAMP:20260422T173432
CREATED:20260313T053720Z
LAST-MODIFIED:20260417T065107Z
UID:10033766-1778792400-1778806800@create.vegas
SUMMARY:Las Vegas Strip Club Crawl
DESCRIPTION:Free entry & VIP transportation to the best Strip Clubs in Vegas!
URL:https://create.vegas/event/las-vegas-strip-club-crawl-59/
LOCATION:Caesars Palace\, 3570 South Las Vegas Boulevard\, Paradise\, NV\, 89109\, United States
CATEGORIES:Food & Drink & Fun
ATTACH;FMTTYPE=image/jpeg:https://create.vegas/wp-content/uploads/2026/02/a6afa8ce28b26988a3427189f0ff8ae4.jpg
END:VEVENT
BEGIN:VEVENT
DTSTART;TZID=America/Los_Angeles:20260514T213000
DTEND;TZID=America/Los_Angeles:20260515T010000
DTSTAMP:20260422T173432
CREATED:20260320T055200Z
LAST-MODIFIED:20260417T065030Z
UID:10033814-1778794200-1778806800@create.vegas
SUMMARY:Las Vegas Club Crawl with Party Bus
DESCRIPTION:Party like a VIP at the best clubs in Vegas: Free entry\, and a party bus with free drinks!
URL:https://create.vegas/event/las-vegas-club-crawl-with-party-bus-407/
LOCATION:LA Epic Club Crawls\, Please check our website for starting location\, Las Vegas\, NV\, 89109\, United States
CATEGORIES:Food & Drink & Fun
ATTACH;FMTTYPE=image/jpeg:https://create.vegas/wp-content/uploads/2025/09/54339c18a39f77272fdd2fdb8168bc42.jpg
END:VEVENT
BEGIN:VEVENT
DTSTART;TZID=America/Los_Angeles:20260515T100000
DTEND;TZID=America/Los_Angeles:20260515T120000
DTSTAMP:20260422T173432
CREATED:20260417T211402Z
LAST-MODIFIED:20260419T073251Z
UID:10034421-1778839200-1778846400@create.vegas
SUMMARY:Full Scope Workshop - May
DESCRIPTION:Join us for an in-person Full Scope workshop! Attendees will witness how a temporary artwork is installed at Winchester!\n\n\nDATE: Friday\, May 15\, 2026 \nTIME: 10AM – 12PM \nVENUE: Winchester Dondero Cultural Center\, 3130 McLeod Dr.\, Las Vegas\, NV 89121 \nTOPIC: Temporary Art Installation with LeMonde Studio \n \nAttendees will witness how a temporary artwork is installed followed by a workshop from Nicolas Synnott\, COO of LeMonde Studio.
URL:https://create.vegas/event/full-scope-workshop-may/
LOCATION:Winchester Cultural Center\, McLeod Drive\, Las Vegas\, NV\, USA\, 3130 McLeod Drive\, Las Vegas\, NV\, 89121\, United States
CATEGORIES:Community Event
ATTACH;FMTTYPE=image/jpeg:https://create.vegas/wp-content/uploads/2026/04/9b9a1f13beff687be914ac9b1e6e85d7.jpg
END:VEVENT
BEGIN:VEVENT
DTSTART;TZID=America/Los_Angeles:20260515T113000
DTEND;TZID=America/Los_Angeles:20260515T170000
DTSTAMP:20260422T173432
CREATED:20251107T023312Z
LAST-MODIFIED:20260417T065053Z
UID:10031064-1778844600-1778864400@create.vegas
SUMMARY:Las Vegas Pool Crawl
DESCRIPTION:Party at the best pool parties in Las Vegas this summer!
URL:https://create.vegas/event/las-vegas-pool-crawl-207/
LOCATION:Las Vegas Strip\, TBA\, Las Vegas\, NV\, 89109\, United States
CATEGORIES:Food & Drink & Fun
ATTACH;FMTTYPE=image/jpeg:https://create.vegas/wp-content/uploads/2025/09/e51a000afcf0608166fb2e5b19d6d060.jpg
END:VEVENT
BEGIN:VEVENT
DTSTART;TZID=America/Los_Angeles:20260515T183000
DTEND;TZID=America/Los_Angeles:20260515T200000
DTSTAMP:20260422T173432
CREATED:20251105T170740Z
LAST-MODIFIED:20251105T170740Z
UID:10030592-1778869800-1778875200@create.vegas
SUMMARY:Chase Brown's Vegas Country
DESCRIPTION:The Singing Cowboy performs hits from every decade to get you out on the floor.
URL:https://create.vegas/event/chase-browns-vegas-country-113/
LOCATION:450 Fremont St #380\, 450 Fremont Street\, #380\, Las Vegas\, NV\, 89101\, United States
CATEGORIES:Performing Arts
ATTACH;FMTTYPE=image/jpeg:https://create.vegas/wp-content/uploads/2025/11/122b3c5366872efce50a220027e44716.jpg
END:VEVENT
BEGIN:VEVENT
DTSTART;TZID=America/Los_Angeles:20260515T183000
DTEND;TZID=America/Los_Angeles:20260515T235900
DTSTAMP:20260422T173432
CREATED:20260421T171756Z
LAST-MODIFIED:20260421T171756Z
UID:10034430-1778869800-1778889540@create.vegas
SUMMARY:Chase Brown’s Vegas Country
DESCRIPTION:“Chase has it all. The Texas-born performer has the good looks\, the tremendous talent\,the awesome voice\, the entertaining moves\, and that indefinable something that ties it all together. No orchestra\, no keyboard – just one hot sexy talented man showing what he’s got. There is nothing like a Chase Brown show!” – Dianne Davis\, Splash Magazines \n“Chase down Chase Brown! The biggest and best little country music show in Vegas.” – Carson Kressley \n“Serving top notch country entertainment\, Chase Brown is Las Vegas at its Best.” – Shangela\, HBO’s “We’re Here” and “Ru Paul’s Drag Race” \n“The Chase is ON!!!”- Andy Cohen\, Bravo \nBuy Tickets \nAges 18+ \nDoors at 6:00 pm.\nShow time at 6:30 pm. \nPARKING INFO: Parking is available underneath Neonopolis from 4th street\, the ramp is on the right side of the street just past Denny’s. Park on level P2. Once parked\, take the parking elevator from the parking garage up to the 3rd floor. Notoriety’s doors are straight ahead once you come off of the elevator.
URL:https://create.vegas/event/chase-browns-vegas-country-156/
LOCATION:NV
CATEGORIES:Chase Brown's Vegas Country,Performing Arts
ATTACH;FMTTYPE=image/png:https://create.vegas/wp-content/uploads/2023/07/3-2-ISoI8a.tmp_.png
END:VEVENT
BEGIN:VEVENT
DTSTART;TZID=America/Los_Angeles:20260515T190000
DTEND;TZID=America/Los_Angeles:20260515T210000
DTSTAMP:20260422T173432
CREATED:20260421T190301Z
LAST-MODIFIED:20260421T190301Z
UID:10034436-1778871600-1778878800@create.vegas
SUMMARY:Dee Eff – Friday\, May 15th
DESCRIPTION:With over 25 years of experience on stage\, Dee Fong is a seasoned solo performer known for transforming familiar favorites into something entirely his own. A master of live looping\, Dee builds rich\, layered soundscapes in real-time—combining rhythm\, melody\, and vocals with just a guitar\, a mic\, and his signature style. \nCutting his teeth in the heart of the Hollywood music scene for 15 years and now a staple in Las Vegas for over a decade\, Dee’s influences run deep. From the grit of ‘60s and ‘70s classic rock to the angst of ‘90s alternative\, and from soulful R&B to feel-good pop and twangy country—he blends genres effortlessly\, keeping crowds engaged and on their toes. \nKnown for his gravelly vocals\, inventive arrangements\, and an easy command of the stage\, Dee brings authenticity and fun to every performance. Whether playing a stripped-down ballad or a crowd-pleasing anthem\, each song gets a fresh spin—making every set one-of-a-kind. \nPerfect for intimate venues\, private events\, or high-energy crowds\, Dee Fong delivers a musical experience that’s as diverse and dynamic as his influences.
URL:https://create.vegas/event/dee-eff-friday-may-15th/
LOCATION:Vegas Valley Winery\, 7360 Eastgate Rd Ste 123\, Henderson\, NV\, 89011\, United States
CATEGORIES:Live Music
ATTACH;FMTTYPE=image/png:https://create.vegas/wp-content/uploads/2026/02/original-7AD41210-FE2A-4ED1-A7A1-FC5902A3E4B1-HvXBqt.png
END:VEVENT
BEGIN:VEVENT
DTSTART;TZID=America/Los_Angeles:20260515T203000
DTEND;TZID=America/Los_Angeles:20260516T003000
DTSTAMP:20260422T173432
CREATED:20260109T033649Z
LAST-MODIFIED:20260417T065036Z
UID:10032543-1778877000-1778891400@create.vegas
SUMMARY:Fremont Street Bar Crawl
DESCRIPTION:Fremont Street Bar Crawl gets you exclusive perks at the best bars in Old Vegas.
URL:https://create.vegas/event/fremont-street-bar-crawl-356/
LOCATION:Meeting Venue TBA – Check website for details\, Fremont St\, Las Vegas\, NV\, 89101\, United States
CATEGORIES:Food & Drink & Fun
ATTACH;FMTTYPE=image/jpeg:https://create.vegas/wp-content/uploads/2025/12/6209811cb488331552d7bc6caf142c54.jpg
END:VEVENT
BEGIN:VEVENT
DTSTART;TZID=America/Los_Angeles:20260515T210000
DTEND;TZID=America/Los_Angeles:20260515T235900
DTSTAMP:20260422T173432
CREATED:20260421T171757Z
LAST-MODIFIED:20260421T171757Z
UID:10034431-1778878800-1778889540@create.vegas
SUMMARY:Downtown Comedy Lounge-No Filter Fun
DESCRIPTION:EVERY FRIDAY\, AND SATURDAY \nIn following with the Notoriety Live brand\, comes the most talented\, edgy\, intelligent and hilarious comedians on the international comedy circuit. The Downtown Comedy Lounge showcases the funniest comedians from America’s Got Talent\, Last Comic Standing\, Comedy Central\, and Netflix! Get ready for an outrageous night of laughter and cocktails in the most amazing comedy lounge in Vegas! \nFor weekly comedians please see our instagram.  \nBuy Tickets \nAges 18+ \nDoors at 8:30 pm \nVegas’ most raw and unfiltered open mic \nPARKING INFO: Parking is available underneath Neonopolis from 4th street and Fremont\, the ramp is on the right side of the street just past Denny’s. Park on level P2. Once parked\, take the parking elevator from the parking garage up to the 3rd floor. Notoriety’s doors are straight ahead once you come off of the elevator.
URL:https://create.vegas/event/downtown-comedy-lounge-no-filter-fun-272/
LOCATION:Notoriety\, 450 Fremont Street\, Suite 380\, Las Vegas\, NV\, 89101\, United States
CATEGORIES:Downtown Comedy Lounge,Performing Arts
ATTACH;FMTTYPE=image/jpeg:https://create.vegas/wp-content/uploads/2023/07/DowntownComedyLounge-thum-01-Ew8blQ.tmp_.jpg
END:VEVENT
BEGIN:VEVENT
DTSTART;TZID=America/Los_Angeles:20260515T210000
DTEND;TZID=America/Los_Angeles:20260516T010000
DTSTAMP:20260422T173432
CREATED:20260313T053722Z
LAST-MODIFIED:20260417T065108Z
UID:10033767-1778878800-1778893200@create.vegas
SUMMARY:Las Vegas Strip Club Crawl
DESCRIPTION:Free entry & VIP transportation to the best Strip Clubs in Vegas!
URL:https://create.vegas/event/las-vegas-strip-club-crawl-60/
LOCATION:Caesars Palace\, 3570 South Las Vegas Boulevard\, Paradise\, NV\, 89109\, United States
CATEGORIES:Food & Drink & Fun
ATTACH;FMTTYPE=image/jpeg:https://create.vegas/wp-content/uploads/2026/02/a6afa8ce28b26988a3427189f0ff8ae4.jpg
END:VEVENT
BEGIN:VEVENT
DTSTART;TZID=America/Los_Angeles:20260515T213000
DTEND;TZID=America/Los_Angeles:20260516T010000
DTSTAMP:20260422T173432
CREATED:20260320T055201Z
LAST-MODIFIED:20260417T065030Z
UID:10033815-1778880600-1778893200@create.vegas
SUMMARY:Las Vegas Club Crawl with Party Bus
DESCRIPTION:Party like a VIP at the best clubs in Vegas: Free entry\, and a party bus with free drinks!
URL:https://create.vegas/event/las-vegas-club-crawl-with-party-bus-408/
LOCATION:LA Epic Club Crawls\, Please check our website for starting location\, Las Vegas\, NV\, 89109\, United States
CATEGORIES:Food & Drink & Fun
ATTACH;FMTTYPE=image/jpeg:https://create.vegas/wp-content/uploads/2025/09/54339c18a39f77272fdd2fdb8168bc42.jpg
END:VEVENT
BEGIN:VEVENT
DTSTART;TZID=America/Los_Angeles:20260516T083000
DTEND;TZID=America/Los_Angeles:20260516T113000
DTSTAMP:20260422T173432
CREATED:20260422T230256Z
LAST-MODIFIED:20260422T230256Z
UID:10034439-1778920200-1778931000@create.vegas
SUMMARY:Acrylic Art Class with Judi Moreo
DESCRIPTION: Acrylic Art Class with Judi Moreo \nJoin us at City Lights Art Gallery for a fun and inspiring acrylic painting class led by award-winning artist and gallery member Judi Moreo! \n Dates:  Saturdays\, May 16 – June 13\nTime:  8:30 AM – 11:30 AM\nLocation: City Lights Art Gallery\nTuition: $168 \nAre you ready to unlock your creativity\, have fun\, and bring vibrant colors to life on canvas? Whether you’re a complete beginner or looking to refresh your skills\, this class is the perfect place to start. \nJudi will guide you through techniques and tips to help you build confidence and enjoy the painting process in a welcoming environment. \n Contact Judi directly to register and receive the supply list.\nSee flyer for additional details. \n 
URL:https://create.vegas/event/acrylic-art-class-with-judi-moreo/
LOCATION:City Lights Art Gallery\, 3 East Army Street\, Henderson\, NV\, 89015\, United States
CATEGORIES:Class,Event,Featured Artist,Fun,Gallery,Newsletter,Website Update
ATTACH;FMTTYPE=image/png:https://create.vegas/wp-content/uploads/2026/04/Judi-Moreo-Acrylic-Class-May-2026-4TK27i.png
ORGANIZER;CN="City Lights Art Gallery":MAILTO:CLAG.Gallery@gmail.com
END:VEVENT
BEGIN:VEVENT
DTSTART;TZID=America/Los_Angeles:20260516T113000
DTEND;TZID=America/Los_Angeles:20260516T170000
DTSTAMP:20260422T173432
CREATED:20251107T024745Z
LAST-MODIFIED:20260417T065053Z
UID:10031065-1778931000-1778950800@create.vegas
SUMMARY:Las Vegas Pool Crawl
DESCRIPTION:Party at the best pool parties in Las Vegas this summer!
URL:https://create.vegas/event/las-vegas-pool-crawl-208/
LOCATION:Las Vegas Strip\, TBA\, Las Vegas\, NV\, 89109\, United States
CATEGORIES:Food & Drink & Fun
ATTACH;FMTTYPE=image/jpeg:https://create.vegas/wp-content/uploads/2025/09/e51a000afcf0608166fb2e5b19d6d060.jpg
END:VEVENT
BEGIN:VEVENT
DTSTART;TZID=America/Los_Angeles:20260516T140000
DTEND;TZID=America/Los_Angeles:20260516T190000
DTSTAMP:20260422T173432
CREATED:20260102T032216Z
LAST-MODIFIED:20260417T065041Z
UID:10032486-1778940000-1778958000@create.vegas
SUMMARY:Las Vegas Dispensary Tour
DESCRIPTION:Learning about the thriving green industry in Las Vegas\, when we take you to some of the best dispensaries in Vegas!
URL:https://create.vegas/event/las-vegas-dispensary-tour-the-1-green-tour-150/
LOCATION:Las Vegas Strip – Check website for check-in location\, Las Vegas Strip\, Las Vegas\, NV\, 89109\, United States
CATEGORIES:Food & Drink & Fun
ATTACH;FMTTYPE=image/jpeg:https://create.vegas/wp-content/uploads/2023/09/51e0ee772a209d886bb616508a11de8e.jpg
END:VEVENT
BEGIN:VEVENT
DTSTART;TZID=America/Los_Angeles:20260516T183000
DTEND;TZID=America/Los_Angeles:20260516T213000
DTSTAMP:20260422T173432
CREATED:20260304T184801Z
LAST-MODIFIED:20260403T191800Z
UID:10033615-1778956200-1778967000@create.vegas
SUMMARY:Movies on The Green: The Wizard of Oz
DESCRIPTION:Movies on The Green returns!\n\n\nJoin us for a festive evening under the stars as we screen “The Wizard of Oz”\, a landmark musical fantasy film where Kansas farm girl Dorothy Gale\, transported by a tornado to the vibrant Land of Oz\, journeys to the Emerald City to ask a reputedly powerful wizard for helping return home. \n \nThe movie will begin playing at sunset. \n \nENTERTAINMENT \nEnjoy Live Music starting at 6:30 PM. \n \nLOCATION \nThe Green is located adjacent to Whole Foods. \n \nPARKING \nGuests may park in a variety of areas such as near Whole Foods\, Urth Caffé\, Cantina Tequila\, Sola Salons and The Cheesecake Factory. \n \nSEATING \nSeating begins at 6:30 PM and is first come\, first serve. Arrive early to secure your spot. Bring your own seating such as blankets\, towels and camping chairs and set up! All elevated seating mut be placed at the back of The Green.
URL:https://create.vegas/event/movies-on-the-green-the-wizard-of-oz/
LOCATION:The District at Green Valley Ranch\, 2240 Village Walk Drive\, Henderson\, NV\, 89052\, United States
CATEGORIES:Community Event
ATTACH;FMTTYPE=image/jpeg:https://create.vegas/wp-content/uploads/2026/03/4742a2e18016ee0b4d387123f073c240.jpg
END:VEVENT
BEGIN:VEVENT
DTSTART;TZID=America/Los_Angeles:20260516T190000
DTEND;TZID=America/Los_Angeles:20260516T210000
DTSTAMP:20260422T173432
CREATED:20260421T190302Z
LAST-MODIFIED:20260421T190302Z
UID:10034437-1778958000-1778965200@create.vegas
SUMMARY:Casey Stickley – Saturday\, May 16th
DESCRIPTION:Casey Stickley’s music\, primarily with his band Second Echo\, is guitar-driven rock\, blending classic and modern rock influences like Pearl Jam\, Soundgarden\, and Alice in Chains\, often described as having elements of post-hardcore\, melodic hardcore\, emo\, and shoegazing\, incorporating post-rock and indie rock. 
URL:https://create.vegas/event/casey-stickley-saturday-may-16th/
LOCATION:Vegas Valley Winery\, 7360 Eastgate Rd Ste 123\, Henderson\, NV\, 89011\, United States
CATEGORIES:Live Music
ATTACH;FMTTYPE=image/png:https://create.vegas/wp-content/uploads/2026/02/Casey-Stickley-gFa9sJ.png
END:VEVENT
BEGIN:VEVENT
DTSTART;TZID=America/Los_Angeles:20260516T203000
DTEND;TZID=America/Los_Angeles:20260517T003000
DTSTAMP:20260422T173432
CREATED:20260116T033604Z
LAST-MODIFIED:20260417T065036Z
UID:10032587-1778963400-1778977800@create.vegas
SUMMARY:Fremont Street Bar Crawl
DESCRIPTION:Fremont Street Bar Crawl gets you exclusive perks at the best bars in Old Vegas.
URL:https://create.vegas/event/fremont-street-bar-crawl-357/
LOCATION:Meeting Venue TBA – Check website for details\, Fremont St\, Las Vegas\, NV\, 89101\, United States
CATEGORIES:Food & Drink & Fun
ATTACH;FMTTYPE=image/jpeg:https://create.vegas/wp-content/uploads/2025/12/6209811cb488331552d7bc6caf142c54.jpg
END:VEVENT
BEGIN:VEVENT
DTSTART;TZID=America/Los_Angeles:20260516T210000
DTEND;TZID=America/Los_Angeles:20260516T235900
DTSTAMP:20260422T173432
CREATED:20260421T171757Z
LAST-MODIFIED:20260421T171757Z
UID:10034432-1778965200-1778975940@create.vegas
SUMMARY:Downtown Comedy Lounge-No Filter Fun
DESCRIPTION:EVERY FRIDAY\, AND SATURDAY \nIn following with the Notoriety Live brand\, comes the most talented\, edgy\, intelligent and hilarious comedians on the international comedy circuit. The Downtown Comedy Lounge showcases the funniest comedians from America’s Got Talent\, Last Comic Standing\, Comedy Central\, and Netflix! Get ready for an outrageous night of laughter and cocktails in the most amazing comedy lounge in Vegas! \nFor weekly comedians please see our instagram.  \nBuy Tickets \nAges 18+ \nDoors at 8:30 pm \nVegas’ most raw and unfiltered open mic \nPARKING INFO: Parking is available underneath Neonopolis from 4th street and Fremont\, the ramp is on the right side of the street just past Denny’s. Park on level P2. Once parked\, take the parking elevator from the parking garage up to the 3rd floor. Notoriety’s doors are straight ahead once you come off of the elevator.
URL:https://create.vegas/event/downtown-comedy-lounge-no-filter-fun-273/
LOCATION:Notoriety\, 450 Fremont Street\, Suite 380\, Las Vegas\, NV\, 89101\, United States
CATEGORIES:Downtown Comedy Lounge,Performing Arts
ATTACH;FMTTYPE=image/jpeg:https://create.vegas/wp-content/uploads/2023/07/DowntownComedyLounge-thum-01-Ew8blQ.tmp_.jpg
END:VEVENT
BEGIN:VEVENT
DTSTART;TZID=America/Los_Angeles:20260516T210000
DTEND;TZID=America/Los_Angeles:20260517T010000
DTSTAMP:20260422T173432
CREATED:20260320T055302Z
LAST-MODIFIED:20260417T065109Z
UID:10033822-1778965200-1778979600@create.vegas
SUMMARY:Las Vegas Strip Club Crawl
DESCRIPTION:Free entry & VIP transportation to the best Strip Clubs in Vegas!
URL:https://create.vegas/event/las-vegas-strip-club-crawl-61/
LOCATION:Caesars Palace\, 3570 South Las Vegas Boulevard\, Paradise\, NV\, 89109\, United States
CATEGORIES:Food & Drink & Fun
ATTACH;FMTTYPE=image/jpeg:https://create.vegas/wp-content/uploads/2026/02/a6afa8ce28b26988a3427189f0ff8ae4.jpg
END:VEVENT
BEGIN:VEVENT
DTSTART;TZID=America/Los_Angeles:20260516T213000
DTEND;TZID=America/Los_Angeles:20260517T010000
DTSTAMP:20260422T173432
CREATED:20260327T060639Z
LAST-MODIFIED:20260417T065031Z
UID:10034202-1778967000-1778979600@create.vegas
SUMMARY:Las Vegas Club Crawl with Party Bus
DESCRIPTION:Party like a VIP at the best clubs in Vegas: Free entry\, and a party bus with free drinks!
URL:https://create.vegas/event/las-vegas-club-crawl-with-party-bus-409/
LOCATION:LA Epic Club Crawls\, Please check our website for starting location\, Las Vegas\, NV\, 89109\, United States
CATEGORIES:Food & Drink & Fun
ATTACH;FMTTYPE=image/jpeg:https://create.vegas/wp-content/uploads/2025/09/54339c18a39f77272fdd2fdb8168bc42.jpg
END:VEVENT
BEGIN:VEVENT
DTSTART;TZID=America/Los_Angeles:20260516T220000
DTEND;TZID=America/Los_Angeles:20260516T233000
DTSTAMP:20260422T173432
CREATED:20260410T064853Z
LAST-MODIFIED:20260417T070342Z
UID:10034374-1778968800-1778974200@create.vegas
SUMMARY:FXP Featuring Franky Perez Live at Copa Room – May 16
DESCRIPTION:FXP ft. Franky Perez live May 16. Doors 9PM\, music 10PM. No cover\, Vegas rock\, drink specials\, free parking.\n\n\nDon’t miss a powerhouse night of Vegas rock as FXP featuring Franky Perez takes over Copa Room on Saturday\, May 16th. \nDoors open at 9PM with music starting at 10PM\, and there’s no cover—just an unforgettable live performance from one of Vegas’ most recognized voices. \nFronted by Franky Perez\, FXP delivers a high-energy show packed with rock favorites\, killer musicianship\, and a commanding stage presence that keeps the crowd locked in all night. \nUpgrade your night with VIP table service and experience the show in style. VIP tables include a dedicated server\, premium seating\, and every dollar you spend on the table comes right back to you as bar credit—so you’re not paying extra\, you’re just pre-loading the party. \nReserve a 2-person table for $100 and get $100 in drinks\, or a 4-person table for $200 with $200 in bar credit. It’s the ultimate way to stay comfortable and keep the drinks flowing while enjoying the show. \nCopa Room is the home of Vegas Rock\, featuring $5 Modelo along with tequila and vodka drink specials all night. Always free parking and all-ages shows\, so bring your crew and come ready for a killer Saturday night. \nNo cover\, big sound\, and a standout Vegas lineup—FXP with Franky Perez is a must-see.
URL:https://create.vegas/event/fxp-featuring-franky-perez-live-at-copa-room-may-16/
LOCATION:Copa Room\, 255 East Flamingo Road\, Las Vegas\, NV\, 89169\, United States
CATEGORIES:Jazz & Blues
ATTACH;FMTTYPE=image/jpeg:https://create.vegas/wp-content/uploads/2026/04/b4a18ff00b1d0c8cd32b743ef5ab0287.jpg
END:VEVENT
END:VCALENDAR