BEGIN:VCALENDAR
VERSION:2.0
PRODID:-//Create.Vegas - ECPv6.15.20//NONSGML v1.0//EN
CALSCALE:GREGORIAN
METHOD:PUBLISH
X-WR-CALNAME:Create.Vegas
X-ORIGINAL-URL:https://create.vegas
X-WR-CALDESC:Events for Create.Vegas
REFRESH-INTERVAL;VALUE=DURATION:PT1H
X-Robots-Tag:noindex
X-PUBLISHED-TTL:PT1H
BEGIN:VTIMEZONE
TZID:America/Los_Angeles
BEGIN:DAYLIGHT
TZOFFSETFROM:-0800
TZOFFSETTO:-0700
TZNAME:PDT
DTSTART:20250309T100000
END:DAYLIGHT
BEGIN:STANDARD
TZOFFSETFROM:-0700
TZOFFSETTO:-0800
TZNAME:PST
DTSTART:20251102T090000
END:STANDARD
BEGIN:DAYLIGHT
TZOFFSETFROM:-0800
TZOFFSETTO:-0700
TZNAME:PDT
DTSTART:20260308T100000
END:DAYLIGHT
BEGIN:STANDARD
TZOFFSETFROM:-0700
TZOFFSETTO:-0800
TZNAME:PST
DTSTART:20261101T090000
END:STANDARD
BEGIN:DAYLIGHT
TZOFFSETFROM:-0800
TZOFFSETTO:-0700
TZNAME:PDT
DTSTART:20270314T100000
END:DAYLIGHT
BEGIN:STANDARD
TZOFFSETFROM:-0700
TZOFFSETTO:-0800
TZNAME:PST
DTSTART:20271107T090000
END:STANDARD
END:VTIMEZONE
BEGIN:VEVENT
DTSTART;TZID=America/Los_Angeles:20260213T234500
DTEND;TZID=America/Los_Angeles:20260213T234500
DTSTAMP:20260425T200720
CREATED:20260210T162151Z
LAST-MODIFIED:20260210T162151Z
UID:10033040-1771026300-1771026300@create.vegas
SUMMARY:The Rocky Romance Horror Show: A Salacious Friday the 13th Revue
DESCRIPTION:The Obsession of Las Vegas presents a tantalizing Friday the 13th variety show tribute to the horror genre. In this exclusive event you’ll see all the ways love goes wrong and horror gets it right. Thirteen delectable acts featuring tempting local talents\, and picturesque traveling performers\, The Obsession provides a captivating experience sure to make you wish for more! \nFollow us on social media for a sneak peek into our line up. \nComplete the Double Feature Experience and see “The Rocky Horror Picture Show” to warm up for this steamy presentation. Show your Tickets to both events at The Obsession’s Merch Booth to claim your complimentary Survival Edition Prop Kit (a $5 value). \nWant an up close view of the action? Purchase a VIP Upgrade at the OLV Merch Booth. LIMITED SPACE Friday the 13th FLASH TATTOOS for $69! For more information\, check out https://linktr.ee/rhps_vegas \nBuy Tickets \nAges: 18+ \nGeneral Admission at 11:30 pm\nShow Time at 11:45 pm(Midnight) \nPARKING INFO: Parking is available underneath Neonopolis from 4th street and Fremont\, the ramp is on the right side of the street just past Denny’s. Park on level P2. Once parked\, take the parking elevator from the parking garage up to the 3rd floor. Notoriety’s doors are straight ahead once you come off of the elevator.
URL:https://create.vegas/event/the-rocky-romance-horror-show-a-salacious-friday-the-13th-revue/
LOCATION:Notoriety\, 450 Fremont Street\, Suite 380\, Las Vegas\, NV\, 89101\, United States
CATEGORIES:Performing Arts,The Rocky Romance Horror Show
ATTACH;FMTTYPE=image/jpeg:https://create.vegas/wp-content/uploads/2026/02/romance-horror-website-3-pGUiyZ.jpg
END:VEVENT
END:VCALENDAR